{"text_format":"1","workbook":"xlsx","n_sheets":1,"sheets":["ZADANIOWY"],"not_rendered":{"charts":0,"images":0,"macros":1,"external_links":1,"defined_names":27,"comments":0,"pivot_tables":0},"unopened":[],"bounds":{"document_bytes":16777216,"sheet_cells":100000,"rows_first":2000,"rows_last":500,"rows_between":2000,"halvings":0,"cell_chars":16384,"cell_head_chars":4096},"cells_cut":0,"cells_raw":0,"read":"whole","date_system":"1900"}

{"sheet":"ZADANIOWY","index":0,"n_rows":1758,"n_cols":15,"rows_kept":1758,"cut":false,"hidden":false,"merged":[[5,2,5,4],[0,0,0,5]]}
["PLAN DOCHODÓW REALIZOWANYCH - wg ŹRÓDEŁ",null,null,null,null,null,null,null,null,"Załącznik Nr 1"]
[null,null,null,null,null,null,null,null,null,"do uchwały Nr XII/91/2025"]
[null,null,null,null,null,null,null,null,null,"Rady Dzielnicy Białołęka m.st. Warszawy"]
[null,null,null,null,null,null,null,null,null,"z dnia 12 marca 2025 r."]
[]
["D.02.000","wykonanie na 31.12.2024r.",null,null,null,null,{"$f":"G1758","v":61693272},48700564.07,{"$f":"H6/G6","v":0.78939830051484383},41356559,{"$f":"K1758","v":27719579.619999997},{"$f":"K6/J6","v":0.67025836506368908}]
["PROGRAM","OPIS","DZIAŁ","ROZDZIAŁ","§","OBSZAR FUNKCJONALNY","PLAN","wykonanie","%","w tym Urząd\nplan","wykonanie","%","WYPEŁNIONE POZYCJE","WYPEŁNIONE ZMIANY",{"$f":"IF(COUNTIF(O8:O1758,\"ujemny plan\")<>0,\"ŹLE\",\"\")","v":""}]
["DB","DOCHODY BIEŻĄCE",null,null,null,null,{"$f":"SUM(G9,G994)","v":46333506},{"$f":"SUM(H9,H994)","v":47700369.789999999},{"$f":"H8/G8","v":1.0295005474008376},{"$f":"SUM(J9,J994)","v":25996793},{"$f":"SUM(K9,K994)","v":26719385.339999996},{"$f":"K8/J8","v":1.0277954415377311},{"$f":"IF(SUM(G8:L8)>0,\"Tak\",\"\")","v":"Tak"},{"$f":"IF(SUM(#REF!)>0,\"Tak\",\"\")","v":{"$error":"#REF!"}},{"$f":"IF(OR(G8<0,J8<0,#REF!<0,#REF!<0),\"ujemny plan\",\"\")","v":{"$error":"#REF!"}}]
["DWB","DOCHODY WŁASNE",null,null,null,null,{"$f":"SUM(G10,G24,G30,G36,G53,G278,G973,G980)","v":46333506},{"$f":"SUM(H10,H24,H30,H36,H53,H278,H973,H980)","v":47700369.789999999},{"$f":"H9/G9","v":1.0295005474008376},{"$f":"SUM(J10,J24,J30,J36,J53,J278,J973,J980)","v":25996793},{"$f":"SUM(K10,K24,K30,K36,K53,K278,K973,K980)","v":26719385.339999996},{"$f":"K9/J9","v":1.0277954415377311},"Tak",{"$f":"IF(SUM(#REF!)>0,\"Tak\",\"\")","v":{"$error":"#REF!"}},{"$f":"IF(OR(G9<0,J9<0,#REF!<0,#REF!<0),\"ujemny plan\",\"\")","v":{"$error":"#REF!"}}]
["DWB/1","Podatki i opłaty lokalne ogółem",null,null,null,null,{"$f":"SUM(G11,G14,G17,G20,G23)","v":0},null,{"$error":"#DIV/0!"},0,null,{"$error":"#DIV/0!"},{"$error":"#DIV/0!"},{"$f":"IF(SUM(#REF!)>0,\"Tak\",\"\")","v":{"$error":"#REF!"}},{"$f":"IF(OR(G10<0,J10<0,#REF!<0,#REF!<0),\"ujemny plan\",\"\")","v":{"$error":"#REF!"}}]
["DWB/1/PN","Podatek od nieruchomości",null,null,"0310",null,{"$f":"SUM(G12:G13)","v":0},null,{"$error":"#DIV/0!"},0,null,{"$error":"#DIV/0!"},{"$error":"#DIV/0!"},{"$f":"IF(SUM(#REF!)>0,\"Tak\",\"\")","v":{"$error":"#REF!"}},{"$f":"IF(OR(G11<0,J11<0,#REF!<0,#REF!<0),\"ujemny plan\",\"\")","v":{"$error":"#REF!"}}]
["DWB/1/PN","Podatek od nieruchomości","756",75615,"0310","GMMW",null,null,{"$error":"#DIV/0!"},null,null,{"$error":"#DIV/0!"},{"$error":"#DIV/0!"},{"$f":"IF(SUM(#REF!)>0,\"Tak\",\"\")","v":{"$error":"#REF!"}},{"$f":"IF(OR(G12<0,J12<0,#REF!<0,#REF!<0),\"ujemny plan\",\"\")","v":{"$error":"#REF!"}}]
["DWB/1/PN","Podatek od nieruchomości","756",75616,"0310","GMMW",null,null,{"$error":"#DIV/0!"},null,null,{"$error":"#DIV/0!"},{"$error":"#DIV/0!"},{"$f":"IF(SUM(#REF!)>0,\"Tak\",\"\")","v":{"$error":"#REF!"}},{"$f":"IF(OR(G13<0,J13<0,#REF!<0,#REF!<0),\"ujemny plan\",\"\")","v":{"$error":"#REF!"}}]
["DWB/1/PR","Podatek rolny",null,null,"0320",null,{"$f":"SUM(G15:G16)","v":0},null,{"$error":"#DIV/0!"},0,null,{"$error":"#DIV/0!"},{"$error":"#DIV/0!"},{"$f":"IF(SUM(#REF!)>0,\"Tak\",\"\")","v":{"$error":"#REF!"}},{"$f":"IF(OR(G14<0,J14<0,#REF!<0,#REF!<0),\"ujemny plan\",\"\")","v":{"$error":"#REF!"}}]
["DWB/1/PR","Podatek rolny",756,75615,"0320","GMMW",null,null,{"$error":"#DIV/0!"},null,null,{"$error":"#DIV/0!"},{"$error":"#DIV/0!"},{"$f":"IF(SUM(#REF!)>0,\"Tak\",\"\")","v":{"$error":"#REF!"}},{"$f":"IF(OR(G15<0,J15<0,#REF!<0,#REF!<0),\"ujemny plan\",\"\")","v":{"$error":"#REF!"}}]
["DWB/1/PR","Podatek rolny",756,75616,"0320","GMMW",null,null,{"$error":"#DIV/0!"},null,null,{"$error":"#DIV/0!"},{"$error":"#DIV/0!"},{"$f":"IF(SUM(#REF!)>0,\"Tak\",\"\")","v":{"$error":"#REF!"}},{"$f":"IF(OR(G16<0,J16<0,#REF!<0,#REF!<0),\"ujemny plan\",\"\")","v":{"$error":"#REF!"}}]
["DWB/1/PL","Podatek leśny",null,null,"0330",null,{"$f":"SUM(G18:G19)","v":0},null,{"$error":"#DIV/0!"},0,null,{"$error":"#DIV/0!"},{"$error":"#DIV/0!"},{"$f":"IF(SUM(#REF!)>0,\"Tak\",\"\")","v":{"$error":"#REF!"}},{"$f":"IF(OR(G17<0,J17<0,#REF!<0,#REF!<0),\"ujemny plan\",\"\")","v":{"$error":"#REF!"}}]
["DWB/1/PL","Podatek leśny",756,75615,"0330","GMMW",null,null,{"$error":"#DIV/0!"},null,null,{"$error":"#DIV/0!"},{"$error":"#DIV/0!"},{"$f":"IF(SUM(#REF!)>0,\"Tak\",\"\")","v":{"$error":"#REF!"}},{"$f":"IF(OR(G18<0,J18<0,#REF!<0,#REF!<0),\"ujemny plan\",\"\")","v":{"$error":"#REF!"}}]
["DWB/1/PL","Podatek leśny",756,75616,"0330","GMMW",null,null,{"$error":"#DIV/0!"},null,null,{"$error":"#DIV/0!"},{"$error":"#DIV/0!"},{"$f":"IF(SUM(#REF!)>0,\"Tak\",\"\")","v":{"$error":"#REF!"}},{"$f":"IF(OR(G19<0,J19<0,#REF!<0,#REF!<0),\"ujemny plan\",\"\")","v":{"$error":"#REF!"}}]
["DWB/1/ST","Podatek od środków transportowych",null,null,"0340",null,{"$f":"SUM(G21:G22)","v":0},null,{"$error":"#DIV/0!"},0,null,{"$error":"#DIV/0!"},{"$error":"#DIV/0!"},{"$f":"IF(SUM(#REF!)>0,\"Tak\",\"\")","v":{"$error":"#REF!"}},{"$f":"IF(OR(G20<0,J20<0,#REF!<0,#REF!<0),\"ujemny plan\",\"\")","v":{"$error":"#REF!"}}]
["DWB/1/ST","Podatek od środków transportowych",756,75615,"0340","GMMW",null,null,{"$error":"#DIV/0!"},null,null,{"$error":"#DIV/0!"},{"$error":"#DIV/0!"},{"$f":"IF(SUM(#REF!)>0,\"Tak\",\"\")","v":{"$error":"#REF!"}},{"$f":"IF(OR(G21<0,J21<0,#REF!<0,#REF!<0),\"ujemny plan\",\"\")","v":{"$error":"#REF!"}}]
["DWB/1/ST","Podatek od środków transportowych",756,75616,"0340","GMMW",null,null,{"$error":"#DIV/0!"},null,null,{"$error":"#DIV/0!"},{"$error":"#DIV/0!"},{"$f":"IF(SUM(#REF!)>0,\"Tak\",\"\")","v":{"$error":"#REF!"}},{"$f":"IF(OR(G22<0,J22<0,#REF!<0,#REF!<0),\"ujemny plan\",\"\")","v":{"$error":"#REF!"}}]
["DWB/1/PZ","Zaległości z podatków zniesionych",756,75616,"0560","GMMW",null,null,{"$error":"#DIV/0!"},null,null,{"$error":"#DIV/0!"},{"$error":"#DIV/0!"},{"$f":"IF(SUM(#REF!)>0,\"Tak\",\"\")","v":{"$error":"#REF!"}},{"$f":"IF(OR(G23<0,J23<0,#REF!<0,#REF!<0),\"ujemny plan\",\"\")","v":{"$error":"#REF!"}}]
["DWB/2","Podatki pobierane przez urzędy skarbowe",null,null,null,null,{"$f":"SUM(G25:G27)","v":0},null,{"$error":"#DIV/0!"},0,null,{"$error":"#DIV/0!"},{"$error":"#DIV/0!"},{"$f":"IF(SUM(#REF!)>0,\"Tak\",\"\")","v":{"$error":"#REF!"}},{"$f":"IF(OR(G24<0,J24<0,#REF!<0,#REF!<0),\"ujemny plan\",\"\")","v":{"$error":"#REF!"}}]
["DWB/2/DG","Podatek od działalności gospodarczej osób fizycznych opłacany w formie karty podatkowej",756,75601,"0350","GMMW",null,null,{"$error":"#DIV/0!"},null,null,{"$error":"#DIV/0!"},{"$error":"#DIV/0!"},{"$f":"IF(SUM(#REF!)>0,\"Tak\",\"\")","v":{"$error":"#REF!"}},{"$f":"IF(OR(G25<0,J25<0,#REF!<0,#REF!<0),\"ujemny plan\",\"\")","v":{"$error":"#REF!"}}]
["DWB/2/SD","Podatek od spadków i darowizn",756,75616,"0360","GMMW",null,null,{"$error":"#DIV/0!"},null,null,{"$error":"#DIV/0!"},{"$error":"#DIV/0!"},{"$f":"IF(SUM(#REF!)>0,\"Tak\",\"\")","v":{"$error":"#REF!"}},{"$f":"IF(OR(G26<0,J26<0,#REF!<0,#REF!<0),\"ujemny plan\",\"\")","v":{"$error":"#REF!"}}]
["DWB/2/CC","Podatek od czynności cywilnoprawnych",null,null,"0500",null,{"$f":"SUM(G28:G29)","v":0},null,{"$error":"#DIV/0!"},0,null,{"$error":"#DIV/0!"},{"$error":"#DIV/0!"},{"$f":"IF(SUM(#REF!)>0,\"Tak\",\"\")","v":{"$error":"#REF!"}},{"$f":"IF(OR(G27<0,J27<0,#REF!<0,#REF!<0),\"ujemny plan\",\"\")","v":{"$error":"#REF!"}}]
["DWB/2/CC","Podatek od czynności cywilnoprawnych",756,75615,"0500","GMMW",null,null,{"$error":"#DIV/0!"},null,null,{"$error":"#DIV/0!"},{"$error":"#DIV/0!"},{"$f":"IF(SUM(#REF!)>0,\"Tak\",\"\")","v":{"$error":"#REF!"}},{"$f":"IF(OR(G28<0,J28<0,#REF!<0,#REF!<0),\"ujemny plan\",\"\")","v":{"$error":"#REF!"}}]
["DWB/2/CC","Podatek od czynności cywilnoprawnych",756,75616,"0500","GMMW",null,null,{"$error":"#DIV/0!"},null,null,{"$error":"#DIV/0!"},{"$error":"#DIV/0!"},{"$f":"IF(SUM(#REF!)>0,\"Tak\",\"\")","v":{"$error":"#REF!"}},{"$f":"IF(OR(G29<0,J29<0,#REF!<0,#REF!<0),\"ujemny plan\",\"\")","v":{"$error":"#REF!"}}]
["DWB/3","Wpływy z opłat",null,null,null,null,{"$f":"SUM(G31:G33)","v":0},null,{"$error":"#DIV/0!"},0,null,{"$error":"#DIV/0!"},{"$error":"#DIV/0!"},{"$f":"IF(SUM(#REF!)>0,\"Tak\",\"\")","v":{"$error":"#REF!"}},{"$f":"IF(OR(G30<0,J30<0,#REF!<0,#REF!<0),\"ujemny plan\",\"\")","v":{"$error":"#REF!"}}]
["DWB/3/OS","Opłata skarbowa",756,75618,"0410","GMMW",null,null,{"$error":"#DIV/0!"},null,null,{"$error":"#DIV/0!"},{"$error":"#DIV/0!"},{"$f":"IF(SUM(#REF!)>0,\"Tak\",\"\")","v":{"$error":"#REF!"}},{"$f":"IF(OR(G31<0,J31<0,#REF!<0,#REF!<0),\"ujemny plan\",\"\")","v":{"$error":"#REF!"}}]
["DWB/3/KO","Opłata komunikacyjna",756,75618,"0420","PWMW",null,null,{"$error":"#DIV/0!"},null,null,{"$error":"#DIV/0!"},{"$error":"#DIV/0!"},{"$f":"IF(SUM(#REF!)>0,\"Tak\",\"\")","v":{"$error":"#REF!"}},{"$f":"IF(OR(G32<0,J32<0,#REF!<0,#REF!<0),\"ujemny plan\",\"\")","v":{"$error":"#REF!"}}]
["DWB/3/SA","Opłata za wydawanie zezwoleń na sprzedaż napojów alkoholowych",null,null,null,null,{"$f":"SUM(G34:G35)","v":0},null,{"$error":"#DIV/0!"},0,null,{"$error":"#DIV/0!"},{"$error":"#DIV/0!"},{"$f":"IF(SUM(#REF!)>0,\"Tak\",\"\")","v":{"$error":"#REF!"}},{"$f":"IF(OR(G33<0,J33<0,#REF!<0,#REF!<0),\"ujemny plan\",\"\")","v":{"$error":"#REF!"}}]
["DWB/3/SA","Opłata za wydawanie zezwoleń na sprzedaż napojów alkoholowych",756,75618,"0270",null,null,null,{"$error":"#DIV/0!"},null,null,{"$error":"#DIV/0!"},{"$error":"#DIV/0!"},{"$f":"IF(SUM(#REF!)>0,\"Tak\",\"\")","v":{"$error":"#REF!"}},{"$f":"IF(OR(G34<0,J34<0,#REF!<0,#REF!<0),\"ujemny plan\",\"\")","v":{"$error":"#REF!"}}]
["DWB/3/SA","Opłata za wydawanie zezwoleń na sprzedaż napojów alkoholowych",756,75616,"0480",null,null,null,{"$error":"#DIV/0!"},null,null,{"$error":"#DIV/0!"},{"$error":"#DIV/0!"},{"$f":"IF(SUM(#REF!)>0,\"Tak\",\"\")","v":{"$error":"#REF!"}},{"$f":"IF(OR(G35<0,J35<0,#REF!<0,#REF!<0),\"ujemny plan\",\"\")","v":{"$error":"#REF!"}}]
["DWB/4","Inne opłaty pobierane na podstawie odrębnych ustaw",null,null,null,null,{"$f":"SUM(G37:G46,G52)","v":728500},921728.49,1.265241578586136,728500,921728.49,1.265241578586136,"Tak",{"$f":"IF(SUM(#REF!)>0,\"Tak\",\"\")","v":{"$error":"#REF!"}},{"$f":"IF(OR(G36<0,J36<0,#REF!<0,#REF!<0),\"ujemny plan\",\"\")","v":{"$error":"#REF!"}}]
["DWB/4/GO","Opłata za gospodarowanie odpadami komunalnymi","900","90002","0490","GODK",null,null,{"$error":"#DIV/0!"},null,null,{"$error":"#DIV/0!"},{"$error":"#DIV/0!"},{"$f":"IF(SUM(#REF!)>0,\"Tak\",\"\")","v":{"$error":"#REF!"}},{"$f":"IF(OR(G37<0,J37<0,#REF!<0,#REF!<0),\"ujemny plan\",\"\")","v":{"$error":"#REF!"}}]
["DWB/4/OA","Opłaty adiacenckie",756,75618,"0490","GMMW",715500,905728.49,1.2658679105520614,715500,905728.49,1.2658679105520614,"Tak",{"$f":"IF(SUM(#REF!)>0,\"Tak\",\"\")","v":{"$error":"#REF!"}},{"$f":"IF(OR(G38<0,J38<0,#REF!<0,#REF!<0),\"ujemny plan\",\"\")","v":{"$error":"#REF!"}}]
["DWB/4/RP","Renta planistyczna",756,75618,"0490","GMMW",13000,16000,1.2307692307692308,13000,16000,1.2307692307692308,"Tak",{"$f":"IF(SUM(#REF!)>0,\"Tak\",\"\")","v":{"$error":"#REF!"}},{"$f":"IF(OR(G39<0,J39<0,#REF!<0,#REF!<0),\"ujemny plan\",\"\")","v":{"$error":"#REF!"}}]
["DWB/4/PD","Opłaty za zajęcie pasa drogowego",756,75618,"0490","GMMW",0,null,{"$error":"#DIV/0!"},0,null,{"$error":"#DIV/0!"},{"$error":"#DIV/0!"},{"$f":"IF(SUM(#REF!)>0,\"Tak\",\"\")","v":{"$error":"#REF!"}},{"$f":"IF(OR(G40<0,J40<0,#REF!<0,#REF!<0),\"ujemny plan\",\"\")","v":{"$error":"#REF!"}}]
["DWB/4/PJ","Opłaty za wydanie prawa jazdy","756","75618","0650","PWMW",null,null,{"$error":"#DIV/0!"},null,null,{"$error":"#DIV/0!"},{"$error":"#DIV/0!"},{"$f":"IF(SUM(#REF!)>0,\"Tak\",\"\")","v":{"$error":"#REF!"}},{"$f":"IF(OR(G41<0,J41<0,#REF!<0,#REF!<0),\"ujemny plan\",\"\")","v":{"$error":"#REF!"}}]
["DWB/4/PL","Opłaty za pozostałe licencje ",756,75618,"0590","PWMW",null,null,{"$error":"#DIV/0!"},null,null,{"$error":"#DIV/0!"},{"$error":"#DIV/0!"},{"$f":"IF(SUM(#REF!)>0,\"Tak\",\"\")","v":{"$error":"#REF!"}},{"$f":"IF(OR(G42<0,J42<0,#REF!<0,#REF!<0),\"ujemny plan\",\"\")","v":{"$error":"#REF!"}}]
["DWB/4/LP","Opłaty za licencje przewozowe",756,75618,"0590","GMMW",null,null,{"$error":"#DIV/0!"},null,null,{"$error":"#DIV/0!"},{"$error":"#DIV/0!"},{"$f":"IF(SUM(#REF!)>0,\"Tak\",\"\")","v":{"$error":"#REF!"}},{"$f":"IF(OR(G43<0,J43<0,#REF!<0,#REF!<0),\"ujemny plan\",\"\")","v":{"$error":"#REF!"}}]
["DWB/4/LP","Opłaty za licencje przewozowe",756,75618,"0590","PWMW",null,null,{"$error":"#DIV/0!"},null,null,{"$error":"#DIV/0!"},{"$error":"#DIV/0!"},{"$f":"IF(SUM(#REF!)>0,\"Tak\",\"\")","v":{"$error":"#REF!"}},{"$f":"IF(OR(G44<0,J44<0,#REF!<0,#REF!<0),\"ujemny plan\",\"\")","v":{"$error":"#REF!"}}]
["DWB/4/OE","Opłata eksploatacyjna",756,75618,"0460",null,null,null,{"$error":"#DIV/0!"},null,null,{"$error":"#DIV/0!"},{"$error":"#DIV/0!"},{"$f":"IF(SUM(#REF!)>0,\"Tak\",\"\")","v":{"$error":"#REF!"}},{"$f":"IF(OR(G45<0,J45<0,#REF!<0,#REF!<0),\"ujemny plan\",\"\")","v":{"$error":"#REF!"}}]
["DWB/4/OP","Opłata prolongacyjna",null,null,null,null,{"$f":"SUM(G47:G51)","v":0},null,{"$error":"#DIV/0!"},0,null,{"$error":"#DIV/0!"},{"$error":"#DIV/0!"},{"$f":"IF(SUM(#REF!)>0,\"Tak\",\"\")","v":{"$error":"#REF!"}},{"$f":"IF(OR(G46<0,J46<0,#REF!<0,#REF!<0),\"ujemny plan\",\"\")","v":{"$error":"#REF!"}}]
["DWB/4/OP","Opłata prolongacyjna","600","60095","0880",null,null,null,{"$error":"#DIV/0!"},null,null,{"$error":"#DIV/0!"},{"$error":"#DIV/0!"},{"$f":"IF(SUM(#REF!)>0,\"Tak\",\"\")","v":{"$error":"#REF!"}},{"$f":"IF(OR(G47<0,J47<0,#REF!<0,#REF!<0),\"ujemny plan\",\"\")","v":{"$error":"#REF!"}}]
["DWB/4/OP","Opłata prolongacyjna","756","75615","0880",null,null,null,{"$error":"#DIV/0!"},null,null,{"$error":"#DIV/0!"},{"$error":"#DIV/0!"},{"$f":"IF(SUM(#REF!)>0,\"Tak\",\"\")","v":{"$error":"#REF!"}},{"$f":"IF(OR(G48<0,J48<0,#REF!<0,#REF!<0),\"ujemny plan\",\"\")","v":{"$error":"#REF!"}}]
["DWB/4/OP","Opłata prolongacyjna","756","75616","0880",null,null,null,{"$error":"#DIV/0!"},null,null,{"$error":"#DIV/0!"},{"$error":"#DIV/0!"},{"$f":"IF(SUM(#REF!)>0,\"Tak\",\"\")","v":{"$error":"#REF!"}},{"$f":"IF(OR(G49<0,J49<0,#REF!<0,#REF!<0),\"ujemny plan\",\"\")","v":{"$error":"#REF!"}}]
["DWB/4/OP","Opłata prolongacyjna","756","75618","0880",null,null,null,{"$error":"#DIV/0!"},null,null,{"$error":"#DIV/0!"},{"$error":"#DIV/0!"},{"$f":"IF(SUM(#REF!)>0,\"Tak\",\"\")","v":{"$error":"#REF!"}},{"$f":"IF(OR(G50<0,J50<0,#REF!<0,#REF!<0),\"ujemny plan\",\"\")","v":{"$error":"#REF!"}}]
["DWB/4/OP","Opłata prolongacyjna","900","90002","0880",null,null,null,{"$error":"#DIV/0!"},null,null,{"$error":"#DIV/0!"},{"$error":"#DIV/0!"},{"$f":"IF(SUM(#REF!)>0,\"Tak\",\"\")","v":{"$error":"#REF!"}},{"$f":"IF(OR(G51<0,J51<0,#REF!<0,#REF!<0),\"ujemny plan\",\"\")","v":{"$error":"#REF!"}}]
["DWB/4/OR","Opłata restrukturyzacyjna",756,"75619","0130",null,null,null,{"$error":"#DIV/0!"},null,null,{"$error":"#DIV/0!"},{"$error":"#DIV/0!"},{"$f":"IF(SUM(#REF!)>0,\"Tak\",\"\")","v":{"$error":"#REF!"}},{"$f":"IF(OR(G52<0,J52<0,#REF!<0,#REF!<0),\"ujemny plan\",\"\")","v":{"$error":"#REF!"}}]
["DWB/5","Dochody z mienia",null,null,null,null,{"$f":"SUM(G54,G58:G59,G60,G62,G276:G277)","v":32986034},{"$f":"SUM(H54,H58:H59,H60,H62,H276:H277)","v":34280712.229999997},1.0392492844092744,{"$f":"SUM(J54,J58:J59,J60,J62,J276:J277)","v":21838134},{"$f":"SUM(K54,K58:K59,K60,K62,K276:K277)","v":22486366.129999999},1.0296834944780537,"Tak",{"$f":"IF(SUM(#REF!)>0,\"Tak\",\"\")","v":{"$error":"#REF!"}},{"$f":"IF(OR(G53<0,J53<0,#REF!<0,#REF!<0),\"ujemny plan\",\"\")","v":{"$error":"#REF!"}}]
["DWB/5/UW","Opłaty za użytkowanie wieczyste nieruchomości",null,null,"0550",null,{"$f":"SUM(G55:G57)","v":11251443},{"$f":"SUM(H55:H57)","v":11291288.619999999},1.0035413786480543,{"$f":"SUM(J55:J57)","v":11251443},{"$f":"SUM(K55:K57)","v":11291288.619999999},1.0035413786480543,"Tak",{"$f":"IF(SUM(#REF!)>0,\"Tak\",\"\")","v":{"$error":"#REF!"}},{"$f":"IF(OR(G54<0,J54<0,#REF!<0,#REF!<0),\"ujemny plan\",\"\")","v":{"$error":"#REF!"}}]
["DWB/5/UW/PW","pierwsza opłata za oddanie w użytkowanie wieczyste",700,70005,"0550","GMMW",null,null,{"$error":"#DIV/0!"},null,null,{"$error":"#DIV/0!"},{"$error":"#DIV/0!"},{"$f":"IF(SUM(#REF!)>0,\"Tak\",\"\")","v":{"$error":"#REF!"}},{"$f":"IF(OR(G55<0,J55<0,#REF!<0,#REF!<0),\"ujemny plan\",\"\")","v":{"$error":"#REF!"}}]
["DWB/5/UW/RW","opłaty roczne za użytkowanie wieczyste",700,70005,"0550","GMMW",11251443,11291288.619999999,1.0035413786480543,11251443,11291288.619999999,1.0035413786480543,"Tak",{"$f":"IF(SUM(#REF!)>0,\"Tak\",\"\")","v":{"$error":"#REF!"}},{"$f":"IF(OR(G56<0,J56<0,#REF!<0,#REF!<0),\"ujemny plan\",\"\")","v":{"$error":"#REF!"}}]
["DWB/5/UW/PO","pozostałe opłaty za użytkowanie wieczyste",700,70005,"0550","GMMW",null,null,{"$error":"#DIV/0!"},null,null,{"$error":"#DIV/0!"},{"$error":"#DIV/0!"},{"$f":"IF(SUM(#REF!)>0,\"Tak\",\"\")","v":{"$error":"#REF!"}},{"$f":"IF(OR(G57<0,J57<0,#REF!<0,#REF!<0),\"ujemny plan\",\"\")","v":{"$error":"#REF!"}}]
["DWB/5/ZS","Opłaty za trwały zarząd, użytkowanie i służebności",700,70005,"0470","GMMW",45000,6819.14,0.15153644444444445,45000,6819.14,0.15153644444444445,"Tak",{"$f":"IF(SUM(#REF!)>0,\"Tak\",\"\")","v":{"$error":"#REF!"}},{"$f":"IF(OR(G58<0,J58<0,#REF!<0,#REF!<0),\"ujemny plan\",\"\")","v":{"$error":"#REF!"}}]
["DWB/5/KO","Wpłaty z zysku od przedsiębiorstw komunalnych",756,75605,"0730","GMMW",null,null,{"$error":"#DIV/0!"},null,null,{"$error":"#DIV/0!"},{"$error":"#DIV/0!"},{"$f":"IF(SUM(#REF!)>0,\"Tak\",\"\")","v":{"$error":"#REF!"}},{"$f":"IF(OR(G59<0,J59<0,#REF!<0,#REF!<0),\"ujemny plan\",\"\")","v":{"$error":"#REF!"}}]
["DWB/5/DZ","Dywidenda od spółek",null,null,"0740",null,{"$f":"SUM(G61:G61)","v":0},null,{"$error":"#DIV/0!"},0,null,{"$error":"#DIV/0!"},{"$error":"#DIV/0!"},{"$f":"IF(SUM(#REF!)>0,\"Tak\",\"\")","v":{"$error":"#REF!"}},{"$f":"IF(OR(G60<0,J60<0,#REF!<0,#REF!<0),\"ujemny plan\",\"\")","v":{"$error":"#REF!"}}]
["DWB/5/DZ/PO","Dywidendy",756,75624,"0740","GMMW",null,null,{"$error":"#DIV/0!"},null,null,{"$error":"#DIV/0!"},{"$error":"#DIV/0!"},{"$f":"IF(SUM(#REF!)>0,\"Tak\",\"\")","v":{"$error":"#REF!"}},{"$f":"IF(OR(G61<0,J61<0,#REF!<0,#REF!<0),\"ujemny plan\",\"\")","v":{"$error":"#REF!"}}]
["DWB/5/ND","Dochody z najmu i dzierżawy mienia",null,null,"0750",null,{"$f":"SUM(G152,G94,G183,G124,G63,G248,G92,G211,G213)","v":21689591},{"$f":"SUM(H152,H94,H183,H124,H63,H248,H92,H211,H213)","v":22982604.469999999},1.0596144699086303,{"$f":"SUM(J152,J94,J183,J124,J63,J248,J92,J211,J213)","v":10541691},{"$f":"SUM(K152,K94,K183,K124,K63,K248,K92,K211,K213)","v":11188258.369999999},1.0613343124931285,"Tak",{"$f":"IF(SUM(#REF!)>0,\"Tak\",\"\")","v":{"$error":"#REF!"}},{"$f":"IF(OR(G62<0,J62<0,#REF!<0,#REF!<0),\"ujemny plan\",\"\")","v":{"$error":"#REF!"}}]
["DWB/5/ND/DG","wpływy z dzierżawy gruntów",null,null,"0750",null,{"$f":"SUM(G64:G91)","v":14816863},{"$f":"SUM(H64:H91)","v":15582977.76},1.0517055978718302,9036863,{"$f":"SUM(K64:K91)","v":9661804.1699999999},1.0691546579825322,"Tak",{"$f":"IF(SUM(#REF!)>0,\"Tak\",\"\")","v":{"$error":"#REF!"}},{"$f":"IF(OR(G63<0,J63<0,#REF!<0,#REF!<0),\"ujemny plan\",\"\")","v":{"$error":"#REF!"}}]
["DWB/5/ND/DG","wpływy z dzierżawy gruntów",600,60004,"0750",null,null,null,{"$error":"#DIV/0!"},null,null,{"$error":"#DIV/0!"},{"$error":"#DIV/0!"},{"$f":"IF(SUM(#REF!)>0,\"Tak\",\"\")","v":{"$error":"#REF!"}},{"$f":"IF(OR(G64<0,J64<0,#REF!<0,#REF!<0),\"ujemny plan\",\"\")","v":{"$error":"#REF!"}}]
["DWB/5/ND/DG","wpływy z dzierżawy gruntów",600,60015,"0750",null,null,null,{"$error":"#DIV/0!"},null,null,{"$error":"#DIV/0!"},{"$error":"#DIV/0!"},{"$f":"IF(SUM(#REF!)>0,\"Tak\",\"\")","v":{"$error":"#REF!"}},{"$f":"IF(OR(G65<0,J65<0,#REF!<0,#REF!<0),\"ujemny plan\",\"\")","v":{"$error":"#REF!"}}]
["DWB/5/ND/DG","wpływy z dzierżawy gruntów",600,60016,"0750","GMMW",null,null,{"$error":"#DIV/0!"},null,null,{"$error":"#DIV/0!"},{"$error":"#DIV/0!"},{"$f":"IF(SUM(#REF!)>0,\"Tak\",\"\")","v":{"$error":"#REF!"}},{"$f":"IF(OR(G66<0,J66<0,#REF!<0,#REF!<0),\"ujemny plan\",\"\")","v":{"$error":"#REF!"}}]
["DWB/5/ND/DG","wpływy z dzierżawy gruntów",700,70004,"0750",null,null,null,{"$error":"#DIV/0!"},null,null,{"$error":"#DIV/0!"},{"$error":"#DIV/0!"},{"$f":"IF(SUM(#REF!)>0,\"Tak\",\"\")","v":{"$error":"#REF!"}},{"$f":"IF(OR(G67<0,J67<0,#REF!<0,#REF!<0),\"ujemny plan\",\"\")","v":{"$error":"#REF!"}}]
["DWB/5/ND/DG","wpływy z dzierżawy gruntów",700,70005,"0750","GMMW",14816863,{"$f":"5921173.59+K68","v":15582977.76},1.0517055978718302,9036863,9661804.1699999999,1.0691546579825322,"Tak",{"$f":"IF(SUM(#REF!)>0,\"Tak\",\"\")","v":{"$error":"#REF!"}},{"$f":"IF(OR(G68<0,J68<0,#REF!<0,#REF!<0),\"ujemny plan\",\"\")","v":{"$error":"#REF!"}}]
["DWB/5/ND/DG","wpływy z dzierżawy gruntów",750,75023,"0750","GMMW",null,null,{"$error":"#DIV/0!"},null,null,{"$error":"#DIV/0!"},{"$error":"#DIV/0!"},{"$f":"IF(SUM(#REF!)>0,\"Tak\",\"\")","v":{"$error":"#REF!"}},{"$f":"IF(OR(G69<0,J69<0,#REF!<0,#REF!<0),\"ujemny plan\",\"\")","v":{"$error":"#REF!"}}]
["DWB/5/ND/DG","wpływy z dzierżawy gruntów",801,80101,"0750",null,null,null,{"$error":"#DIV/0!"},null,null,{"$error":"#DIV/0!"},{"$error":"#DIV/0!"},{"$f":"IF(SUM(#REF!)>0,\"Tak\",\"\")","v":{"$error":"#REF!"}},{"$f":"IF(OR(G70<0,J70<0,#REF!<0,#REF!<0),\"ujemny plan\",\"\")","v":{"$error":"#REF!"}}]
["DWB/5/ND/DG","wpływy z dzierżawy gruntów",801,80102,"0750",null,null,null,{"$error":"#DIV/0!"},null,null,{"$error":"#DIV/0!"},{"$error":"#DIV/0!"},{"$f":"IF(SUM(#REF!)>0,\"Tak\",\"\")","v":{"$error":"#REF!"}},{"$f":"IF(OR(G71<0,J71<0,#REF!<0,#REF!<0),\"ujemny plan\",\"\")","v":{"$error":"#REF!"}}]
["DWB/5/ND/DG","wpływy z dzierżawy gruntów",801,80104,"0750",null,null,null,{"$error":"#DIV/0!"},null,null,{"$error":"#DIV/0!"},{"$f":"IF(SUM(G72:L72)>0,\"Tak\",\"\")","v":{"$error":"#DIV/0!"}},{"$f":"IF(SUM(#REF!)>0,\"Tak\",\"\")","v":{"$error":"#REF!"}},{"$f":"IF(OR(G72<0,J72<0,#REF!<0,#REF!<0),\"ujemny plan\",\"\")","v":{"$error":"#REF!"}}]
["DWB/5/ND/DG","wpływy z dzierżawy gruntów",801,80120,"0750",null,null,null,{"$f":"H73/G73","v":{"$error":"#DIV/0!"}},null,null,{"$f":"K73/J73","v":{"$error":"#DIV/0!"}},{"$error":"#DIV/0!"},{"$f":"IF(SUM(#REF!)>0,\"Tak\",\"\")","v":{"$error":"#REF!"}},{"$f":"IF(OR(G73<0,J73<0,#REF!<0,#REF!<0),\"ujemny plan\",\"\")","v":{"$error":"#REF!"}}]
["DWB/5/ND/DG","wpływy z dzierżawy gruntów",801,80134,"0750",null,null,null,{"$error":"#DIV/0!"},null,null,{"$error":"#DIV/0!"},{"$error":"#DIV/0!"},{"$f":"IF(SUM(#REF!)>0,\"Tak\",\"\")","v":{"$error":"#REF!"}},{"$f":"IF(OR(G74<0,J74<0,#REF!<0,#REF!<0),\"ujemny plan\",\"\")","v":{"$error":"#REF!"}}]
["DWB/5/ND/DG","wpływy z dzierżawy gruntów",801,80140,"0750",null,null,null,{"$error":"#DIV/0!"},null,null,{"$error":"#DIV/0!"},{"$error":"#DIV/0!"},{"$f":"IF(SUM(#REF!)>0,\"Tak\",\"\")","v":{"$error":"#REF!"}},{"$f":"IF(OR(G75<0,J75<0,#REF!<0,#REF!<0),\"ujemny plan\",\"\")","v":{"$error":"#REF!"}}]
["DWB/5/ND/DG","wpływy z dzierżawy gruntów",801,80148,"0750",null,null,null,{"$error":"#DIV/0!"},null,null,{"$error":"#DIV/0!"},{"$error":"#DIV/0!"},{"$f":"IF(SUM(#REF!)>0,\"Tak\",\"\")","v":{"$error":"#REF!"}},{"$f":"IF(OR(G76<0,J76<0,#REF!<0,#REF!<0),\"ujemny plan\",\"\")","v":{"$error":"#REF!"}}]
["DWB/5/ND/DG","wpływy z dzierżawy gruntów",851,85158,"0750",null,null,null,{"$error":"#DIV/0!"},null,null,{"$error":"#DIV/0!"},{"$error":"#DIV/0!"},{"$f":"IF(SUM(#REF!)>0,\"Tak\",\"\")","v":{"$error":"#REF!"}},{"$f":"IF(OR(G77<0,J77<0,#REF!<0,#REF!<0),\"ujemny plan\",\"\")","v":{"$error":"#REF!"}}]
["DWB/5/ND/DG","wpływy z dzierżawy gruntów",852,85202,"0750","PWMW",null,null,{"$error":"#DIV/0!"},null,null,{"$error":"#DIV/0!"},{"$error":"#DIV/0!"},{"$f":"IF(SUM(#REF!)>0,\"Tak\",\"\")","v":{"$error":"#REF!"}},{"$f":"IF(OR(G78<0,J78<0,#REF!<0,#REF!<0),\"ujemny plan\",\"\")","v":{"$error":"#REF!"}}]
["DWB/5/ND/DG","wpływy z dzierżawy gruntów",854,85403,"0750",null,null,null,{"$error":"#DIV/0!"},null,null,{"$error":"#DIV/0!"},{"$error":"#DIV/0!"},{"$f":"IF(SUM(#REF!)>0,\"Tak\",\"\")","v":{"$error":"#REF!"}},{"$f":"IF(OR(G79<0,J79<0,#REF!<0,#REF!<0),\"ujemny plan\",\"\")","v":{"$error":"#REF!"}}]
["DWB/5/ND/DG","wpływy z dzierżawy gruntów",854,85407,"0750",null,null,null,{"$error":"#DIV/0!"},null,null,{"$error":"#DIV/0!"},{"$error":"#DIV/0!"},{"$f":"IF(SUM(#REF!)>0,\"Tak\",\"\")","v":{"$error":"#REF!"}},{"$f":"IF(OR(G80<0,J80<0,#REF!<0,#REF!<0),\"ujemny plan\",\"\")","v":{"$error":"#REF!"}}]
["DWB/5/ND/DG","wpływy z dzierżawy gruntów",854,85410,"0750",null,null,null,{"$error":"#DIV/0!"},null,null,{"$error":"#DIV/0!"},{"$error":"#DIV/0!"},{"$f":"IF(SUM(#REF!)>0,\"Tak\",\"\")","v":{"$error":"#REF!"}},{"$f":"IF(OR(G81<0,J81<0,#REF!<0,#REF!<0),\"ujemny plan\",\"\")","v":{"$error":"#REF!"}}]
["DWB/5/ND/DG","wpływy z dzierżawy gruntów",854,85412,"0750",null,null,null,{"$error":"#DIV/0!"},null,null,{"$error":"#DIV/0!"},{"$error":"#DIV/0!"},{"$f":"IF(SUM(#REF!)>0,\"Tak\",\"\")","v":{"$error":"#REF!"}},{"$f":"IF(OR(G82<0,J82<0,#REF!<0,#REF!<0),\"ujemny plan\",\"\")","v":{"$error":"#REF!"}}]
["DWB/5/ND/DG","wpływy z dzierżawy gruntów",854,85420,"0750",null,null,null,{"$error":"#DIV/0!"},null,null,{"$error":"#DIV/0!"},{"$error":"#DIV/0!"},{"$f":"IF(SUM(#REF!)>0,\"Tak\",\"\")","v":{"$error":"#REF!"}},{"$f":"IF(OR(G83<0,J83<0,#REF!<0,#REF!<0),\"ujemny plan\",\"\")","v":{"$error":"#REF!"}}]
["DWB/5/ND/DG","wpływy z dzierżawy gruntów",854,85421,"0750",null,null,null,{"$error":"#DIV/0!"},null,null,{"$error":"#DIV/0!"},{"$error":"#DIV/0!"},{"$f":"IF(SUM(#REF!)>0,\"Tak\",\"\")","v":{"$error":"#REF!"}},{"$f":"IF(OR(G84<0,J84<0,#REF!<0,#REF!<0),\"ujemny plan\",\"\")","v":{"$error":"#REF!"}}]
["DWB/5/ND/DG","wpływy z dzierżawy gruntów","855","85510","0750","PWMW",null,null,{"$error":"#DIV/0!"},null,null,{"$error":"#DIV/0!"},{"$error":"#DIV/0!"},{"$f":"IF(SUM(#REF!)>0,\"Tak\",\"\")","v":{"$error":"#REF!"}},{"$f":"IF(OR(G85<0,J85<0,#REF!<0,#REF!<0),\"ujemny plan\",\"\")","v":{"$error":"#REF!"}}]
["DWB/5/ND/DG","wpływy z dzierżawy gruntów",900,90002,"0750",null,null,null,{"$error":"#DIV/0!"},null,null,{"$error":"#DIV/0!"},{"$error":"#DIV/0!"},{"$f":"IF(SUM(#REF!)>0,\"Tak\",\"\")","v":{"$error":"#REF!"}},{"$f":"IF(OR(G86<0,J86<0,#REF!<0,#REF!<0),\"ujemny plan\",\"\")","v":{"$error":"#REF!"}}]
["DWB/5/ND/DG","wpływy z dzierżawy gruntów",900,90003,"0750",null,null,null,{"$error":"#DIV/0!"},null,null,{"$error":"#DIV/0!"},{"$error":"#DIV/0!"},{"$f":"IF(SUM(#REF!)>0,\"Tak\",\"\")","v":{"$error":"#REF!"}},{"$f":"IF(OR(G87<0,J87<0,#REF!<0,#REF!<0),\"ujemny plan\",\"\")","v":{"$error":"#REF!"}}]
["DWB/5/ND/DG","wpływy z dzierżawy gruntów",900,"90004","0750",null,null,null,{"$error":"#DIV/0!"},null,null,{"$error":"#DIV/0!"},{"$error":"#DIV/0!"},{"$f":"IF(SUM(#REF!)>0,\"Tak\",\"\")","v":{"$error":"#REF!"}},{"$f":"IF(OR(G88<0,J88<0,#REF!<0,#REF!<0),\"ujemny plan\",\"\")","v":{"$error":"#REF!"}}]
["DWB/5/ND/DG","wpływy z dzierżawy gruntów",900,90095,"0750","GMMW",null,null,{"$error":"#DIV/0!"},null,null,{"$error":"#DIV/0!"},{"$error":"#DIV/0!"},{"$f":"IF(SUM(#REF!)>0,\"Tak\",\"\")","v":{"$error":"#REF!"}},{"$f":"IF(OR(G89<0,J89<0,#REF!<0,#REF!<0),\"ujemny plan\",\"\")","v":{"$error":"#REF!"}}]
["DWB/5/ND/DG","wpływy z dzierżawy gruntów",925,92504,"0750",null,null,null,{"$error":"#DIV/0!"},null,null,{"$error":"#DIV/0!"},{"$error":"#DIV/0!"},{"$f":"IF(SUM(#REF!)>0,\"Tak\",\"\")","v":{"$error":"#REF!"}},{"$f":"IF(OR(G90<0,J90<0,#REF!<0,#REF!<0),\"ujemny plan\",\"\")","v":{"$error":"#REF!"}}]
["DWB/5/ND/DG","wpływy z dzierżawy gruntów",926,92604,"0750","GMMW",null,null,{"$error":"#DIV/0!"},null,null,{"$error":"#DIV/0!"},{"$error":"#DIV/0!"},{"$f":"IF(SUM(#REF!)>0,\"Tak\",\"\")","v":{"$error":"#REF!"}},{"$f":"IF(OR(G91<0,J91<0,#REF!<0,#REF!<0),\"ujemny plan\",\"\")","v":{"$error":"#REF!"}}]
["DWB/5/ND/DP","wpływy z dzierżawy parkingów",null,null,"0750",null,{"$f":"SUM(G93)","v":0},null,{"$error":"#DIV/0!"},0,null,{"$error":"#DIV/0!"},{"$error":"#DIV/0!"},{"$f":"IF(SUM(#REF!)>0,\"Tak\",\"\")","v":{"$error":"#REF!"}},{"$f":"IF(OR(G92<0,J92<0,#REF!<0,#REF!<0),\"ujemny plan\",\"\")","v":{"$error":"#REF!"}}]
["DWB/5/ND/DP","wpływy z dzierżawy parkingów",600,60015,"0750","GMMW",null,null,{"$error":"#DIV/0!"},null,null,{"$error":"#DIV/0!"},{"$error":"#DIV/0!"},{"$f":"IF(SUM(#REF!)>0,\"Tak\",\"\")","v":{"$error":"#REF!"}},{"$f":"IF(OR(G93<0,J93<0,#REF!<0,#REF!<0),\"ujemny plan\",\"\")","v":{"$error":"#REF!"}}]
["DWB/5/ND/MI","wpływy z czynszu za mieszkania komunalne",null,null,"0750",null,{"$f":"SUM(G95:G123)","v":3786500},4089969.5399999996,1.080145131387825,36500,30480.76,0.83508931506849315,"Tak",{"$f":"IF(SUM(#REF!)>0,\"Tak\",\"\")","v":{"$error":"#REF!"}},{"$f":"IF(OR(G94<0,J94<0,#REF!<0,#REF!<0),\"ujemny plan\",\"\")","v":{"$error":"#REF!"}}]
["DWB/5/ND/MI","wpływy z czynszu za mieszkania komunalne",600,60004,"0750",null,null,null,{"$error":"#DIV/0!"},null,null,{"$error":"#DIV/0!"},{"$error":"#DIV/0!"},{"$f":"IF(SUM(#REF!)>0,\"Tak\",\"\")","v":{"$error":"#REF!"}},{"$f":"IF(OR(G95<0,J95<0,#REF!<0,#REF!<0),\"ujemny plan\",\"\")","v":{"$error":"#REF!"}}]
["DWB/5/ND/MI","wpływy z czynszu za mieszkania komunalne",600,60015,"0750",null,null,null,{"$error":"#DIV/0!"},null,null,{"$error":"#DIV/0!"},{"$error":"#DIV/0!"},{"$f":"IF(SUM(#REF!)>0,\"Tak\",\"\")","v":{"$error":"#REF!"}},{"$f":"IF(OR(G96<0,J96<0,#REF!<0,#REF!<0),\"ujemny plan\",\"\")","v":{"$error":"#REF!"}}]
["DWB/5/ND/MI","wpływy z czynszu za mieszkania komunalne",600,60016,"0750",null,null,null,{"$error":"#DIV/0!"},null,null,{"$error":"#DIV/0!"},{"$error":"#DIV/0!"},{"$f":"IF(SUM(#REF!)>0,\"Tak\",\"\")","v":{"$error":"#REF!"}},{"$f":"IF(OR(G97<0,J97<0,#REF!<0,#REF!<0),\"ujemny plan\",\"\")","v":{"$error":"#REF!"}}]
["DWB/5/ND/MI","wpływy z czynszu za mieszkania komunalne",700,70004,"0750",null,null,null,{"$error":"#DIV/0!"},null,null,{"$error":"#DIV/0!"},{"$error":"#DIV/0!"},{"$f":"IF(SUM(#REF!)>0,\"Tak\",\"\")","v":{"$error":"#REF!"}},{"$f":"IF(OR(G98<0,J98<0,#REF!<0,#REF!<0),\"ujemny plan\",\"\")","v":{"$error":"#REF!"}}]
["DWB/5/ND/MI","wpływy z czynszu za mieszkania komunalne",700,"70005","0750","GMMW",36500,30480.76,0.83508931506849315,36500,30480.76,0.83508931506849315,"Tak",{"$f":"IF(SUM(#REF!)>0,\"Tak\",\"\")","v":{"$error":"#REF!"}},{"$f":"IF(OR(G99<0,J99<0,#REF!<0,#REF!<0),\"ujemny plan\",\"\")","v":{"$error":"#REF!"}}]
["DWB/5/ND/MI","wpływy z czynszu za mieszkania komunalne",700,"70007","0750","GMMW",3750000,4059488.78,1.0825303413333334,0,0,null,"Tak",{"$f":"IF(SUM(#REF!)>0,\"Tak\",\"\")","v":{"$error":"#REF!"}},{"$f":"IF(OR(G100<0,J100<0,#REF!<0,#REF!<0),\"ujemny plan\",\"\")","v":{"$error":"#REF!"}}]
["DWB/5/ND/MI","wpływy z czynszu za mieszkania komunalne",750,75023,"0750",null,null,null,{"$error":"#DIV/0!"},null,null,{"$error":"#DIV/0!"},{"$error":"#DIV/0!"},{"$f":"IF(SUM(#REF!)>0,\"Tak\",\"\")","v":{"$error":"#REF!"}},{"$f":"IF(OR(G101<0,J101<0,#REF!<0,#REF!<0),\"ujemny plan\",\"\")","v":{"$error":"#REF!"}}]
["DWB/5/ND/MI","wpływy z czynszu za mieszkania komunalne",801,80101,"0750",null,null,null,{"$error":"#DIV/0!"},null,null,{"$error":"#DIV/0!"},{"$error":"#DIV/0!"},{"$f":"IF(SUM(#REF!)>0,\"Tak\",\"\")","v":{"$error":"#REF!"}},{"$f":"IF(OR(G102<0,J102<0,#REF!<0,#REF!<0),\"ujemny plan\",\"\")","v":{"$error":"#REF!"}}]
["DWB/5/ND/MI","wpływy z czynszu za mieszkania komunalne",801,80102,"0750",null,null,null,{"$error":"#DIV/0!"},null,null,{"$error":"#DIV/0!"},{"$error":"#DIV/0!"},{"$f":"IF(SUM(#REF!)>0,\"Tak\",\"\")","v":{"$error":"#REF!"}},{"$f":"IF(OR(G103<0,J103<0,#REF!<0,#REF!<0),\"ujemny plan\",\"\")","v":{"$error":"#REF!"}}]
["DWB/5/ND/MI","wpływy z czynszu za mieszkania komunalne",801,80104,"0750",null,null,null,{"$error":"#DIV/0!"},null,null,{"$error":"#DIV/0!"},{"$error":"#DIV/0!"},{"$f":"IF(SUM(#REF!)>0,\"Tak\",\"\")","v":{"$error":"#REF!"}},{"$f":"IF(OR(G104<0,J104<0,#REF!<0,#REF!<0),\"ujemny plan\",\"\")","v":{"$error":"#REF!"}}]
["DWB/5/ND/MI","wpływy z czynszu za mieszkania komunalne",801,80120,"0750",null,null,null,{"$error":"#DIV/0!"},null,null,{"$error":"#DIV/0!"},{"$error":"#DIV/0!"},{"$f":"IF(SUM(#REF!)>0,\"Tak\",\"\")","v":{"$error":"#REF!"}},{"$f":"IF(OR(G105<0,J105<0,#REF!<0,#REF!<0),\"ujemny plan\",\"\")","v":{"$error":"#REF!"}}]
["DWB/5/ND/MI","wpływy z czynszu za mieszkania komunalne",801,80134,"0750",null,null,null,{"$error":"#DIV/0!"},null,null,{"$error":"#DIV/0!"},{"$error":"#DIV/0!"},{"$f":"IF(SUM(#REF!)>0,\"Tak\",\"\")","v":{"$error":"#REF!"}},{"$f":"IF(OR(G106<0,J106<0,#REF!<0,#REF!<0),\"ujemny plan\",\"\")","v":{"$error":"#REF!"}}]
["DWB/5/ND/MI","wpływy z czynszu za mieszkania komunalne",801,80140,"0750",null,null,null,{"$error":"#DIV/0!"},null,null,{"$error":"#DIV/0!"},{"$error":"#DIV/0!"},{"$f":"IF(SUM(#REF!)>0,\"Tak\",\"\")","v":{"$error":"#REF!"}},{"$f":"IF(OR(G107<0,J107<0,#REF!<0,#REF!<0),\"ujemny plan\",\"\")","v":{"$error":"#REF!"}}]
["DWB/5/ND/MI","wpływy z czynszu za mieszkania komunalne",801,80148,"0750",null,null,null,{"$error":"#DIV/0!"},null,null,{"$error":"#DIV/0!"},{"$error":"#DIV/0!"},{"$f":"IF(SUM(#REF!)>0,\"Tak\",\"\")","v":{"$error":"#REF!"}},{"$f":"IF(OR(G108<0,J108<0,#REF!<0,#REF!<0),\"ujemny plan\",\"\")","v":{"$error":"#REF!"}}]
["DWB/5/ND/MI","wpływy z czynszu za mieszkania komunalne",851,85158,"0750",null,null,null,{"$error":"#DIV/0!"},null,null,{"$error":"#DIV/0!"},{"$error":"#DIV/0!"},{"$f":"IF(SUM(#REF!)>0,\"Tak\",\"\")","v":{"$error":"#REF!"}},{"$f":"IF(OR(G109<0,J109<0,#REF!<0,#REF!<0),\"ujemny plan\",\"\")","v":{"$error":"#REF!"}}]
["DWB/5/ND/MI","wpływy z czynszu za mieszkania komunalne",852,85202,"0750",null,null,null,{"$error":"#DIV/0!"},null,null,{"$error":"#DIV/0!"},{"$error":"#DIV/0!"},{"$f":"IF(SUM(#REF!)>0,\"Tak\",\"\")","v":{"$error":"#REF!"}},{"$f":"IF(OR(G110<0,J110<0,#REF!<0,#REF!<0),\"ujemny plan\",\"\")","v":{"$error":"#REF!"}}]
["DWB/5/ND/MI","wpływy z czynszu za mieszkania komunalne",854,85403,"0750",null,null,null,{"$error":"#DIV/0!"},null,null,{"$error":"#DIV/0!"},{"$error":"#DIV/0!"},{"$f":"IF(SUM(#REF!)>0,\"Tak\",\"\")","v":{"$error":"#REF!"}},{"$f":"IF(OR(G111<0,J111<0,#REF!<0,#REF!<0),\"ujemny plan\",\"\")","v":{"$error":"#REF!"}}]
["DWB/5/ND/MI","wpływy z czynszu za mieszkania komunalne",854,85407,"0750",null,null,null,{"$error":"#DIV/0!"},null,null,{"$error":"#DIV/0!"},{"$error":"#DIV/0!"},{"$f":"IF(SUM(#REF!)>0,\"Tak\",\"\")","v":{"$error":"#REF!"}},{"$f":"IF(OR(G112<0,J112<0,#REF!<0,#REF!<0),\"ujemny plan\",\"\")","v":{"$error":"#REF!"}}]
["DWB/5/ND/MI","wpływy z czynszu za mieszkania komunalne",854,85410,"0750",null,null,null,{"$error":"#DIV/0!"},null,null,{"$error":"#DIV/0!"},{"$error":"#DIV/0!"},{"$f":"IF(SUM(#REF!)>0,\"Tak\",\"\")","v":{"$error":"#REF!"}},{"$f":"IF(OR(G113<0,J113<0,#REF!<0,#REF!<0),\"ujemny plan\",\"\")","v":{"$error":"#REF!"}}]
["DWB/5/ND/MI","wpływy z czynszu za mieszkania komunalne",854,85412,"0750",null,null,null,{"$error":"#DIV/0!"},null,null,{"$error":"#DIV/0!"},{"$error":"#DIV/0!"},{"$f":"IF(SUM(#REF!)>0,\"Tak\",\"\")","v":{"$error":"#REF!"}},{"$f":"IF(OR(G114<0,J114<0,#REF!<0,#REF!<0),\"ujemny plan\",\"\")","v":{"$error":"#REF!"}}]
["DWB/5/ND/MI","wpływy z czynszu za mieszkania komunalne",854,85420,"0750",null,null,null,{"$error":"#DIV/0!"},null,null,{"$error":"#DIV/0!"},{"$error":"#DIV/0!"},{"$f":"IF(SUM(#REF!)>0,\"Tak\",\"\")","v":{"$error":"#REF!"}},{"$f":"IF(OR(G115<0,J115<0,#REF!<0,#REF!<0),\"ujemny plan\",\"\")","v":{"$error":"#REF!"}}]
["DWB/5/ND/MI","wpływy z czynszu za mieszkania komunalne",854,85421,"0750",null,null,null,{"$error":"#DIV/0!"},null,null,{"$error":"#DIV/0!"},{"$error":"#DIV/0!"},{"$f":"IF(SUM(#REF!)>0,\"Tak\",\"\")","v":{"$error":"#REF!"}},{"$f":"IF(OR(G116<0,J116<0,#REF!<0,#REF!<0),\"ujemny plan\",\"\")","v":{"$error":"#REF!"}}]
["DWB/5/ND/MI","wpływy z czynszu za mieszkania komunalne","855","85510","0750","PWMW",null,null,{"$error":"#DIV/0!"},null,null,{"$error":"#DIV/0!"},{"$error":"#DIV/0!"},{"$f":"IF(SUM(#REF!)>0,\"Tak\",\"\")","v":{"$error":"#REF!"}},{"$f":"IF(OR(G117<0,J117<0,#REF!<0,#REF!<0),\"ujemny plan\",\"\")","v":{"$error":"#REF!"}}]
["DWB/5/ND/MI","wpływy z czynszu za mieszkania komunalne","855","85595","0750",null,null,null,{"$error":"#DIV/0!"},null,null,{"$error":"#DIV/0!"},{"$error":"#DIV/0!"},{"$f":"IF(SUM(#REF!)>0,\"Tak\",\"\")","v":{"$error":"#REF!"}},{"$f":"IF(OR(G118<0,J118<0,#REF!<0,#REF!<0),\"ujemny plan\",\"\")","v":{"$error":"#REF!"}}]
["DWB/5/ND/MI","wpływy z czynszu za mieszkania komunalne",900,90002,"0750",null,null,null,{"$error":"#DIV/0!"},null,null,{"$error":"#DIV/0!"},{"$error":"#DIV/0!"},{"$f":"IF(SUM(#REF!)>0,\"Tak\",\"\")","v":{"$error":"#REF!"}},{"$f":"IF(OR(G119<0,J119<0,#REF!<0,#REF!<0),\"ujemny plan\",\"\")","v":{"$error":"#REF!"}}]
["DWB/5/ND/MI","wpływy z czynszu za mieszkania komunalne",900,90003,"0750",null,null,null,{"$error":"#DIV/0!"},null,null,{"$error":"#DIV/0!"},{"$error":"#DIV/0!"},{"$f":"IF(SUM(#REF!)>0,\"Tak\",\"\")","v":{"$error":"#REF!"}},{"$f":"IF(OR(G120<0,J120<0,#REF!<0,#REF!<0),\"ujemny plan\",\"\")","v":{"$error":"#REF!"}}]
["DWB/5/ND/MI","wpływy z czynszu za mieszkania komunalne",900,90095,"0750",null,null,null,{"$error":"#DIV/0!"},null,null,{"$error":"#DIV/0!"},{"$error":"#DIV/0!"},{"$f":"IF(SUM(#REF!)>0,\"Tak\",\"\")","v":{"$error":"#REF!"}},{"$f":"IF(OR(G121<0,J121<0,#REF!<0,#REF!<0),\"ujemny plan\",\"\")","v":{"$error":"#REF!"}}]
["DWB/5/ND/MI","wpływy z czynszu za mieszkania komunalne",925,92504,"0750",null,null,null,{"$error":"#DIV/0!"},null,null,{"$error":"#DIV/0!"},{"$error":"#DIV/0!"},{"$f":"IF(SUM(#REF!)>0,\"Tak\",\"\")","v":{"$error":"#REF!"}},{"$f":"IF(OR(G122<0,J122<0,#REF!<0,#REF!<0),\"ujemny plan\",\"\")","v":{"$error":"#REF!"}}]
["DWB/5/ND/MI","wpływy z czynszu za mieszkania komunalne",926,92604,"0750","GMMW",null,null,{"$error":"#DIV/0!"},null,null,{"$error":"#DIV/0!"},{"$error":"#DIV/0!"},{"$f":"IF(SUM(#REF!)>0,\"Tak\",\"\")","v":{"$error":"#REF!"}},{"$f":"IF(OR(G123<0,J123<0,#REF!<0,#REF!<0),\"ujemny plan\",\"\")","v":{"$error":"#REF!"}}]
["DWB/5/ND/NG","wpływy z najmu garaży",null,null,"0750",null,{"$f":"SUM(G125:G151)","v":171000},188393.56,1.1017167251461988,0,0,null,"Tak",{"$f":"IF(SUM(#REF!)>0,\"Tak\",\"\")","v":{"$error":"#REF!"}},{"$f":"IF(OR(G124<0,J124<0,#REF!<0,#REF!<0),\"ujemny plan\",\"\")","v":{"$error":"#REF!"}}]
["DWB/5/ND/NG","wpływy z najmu garaży",600,60004,"0750",null,null,null,{"$error":"#DIV/0!"},null,null,{"$error":"#DIV/0!"},{"$error":"#DIV/0!"},{"$f":"IF(SUM(#REF!)>0,\"Tak\",\"\")","v":{"$error":"#REF!"}},{"$f":"IF(OR(G125<0,J125<0,#REF!<0,#REF!<0),\"ujemny plan\",\"\")","v":{"$error":"#REF!"}}]
["DWB/5/ND/NG","wpływy z najmu garaży",600,60015,"0750",null,null,null,{"$error":"#DIV/0!"},null,null,{"$error":"#DIV/0!"},{"$error":"#DIV/0!"},{"$f":"IF(SUM(#REF!)>0,\"Tak\",\"\")","v":{"$error":"#REF!"}},{"$f":"IF(OR(G126<0,J126<0,#REF!<0,#REF!<0),\"ujemny plan\",\"\")","v":{"$error":"#REF!"}}]
["DWB/5/ND/NG","wpływy z najmu garaży",600,60016,"0750",null,null,null,{"$error":"#DIV/0!"},null,null,{"$error":"#DIV/0!"},{"$error":"#DIV/0!"},{"$f":"IF(SUM(#REF!)>0,\"Tak\",\"\")","v":{"$error":"#REF!"}},{"$f":"IF(OR(G127<0,J127<0,#REF!<0,#REF!<0),\"ujemny plan\",\"\")","v":{"$error":"#REF!"}}]
["DWB/5/ND/NG","wpływy z najmu garaży",700,70004,"0750",null,null,null,{"$error":"#DIV/0!"},null,null,{"$error":"#DIV/0!"},{"$error":"#DIV/0!"},{"$f":"IF(SUM(#REF!)>0,\"Tak\",\"\")","v":{"$error":"#REF!"}},{"$f":"IF(OR(G128<0,J128<0,#REF!<0,#REF!<0),\"ujemny plan\",\"\")","v":{"$error":"#REF!"}}]
["DWB/5/ND/NG","wpływy z najmu garaży",700,70005,"0750","GMMW",171000,188393.56,1.1017167251461988,0,0,null,"Tak",{"$f":"IF(SUM(#REF!)>0,\"Tak\",\"\")","v":{"$error":"#REF!"}},{"$f":"IF(OR(G129<0,J129<0,#REF!<0,#REF!<0),\"ujemny plan\",\"\")","v":{"$error":"#REF!"}}]
["DWB/5/ND/NG","wpływy z najmu garaży",750,75023,"0750",null,null,null,{"$error":"#DIV/0!"},null,null,{"$error":"#DIV/0!"},{"$error":"#DIV/0!"},{"$f":"IF(SUM(#REF!)>0,\"Tak\",\"\")","v":{"$error":"#REF!"}},{"$f":"IF(OR(G130<0,J130<0,#REF!<0,#REF!<0),\"ujemny plan\",\"\")","v":{"$error":"#REF!"}}]
["DWB/5/ND/NG","wpływy z najmu garaży",801,80101,"0750",null,null,null,{"$error":"#DIV/0!"},null,null,{"$error":"#DIV/0!"},{"$error":"#DIV/0!"},{"$f":"IF(SUM(#REF!)>0,\"Tak\",\"\")","v":{"$error":"#REF!"}},{"$f":"IF(OR(G131<0,J131<0,#REF!<0,#REF!<0),\"ujemny plan\",\"\")","v":{"$error":"#REF!"}}]
["DWB/5/ND/NG","wpływy z najmu garaży",801,80102,"0750",null,null,null,{"$error":"#DIV/0!"},null,null,{"$error":"#DIV/0!"},{"$error":"#DIV/0!"},{"$f":"IF(SUM(#REF!)>0,\"Tak\",\"\")","v":{"$error":"#REF!"}},{"$f":"IF(OR(G132<0,J132<0,#REF!<0,#REF!<0),\"ujemny plan\",\"\")","v":{"$error":"#REF!"}}]
["DWB/5/ND/NG","wpływy z najmu garaży",801,80104,"0750",null,null,null,{"$error":"#DIV/0!"},null,null,{"$error":"#DIV/0!"},{"$error":"#DIV/0!"},{"$f":"IF(SUM(#REF!)>0,\"Tak\",\"\")","v":{"$error":"#REF!"}},{"$f":"IF(OR(G133<0,J133<0,#REF!<0,#REF!<0),\"ujemny plan\",\"\")","v":{"$error":"#REF!"}}]
["DWB/5/ND/NG","wpływy z najmu garaży",801,80120,"0750",null,null,null,{"$error":"#DIV/0!"},null,null,{"$error":"#DIV/0!"},{"$error":"#DIV/0!"},{"$f":"IF(SUM(#REF!)>0,\"Tak\",\"\")","v":{"$error":"#REF!"}},{"$f":"IF(OR(G134<0,J134<0,#REF!<0,#REF!<0),\"ujemny plan\",\"\")","v":{"$error":"#REF!"}}]
["DWB/5/ND/NG","wpływy z najmu garaży",801,80134,"0750",null,null,null,{"$error":"#DIV/0!"},null,null,{"$error":"#DIV/0!"},{"$error":"#DIV/0!"},{"$f":"IF(SUM(#REF!)>0,\"Tak\",\"\")","v":{"$error":"#REF!"}},{"$f":"IF(OR(G135<0,J135<0,#REF!<0,#REF!<0),\"ujemny plan\",\"\")","v":{"$error":"#REF!"}}]
["DWB/5/ND/NG","wpływy z najmu garaży",801,80140,"0750",null,null,null,{"$error":"#DIV/0!"},null,null,{"$error":"#DIV/0!"},{"$f":"IF(SUM(G136:L136)>0,\"Tak\",\"\")","v":{"$error":"#DIV/0!"}},{"$f":"IF(SUM(#REF!)>0,\"Tak\",\"\")","v":{"$error":"#REF!"}},{"$f":"IF(OR(G136<0,J136<0,#REF!<0,#REF!<0),\"ujemny plan\",\"\")","v":{"$error":"#REF!"}}]
["DWB/5/ND/NG","wpływy z najmu garaży",801,80148,"0750",null,null,null,{"$f":"H137/G137","v":{"$error":"#DIV/0!"}},null,null,{"$f":"K137/J137","v":{"$error":"#DIV/0!"}},{"$error":"#DIV/0!"},{"$f":"IF(SUM(#REF!)>0,\"Tak\",\"\")","v":{"$error":"#REF!"}},{"$f":"IF(OR(G137<0,J137<0,#REF!<0,#REF!<0),\"ujemny plan\",\"\")","v":{"$error":"#REF!"}}]
["DWB/5/ND/NG","wpływy z najmu garaży",851,85158,"0750",null,null,null,{"$error":"#DIV/0!"},null,null,{"$error":"#DIV/0!"},{"$error":"#DIV/0!"},{"$f":"IF(SUM(#REF!)>0,\"Tak\",\"\")","v":{"$error":"#REF!"}},{"$f":"IF(OR(G138<0,J138<0,#REF!<0,#REF!<0),\"ujemny plan\",\"\")","v":{"$error":"#REF!"}}]
["DWB/5/ND/NG","wpływy z najmu garaży",852,85202,"0750",null,null,null,{"$error":"#DIV/0!"},null,null,{"$error":"#DIV/0!"},{"$error":"#DIV/0!"},{"$f":"IF(SUM(#REF!)>0,\"Tak\",\"\")","v":{"$error":"#REF!"}},{"$f":"IF(OR(G139<0,J139<0,#REF!<0,#REF!<0),\"ujemny plan\",\"\")","v":{"$error":"#REF!"}}]
["DWB/5/ND/NG","wpływy z najmu garaży",854,85403,"0750",null,null,null,{"$error":"#DIV/0!"},null,null,{"$error":"#DIV/0!"},{"$error":"#DIV/0!"},{"$f":"IF(SUM(#REF!)>0,\"Tak\",\"\")","v":{"$error":"#REF!"}},{"$f":"IF(OR(G140<0,J140<0,#REF!<0,#REF!<0),\"ujemny plan\",\"\")","v":{"$error":"#REF!"}}]
["DWB/5/ND/NG","wpływy z najmu garaży",854,85407,"0750",null,null,null,{"$error":"#DIV/0!"},null,null,{"$error":"#DIV/0!"},{"$error":"#DIV/0!"},{"$f":"IF(SUM(#REF!)>0,\"Tak\",\"\")","v":{"$error":"#REF!"}},{"$f":"IF(OR(G141<0,J141<0,#REF!<0,#REF!<0),\"ujemny plan\",\"\")","v":{"$error":"#REF!"}}]
["DWB/5/ND/NG","wpływy z najmu garaży",854,85410,"0750",null,null,null,{"$error":"#DIV/0!"},null,null,{"$error":"#DIV/0!"},{"$error":"#DIV/0!"},{"$f":"IF(SUM(#REF!)>0,\"Tak\",\"\")","v":{"$error":"#REF!"}},{"$f":"IF(OR(G142<0,J142<0,#REF!<0,#REF!<0),\"ujemny plan\",\"\")","v":{"$error":"#REF!"}}]
["DWB/5/ND/NG","wpływy z najmu garaży",854,85412,"0750",null,null,null,{"$error":"#DIV/0!"},null,null,{"$error":"#DIV/0!"},{"$error":"#DIV/0!"},{"$f":"IF(SUM(#REF!)>0,\"Tak\",\"\")","v":{"$error":"#REF!"}},{"$f":"IF(OR(G143<0,J143<0,#REF!<0,#REF!<0),\"ujemny plan\",\"\")","v":{"$error":"#REF!"}}]
["DWB/5/ND/NG","wpływy z najmu garaży",854,85420,"0750",null,null,null,{"$error":"#DIV/0!"},null,null,{"$error":"#DIV/0!"},{"$error":"#DIV/0!"},{"$f":"IF(SUM(#REF!)>0,\"Tak\",\"\")","v":{"$error":"#REF!"}},{"$f":"IF(OR(G144<0,J144<0,#REF!<0,#REF!<0),\"ujemny plan\",\"\")","v":{"$error":"#REF!"}}]
["DWB/5/ND/NG","wpływy z najmu garaży",854,85421,"0750",null,null,null,{"$error":"#DIV/0!"},null,null,{"$error":"#DIV/0!"},{"$error":"#DIV/0!"},{"$f":"IF(SUM(#REF!)>0,\"Tak\",\"\")","v":{"$error":"#REF!"}},{"$f":"IF(OR(G145<0,J145<0,#REF!<0,#REF!<0),\"ujemny plan\",\"\")","v":{"$error":"#REF!"}}]
["DWB/5/ND/NG","wpływy z najmu garaży","855","85510","0750",null,null,null,{"$error":"#DIV/0!"},null,null,{"$error":"#DIV/0!"},{"$error":"#DIV/0!"},{"$f":"IF(SUM(#REF!)>0,\"Tak\",\"\")","v":{"$error":"#REF!"}},{"$f":"IF(OR(G146<0,J146<0,#REF!<0,#REF!<0),\"ujemny plan\",\"\")","v":{"$error":"#REF!"}}]
["DWB/5/ND/NG","wpływy z najmu garaży",900,90002,"0750",null,null,null,{"$error":"#DIV/0!"},null,null,{"$error":"#DIV/0!"},{"$error":"#DIV/0!"},{"$f":"IF(SUM(#REF!)>0,\"Tak\",\"\")","v":{"$error":"#REF!"}},{"$f":"IF(OR(G147<0,J147<0,#REF!<0,#REF!<0),\"ujemny plan\",\"\")","v":{"$error":"#REF!"}}]
["DWB/5/ND/NG","wpływy z najmu garaży",900,90003,"0750",null,null,null,{"$error":"#DIV/0!"},null,null,{"$error":"#DIV/0!"},{"$error":"#DIV/0!"},{"$f":"IF(SUM(#REF!)>0,\"Tak\",\"\")","v":{"$error":"#REF!"}},{"$f":"IF(OR(G148<0,J148<0,#REF!<0,#REF!<0),\"ujemny plan\",\"\")","v":{"$error":"#REF!"}}]
["DWB/5/ND/NG","wpływy z najmu garaży",900,90095,"0750",null,null,null,{"$error":"#DIV/0!"},null,null,{"$error":"#DIV/0!"},{"$error":"#DIV/0!"},{"$f":"IF(SUM(#REF!)>0,\"Tak\",\"\")","v":{"$error":"#REF!"}},{"$f":"IF(OR(G149<0,J149<0,#REF!<0,#REF!<0),\"ujemny plan\",\"\")","v":{"$error":"#REF!"}}]
["DWB/5/ND/NG","wpływy z najmu garaży",925,92504,"0750",null,null,null,{"$error":"#DIV/0!"},null,null,{"$error":"#DIV/0!"},{"$error":"#DIV/0!"},{"$f":"IF(SUM(#REF!)>0,\"Tak\",\"\")","v":{"$error":"#REF!"}},{"$f":"IF(OR(G150<0,J150<0,#REF!<0,#REF!<0),\"ujemny plan\",\"\")","v":{"$error":"#REF!"}}]
["DWB/5/ND/NG","wpływy z najmu garaży",926,92604,"0750",null,null,null,{"$error":"#DIV/0!"},null,null,{"$error":"#DIV/0!"},{"$error":"#DIV/0!"},{"$f":"IF(SUM(#REF!)>0,\"Tak\",\"\")","v":{"$error":"#REF!"}},{"$f":"IF(OR(G151<0,J151<0,#REF!<0,#REF!<0),\"ujemny plan\",\"\")","v":{"$error":"#REF!"}}]
["DWB/5/ND/NN","wpływy z najmu nieruchomości",null,null,"0750",null,{"$f":"SUM(G153:G182)","v":0},null,{"$error":"#DIV/0!"},0,null,{"$error":"#DIV/0!"},{"$error":"#DIV/0!"},{"$f":"IF(SUM(#REF!)>0,\"Tak\",\"\")","v":{"$error":"#REF!"}},{"$f":"IF(OR(G152<0,J152<0,#REF!<0,#REF!<0),\"ujemny plan\",\"\")","v":{"$error":"#REF!"}}]
["DWB/5/ND/NN","wpływy z najmu nieruchomości",600,60004,"0750",null,null,null,{"$error":"#DIV/0!"},null,null,{"$error":"#DIV/0!"},{"$error":"#DIV/0!"},{"$f":"IF(SUM(#REF!)>0,\"Tak\",\"\")","v":{"$error":"#REF!"}},{"$f":"IF(OR(G153<0,J153<0,#REF!<0,#REF!<0),\"ujemny plan\",\"\")","v":{"$error":"#REF!"}}]
["DWB/5/ND/NN","wpływy z najmu nieruchomości",600,60015,"0750",null,null,null,{"$error":"#DIV/0!"},null,null,{"$error":"#DIV/0!"},{"$error":"#DIV/0!"},{"$f":"IF(SUM(#REF!)>0,\"Tak\",\"\")","v":{"$error":"#REF!"}},{"$f":"IF(OR(G154<0,J154<0,#REF!<0,#REF!<0),\"ujemny plan\",\"\")","v":{"$error":"#REF!"}}]
["DWB/5/ND/NN","wpływy z najmu nieruchomości",600,60016,"0750",null,null,null,{"$error":"#DIV/0!"},null,null,{"$error":"#DIV/0!"},{"$error":"#DIV/0!"},{"$f":"IF(SUM(#REF!)>0,\"Tak\",\"\")","v":{"$error":"#REF!"}},{"$f":"IF(OR(G155<0,J155<0,#REF!<0,#REF!<0),\"ujemny plan\",\"\")","v":{"$error":"#REF!"}}]
["DWB/5/ND/NN","wpływy z najmu nieruchomości",700,70004,"0750",null,null,null,{"$error":"#DIV/0!"},null,null,{"$error":"#DIV/0!"},{"$error":"#DIV/0!"},{"$f":"IF(SUM(#REF!)>0,\"Tak\",\"\")","v":{"$error":"#REF!"}},{"$f":"IF(OR(G156<0,J156<0,#REF!<0,#REF!<0),\"ujemny plan\",\"\")","v":{"$error":"#REF!"}}]
["DWB/5/ND/NN","wpływy z najmu nieruchomości",700,70005,"0750","GMMW",null,null,{"$error":"#DIV/0!"},null,null,{"$error":"#DIV/0!"},{"$error":"#DIV/0!"},{"$f":"IF(SUM(#REF!)>0,\"Tak\",\"\")","v":{"$error":"#REF!"}},{"$f":"IF(OR(G157<0,J157<0,#REF!<0,#REF!<0),\"ujemny plan\",\"\")","v":{"$error":"#REF!"}}]
["DWB/5/ND/NN","wpływy z najmu nieruchomości",750,75023,"0750",null,null,null,{"$error":"#DIV/0!"},null,null,{"$error":"#DIV/0!"},{"$error":"#DIV/0!"},{"$f":"IF(SUM(#REF!)>0,\"Tak\",\"\")","v":{"$error":"#REF!"}},{"$f":"IF(OR(G158<0,J158<0,#REF!<0,#REF!<0),\"ujemny plan\",\"\")","v":{"$error":"#REF!"}}]
["DWB/5/ND/NN","wpływy z najmu nieruchomości",801,80101,"0750",null,null,null,{"$error":"#DIV/0!"},null,null,{"$error":"#DIV/0!"},{"$error":"#DIV/0!"},{"$f":"IF(SUM(#REF!)>0,\"Tak\",\"\")","v":{"$error":"#REF!"}},{"$f":"IF(OR(G159<0,J159<0,#REF!<0,#REF!<0),\"ujemny plan\",\"\")","v":{"$error":"#REF!"}}]
["DWB/5/ND/NN","wpływy z najmu nieruchomości",801,80102,"0750",null,null,null,{"$error":"#DIV/0!"},null,null,{"$error":"#DIV/0!"},{"$error":"#DIV/0!"},{"$f":"IF(SUM(#REF!)>0,\"Tak\",\"\")","v":{"$error":"#REF!"}},{"$f":"IF(OR(G160<0,J160<0,#REF!<0,#REF!<0),\"ujemny plan\",\"\")","v":{"$error":"#REF!"}}]
["DWB/5/ND/NN","wpływy z najmu nieruchomości",801,80104,"0750",null,null,null,{"$error":"#DIV/0!"},null,null,{"$error":"#DIV/0!"},{"$error":"#DIV/0!"},{"$f":"IF(SUM(#REF!)>0,\"Tak\",\"\")","v":{"$error":"#REF!"}},{"$f":"IF(OR(G161<0,J161<0,#REF!<0,#REF!<0),\"ujemny plan\",\"\")","v":{"$error":"#REF!"}}]
["DWB/5/ND/NN","wpływy z najmu nieruchomości",801,80120,"0750",null,null,null,{"$error":"#DIV/0!"},null,null,{"$error":"#DIV/0!"},{"$error":"#DIV/0!"},{"$f":"IF(SUM(#REF!)>0,\"Tak\",\"\")","v":{"$error":"#REF!"}},{"$f":"IF(OR(G162<0,J162<0,#REF!<0,#REF!<0),\"ujemny plan\",\"\")","v":{"$error":"#REF!"}}]
["DWB/5/ND/NN","wpływy z najmu nieruchomości",801,80134,"0750",null,null,null,{"$error":"#DIV/0!"},null,null,{"$error":"#DIV/0!"},{"$error":"#DIV/0!"},{"$f":"IF(SUM(#REF!)>0,\"Tak\",\"\")","v":{"$error":"#REF!"}},{"$f":"IF(OR(G163<0,J163<0,#REF!<0,#REF!<0),\"ujemny plan\",\"\")","v":{"$error":"#REF!"}}]
["DWB/5/ND/NN","wpływy z najmu nieruchomości",801,80140,"0750",null,null,null,{"$error":"#DIV/0!"},null,null,{"$error":"#DIV/0!"},{"$error":"#DIV/0!"},{"$f":"IF(SUM(#REF!)>0,\"Tak\",\"\")","v":{"$error":"#REF!"}},{"$f":"IF(OR(G164<0,J164<0,#REF!<0,#REF!<0),\"ujemny plan\",\"\")","v":{"$error":"#REF!"}}]
["DWB/5/ND/NN","wpływy z najmu nieruchomości",801,80148,"0750",null,null,null,{"$error":"#DIV/0!"},null,null,{"$error":"#DIV/0!"},{"$error":"#DIV/0!"},{"$f":"IF(SUM(#REF!)>0,\"Tak\",\"\")","v":{"$error":"#REF!"}},{"$f":"IF(OR(G165<0,J165<0,#REF!<0,#REF!<0),\"ujemny plan\",\"\")","v":{"$error":"#REF!"}}]
["DWB/5/ND/NN","wpływy z najmu nieruchomości",851,85111,"0750",null,null,null,{"$error":"#DIV/0!"},null,null,{"$error":"#DIV/0!"},{"$error":"#DIV/0!"},{"$f":"IF(SUM(#REF!)>0,\"Tak\",\"\")","v":{"$error":"#REF!"}},{"$f":"IF(OR(G166<0,J166<0,#REF!<0,#REF!<0),\"ujemny plan\",\"\")","v":{"$error":"#REF!"}}]
["DWB/5/ND/NN","wpływy z najmu nieruchomości",851,85158,"0750",null,null,null,{"$error":"#DIV/0!"},null,null,{"$error":"#DIV/0!"},{"$error":"#DIV/0!"},{"$f":"IF(SUM(#REF!)>0,\"Tak\",\"\")","v":{"$error":"#REF!"}},{"$f":"IF(OR(G167<0,J167<0,#REF!<0,#REF!<0),\"ujemny plan\",\"\")","v":{"$error":"#REF!"}}]
["DWB/5/ND/NN","wpływy z najmu nieruchomości",852,85202,"0750",null,null,null,{"$error":"#DIV/0!"},null,null,{"$error":"#DIV/0!"},{"$error":"#DIV/0!"},{"$f":"IF(SUM(#REF!)>0,\"Tak\",\"\")","v":{"$error":"#REF!"}},{"$f":"IF(OR(G168<0,J168<0,#REF!<0,#REF!<0),\"ujemny plan\",\"\")","v":{"$error":"#REF!"}}]
["DWB/5/ND/NN","wpływy z najmu nieruchomości",852,85295,"0750","GMMW",null,null,{"$error":"#DIV/0!"},null,null,{"$error":"#DIV/0!"},{"$error":"#DIV/0!"},{"$f":"IF(SUM(#REF!)>0,\"Tak\",\"\")","v":{"$error":"#REF!"}},{"$f":"IF(OR(G169<0,J169<0,#REF!<0,#REF!<0),\"ujemny plan\",\"\")","v":{"$error":"#REF!"}}]
["DWB/5/ND/NN","wpływy z najmu nieruchomości",854,85403,"0750",null,null,null,{"$error":"#DIV/0!"},null,null,{"$error":"#DIV/0!"},{"$error":"#DIV/0!"},{"$f":"IF(SUM(#REF!)>0,\"Tak\",\"\")","v":{"$error":"#REF!"}},{"$f":"IF(OR(G170<0,J170<0,#REF!<0,#REF!<0),\"ujemny plan\",\"\")","v":{"$error":"#REF!"}}]
["DWB/5/ND/NN","wpływy z najmu nieruchomości",854,85407,"0750",null,null,null,{"$error":"#DIV/0!"},null,null,{"$error":"#DIV/0!"},{"$error":"#DIV/0!"},{"$f":"IF(SUM(#REF!)>0,\"Tak\",\"\")","v":{"$error":"#REF!"}},{"$f":"IF(OR(G171<0,J171<0,#REF!<0,#REF!<0),\"ujemny plan\",\"\")","v":{"$error":"#REF!"}}]
["DWB/5/ND/NN","wpływy z najmu nieruchomości",854,85410,"0750",null,null,null,{"$error":"#DIV/0!"},null,null,{"$error":"#DIV/0!"},{"$error":"#DIV/0!"},{"$f":"IF(SUM(#REF!)>0,\"Tak\",\"\")","v":{"$error":"#REF!"}},{"$f":"IF(OR(G172<0,J172<0,#REF!<0,#REF!<0),\"ujemny plan\",\"\")","v":{"$error":"#REF!"}}]
["DWB/5/ND/NN","wpływy z najmu nieruchomości",854,85412,"0750",null,null,null,{"$error":"#DIV/0!"},null,null,{"$error":"#DIV/0!"},{"$error":"#DIV/0!"},{"$f":"IF(SUM(#REF!)>0,\"Tak\",\"\")","v":{"$error":"#REF!"}},{"$f":"IF(OR(G173<0,J173<0,#REF!<0,#REF!<0),\"ujemny plan\",\"\")","v":{"$error":"#REF!"}}]
["DWB/5/ND/NN","wpływy z najmu nieruchomości",854,85420,"0750",null,null,null,{"$error":"#DIV/0!"},null,null,{"$error":"#DIV/0!"},{"$error":"#DIV/0!"},{"$f":"IF(SUM(#REF!)>0,\"Tak\",\"\")","v":{"$error":"#REF!"}},{"$f":"IF(OR(G174<0,J174<0,#REF!<0,#REF!<0),\"ujemny plan\",\"\")","v":{"$error":"#REF!"}}]
["DWB/5/ND/NN","wpływy z najmu nieruchomości",854,85421,"0750",null,null,null,{"$error":"#DIV/0!"},null,null,{"$error":"#DIV/0!"},{"$error":"#DIV/0!"},{"$f":"IF(SUM(#REF!)>0,\"Tak\",\"\")","v":{"$error":"#REF!"}},{"$f":"IF(OR(G175<0,J175<0,#REF!<0,#REF!<0),\"ujemny plan\",\"\")","v":{"$error":"#REF!"}}]
["DWB/5/ND/NN","wpływy z najmu nieruchomości",855,85510,"0750","PWMW",null,null,{"$error":"#DIV/0!"},null,null,{"$error":"#DIV/0!"},{"$error":"#DIV/0!"},{"$f":"IF(SUM(#REF!)>0,\"Tak\",\"\")","v":{"$error":"#REF!"}},{"$f":"IF(OR(G176<0,J176<0,#REF!<0,#REF!<0),\"ujemny plan\",\"\")","v":{"$error":"#REF!"}}]
["DWB/5/ND/NN","wpływy z najmu nieruchomości",900,90002,"0750",null,null,null,{"$error":"#DIV/0!"},null,null,{"$error":"#DIV/0!"},{"$error":"#DIV/0!"},{"$f":"IF(SUM(#REF!)>0,\"Tak\",\"\")","v":{"$error":"#REF!"}},{"$f":"IF(OR(G177<0,J177<0,#REF!<0,#REF!<0),\"ujemny plan\",\"\")","v":{"$error":"#REF!"}}]
["DWB/5/ND/NN","wpływy z najmu nieruchomości",900,90003,"0750","GMMW",null,null,{"$error":"#DIV/0!"},null,null,{"$error":"#DIV/0!"},{"$error":"#DIV/0!"},{"$f":"IF(SUM(#REF!)>0,\"Tak\",\"\")","v":{"$error":"#REF!"}},{"$f":"IF(OR(G178<0,J178<0,#REF!<0,#REF!<0),\"ujemny plan\",\"\")","v":{"$error":"#REF!"}}]
["DWB/5/ND/NN","wpływy z najmu nieruchomości",900,90095,"0750",null,null,null,{"$error":"#DIV/0!"},null,null,{"$error":"#DIV/0!"},{"$error":"#DIV/0!"},{"$f":"IF(SUM(#REF!)>0,\"Tak\",\"\")","v":{"$error":"#REF!"}},{"$f":"IF(OR(G179<0,J179<0,#REF!<0,#REF!<0),\"ujemny plan\",\"\")","v":{"$error":"#REF!"}}]
["DWB/5/ND/NN","wpływy z najmu nieruchomości",900,"90004","0750",null,null,null,{"$error":"#DIV/0!"},null,null,{"$error":"#DIV/0!"},{"$error":"#DIV/0!"},{"$f":"IF(SUM(#REF!)>0,\"Tak\",\"\")","v":{"$error":"#REF!"}},{"$f":"IF(OR(G180<0,J180<0,#REF!<0,#REF!<0),\"ujemny plan\",\"\")","v":{"$error":"#REF!"}}]
["DWB/5/ND/NN","wpływy z najmu nieruchomości",925,92504,"0750",null,null,null,{"$error":"#DIV/0!"},null,null,{"$error":"#DIV/0!"},{"$error":"#DIV/0!"},{"$f":"IF(SUM(#REF!)>0,\"Tak\",\"\")","v":{"$error":"#REF!"}},{"$f":"IF(OR(G181<0,J181<0,#REF!<0,#REF!<0),\"ujemny plan\",\"\")","v":{"$error":"#REF!"}}]
["DWB/5/ND/NN","wpływy z najmu nieruchomości",926,92604,"0750",null,null,null,{"$error":"#DIV/0!"},null,null,{"$error":"#DIV/0!"},{"$error":"#DIV/0!"},{"$f":"IF(SUM(#REF!)>0,\"Tak\",\"\")","v":{"$error":"#REF!"}},{"$f":"IF(OR(G182<0,J182<0,#REF!<0,#REF!<0),\"ujemny plan\",\"\")","v":{"$error":"#REF!"}}]
["DWB/5/ND/LU","wpływy z najmu lokali użytkowych",null,null,"0750",null,{"$f":"SUM(G184:G210)","v":400000},402534.33,1.0063358250000001,0,0,null,"Tak",{"$f":"IF(SUM(#REF!)>0,\"Tak\",\"\")","v":{"$error":"#REF!"}},{"$f":"IF(OR(G183<0,J183<0,#REF!<0,#REF!<0),\"ujemny plan\",\"\")","v":{"$error":"#REF!"}}]
["DWB/5/ND/LU","wpływy z najmu lokali użytkowych",600,60004,"0750",null,null,null,{"$error":"#DIV/0!"},null,null,{"$error":"#DIV/0!"},{"$error":"#DIV/0!"},{"$f":"IF(SUM(#REF!)>0,\"Tak\",\"\")","v":{"$error":"#REF!"}},{"$f":"IF(OR(G184<0,J184<0,#REF!<0,#REF!<0),\"ujemny plan\",\"\")","v":{"$error":"#REF!"}}]
["DWB/5/ND/LU","wpływy z najmu lokali użytkowych",600,60015,"0750",null,null,null,{"$error":"#DIV/0!"},null,null,{"$error":"#DIV/0!"},{"$error":"#DIV/0!"},{"$f":"IF(SUM(#REF!)>0,\"Tak\",\"\")","v":{"$error":"#REF!"}},{"$f":"IF(OR(G185<0,J185<0,#REF!<0,#REF!<0),\"ujemny plan\",\"\")","v":{"$error":"#REF!"}}]
["DWB/5/ND/LU","wpływy z najmu lokali użytkowych",600,60016,"0750",null,null,null,{"$error":"#DIV/0!"},null,null,{"$error":"#DIV/0!"},{"$error":"#DIV/0!"},{"$f":"IF(SUM(#REF!)>0,\"Tak\",\"\")","v":{"$error":"#REF!"}},{"$f":"IF(OR(G186<0,J186<0,#REF!<0,#REF!<0),\"ujemny plan\",\"\")","v":{"$error":"#REF!"}}]
["DWB/5/ND/LU","wpływy z najmu lokali użytkowych",700,70004,"0750",null,null,null,{"$error":"#DIV/0!"},null,null,{"$error":"#DIV/0!"},{"$error":"#DIV/0!"},{"$f":"IF(SUM(#REF!)>0,\"Tak\",\"\")","v":{"$error":"#REF!"}},{"$f":"IF(OR(G187<0,J187<0,#REF!<0,#REF!<0),\"ujemny plan\",\"\")","v":{"$error":"#REF!"}}]
["DWB/5/ND/LU","wpływy z najmu lokali użytkowych",700,70005,"0750","GMMW",400000,402534.33,1.0063358250000001,0,0,null,"Tak",{"$f":"IF(SUM(#REF!)>0,\"Tak\",\"\")","v":{"$error":"#REF!"}},{"$f":"IF(OR(G188<0,J188<0,#REF!<0,#REF!<0),\"ujemny plan\",\"\")","v":{"$error":"#REF!"}}]
["DWB/5/ND/LU","wpływy z najmu lokali użytkowych",750,75023,"0750","GMMW",null,null,{"$error":"#DIV/0!"},null,null,{"$error":"#DIV/0!"},{"$error":"#DIV/0!"},{"$f":"IF(SUM(#REF!)>0,\"Tak\",\"\")","v":{"$error":"#REF!"}},{"$f":"IF(OR(G189<0,J189<0,#REF!<0,#REF!<0),\"ujemny plan\",\"\")","v":{"$error":"#REF!"}}]
["DWB/5/ND/LU","wpływy z najmu lokali użytkowych",801,80101,"0750",null,null,null,{"$error":"#DIV/0!"},null,null,{"$error":"#DIV/0!"},{"$error":"#DIV/0!"},{"$f":"IF(SUM(#REF!)>0,\"Tak\",\"\")","v":{"$error":"#REF!"}},{"$f":"IF(OR(G190<0,J190<0,#REF!<0,#REF!<0),\"ujemny plan\",\"\")","v":{"$error":"#REF!"}}]
["DWB/5/ND/LU","wpływy z najmu lokali użytkowych",801,80102,"0750",null,null,null,{"$error":"#DIV/0!"},null,null,{"$error":"#DIV/0!"},{"$error":"#DIV/0!"},{"$f":"IF(SUM(#REF!)>0,\"Tak\",\"\")","v":{"$error":"#REF!"}},{"$f":"IF(OR(G191<0,J191<0,#REF!<0,#REF!<0),\"ujemny plan\",\"\")","v":{"$error":"#REF!"}}]
["DWB/5/ND/LU","wpływy z najmu lokali użytkowych",801,80104,"0750",null,null,null,{"$error":"#DIV/0!"},null,null,{"$error":"#DIV/0!"},{"$error":"#DIV/0!"},{"$f":"IF(SUM(#REF!)>0,\"Tak\",\"\")","v":{"$error":"#REF!"}},{"$f":"IF(OR(G192<0,J192<0,#REF!<0,#REF!<0),\"ujemny plan\",\"\")","v":{"$error":"#REF!"}}]
["DWB/5/ND/LU","wpływy z najmu lokali użytkowych",801,80120,"0750",null,null,null,{"$error":"#DIV/0!"},null,null,{"$error":"#DIV/0!"},{"$error":"#DIV/0!"},{"$f":"IF(SUM(#REF!)>0,\"Tak\",\"\")","v":{"$error":"#REF!"}},{"$f":"IF(OR(G193<0,J193<0,#REF!<0,#REF!<0),\"ujemny plan\",\"\")","v":{"$error":"#REF!"}}]
["DWB/5/ND/LU","wpływy z najmu lokali użytkowych",801,80134,"0750",null,null,null,{"$error":"#DIV/0!"},null,null,{"$error":"#DIV/0!"},{"$error":"#DIV/0!"},{"$f":"IF(SUM(#REF!)>0,\"Tak\",\"\")","v":{"$error":"#REF!"}},{"$f":"IF(OR(G194<0,J194<0,#REF!<0,#REF!<0),\"ujemny plan\",\"\")","v":{"$error":"#REF!"}}]
["DWB/5/ND/LU","wpływy z najmu lokali użytkowych",801,80140,"0750",null,null,null,{"$error":"#DIV/0!"},null,null,{"$error":"#DIV/0!"},{"$error":"#DIV/0!"},{"$f":"IF(SUM(#REF!)>0,\"Tak\",\"\")","v":{"$error":"#REF!"}},{"$f":"IF(OR(G195<0,J195<0,#REF!<0,#REF!<0),\"ujemny plan\",\"\")","v":{"$error":"#REF!"}}]
["DWB/5/ND/LU","wpływy z najmu lokali użytkowych",801,80148,"0750",null,null,null,{"$error":"#DIV/0!"},null,null,{"$error":"#DIV/0!"},{"$error":"#DIV/0!"},{"$f":"IF(SUM(#REF!)>0,\"Tak\",\"\")","v":{"$error":"#REF!"}},{"$f":"IF(OR(G196<0,J196<0,#REF!<0,#REF!<0),\"ujemny plan\",\"\")","v":{"$error":"#REF!"}}]
["DWB/5/ND/LU","wpływy z najmu lokali użytkowych",851,85158,"0750",null,null,null,{"$error":"#DIV/0!"},null,null,{"$error":"#DIV/0!"},{"$error":"#DIV/0!"},{"$f":"IF(SUM(#REF!)>0,\"Tak\",\"\")","v":{"$error":"#REF!"}},{"$f":"IF(OR(G197<0,J197<0,#REF!<0,#REF!<0),\"ujemny plan\",\"\")","v":{"$error":"#REF!"}}]
["DWB/5/ND/LU","wpływy z najmu lokali użytkowych",852,85202,"0750",null,null,null,{"$error":"#DIV/0!"},null,null,{"$error":"#DIV/0!"},{"$error":"#DIV/0!"},{"$f":"IF(SUM(#REF!)>0,\"Tak\",\"\")","v":{"$error":"#REF!"}},{"$f":"IF(OR(G198<0,J198<0,#REF!<0,#REF!<0),\"ujemny plan\",\"\")","v":{"$error":"#REF!"}}]
["DWB/5/ND/LU","wpływy z najmu lokali użytkowych",854,85403,"0750",null,null,null,{"$error":"#DIV/0!"},null,null,{"$error":"#DIV/0!"},{"$error":"#DIV/0!"},{"$f":"IF(SUM(#REF!)>0,\"Tak\",\"\")","v":{"$error":"#REF!"}},{"$f":"IF(OR(G199<0,J199<0,#REF!<0,#REF!<0),\"ujemny plan\",\"\")","v":{"$error":"#REF!"}}]
["DWB/5/ND/LU","wpływy z najmu lokali użytkowych",854,85407,"0750",null,null,null,{"$error":"#DIV/0!"},null,null,{"$error":"#DIV/0!"},{"$f":"IF(SUM(G200:L200)>0,\"Tak\",\"\")","v":{"$error":"#DIV/0!"}},{"$f":"IF(SUM(#REF!)>0,\"Tak\",\"\")","v":{"$error":"#REF!"}},{"$f":"IF(OR(G200<0,J200<0,#REF!<0,#REF!<0),\"ujemny plan\",\"\")","v":{"$error":"#REF!"}}]
["DWB/5/ND/LU","wpływy z najmu lokali użytkowych",854,85410,"0750",null,null,null,{"$f":"H201/G201","v":{"$error":"#DIV/0!"}},null,null,{"$f":"K201/J201","v":{"$error":"#DIV/0!"}},{"$error":"#DIV/0!"},{"$f":"IF(SUM(#REF!)>0,\"Tak\",\"\")","v":{"$error":"#REF!"}},{"$f":"IF(OR(G201<0,J201<0,#REF!<0,#REF!<0),\"ujemny plan\",\"\")","v":{"$error":"#REF!"}}]
["DWB/5/ND/LU","wpływy z najmu lokali użytkowych",854,85412,"0750",null,null,null,{"$error":"#DIV/0!"},null,null,{"$error":"#DIV/0!"},{"$error":"#DIV/0!"},{"$f":"IF(SUM(#REF!)>0,\"Tak\",\"\")","v":{"$error":"#REF!"}},{"$f":"IF(OR(G202<0,J202<0,#REF!<0,#REF!<0),\"ujemny plan\",\"\")","v":{"$error":"#REF!"}}]
["DWB/5/ND/LU","wpływy z najmu lokali użytkowych",854,85420,"0750",null,null,null,{"$error":"#DIV/0!"},null,null,{"$error":"#DIV/0!"},{"$error":"#DIV/0!"},{"$f":"IF(SUM(#REF!)>0,\"Tak\",\"\")","v":{"$error":"#REF!"}},{"$f":"IF(OR(G203<0,J203<0,#REF!<0,#REF!<0),\"ujemny plan\",\"\")","v":{"$error":"#REF!"}}]
["DWB/5/ND/LU","wpływy z najmu lokali użytkowych",854,85421,"0750",null,null,null,{"$error":"#DIV/0!"},null,null,{"$error":"#DIV/0!"},{"$error":"#DIV/0!"},{"$f":"IF(SUM(#REF!)>0,\"Tak\",\"\")","v":{"$error":"#REF!"}},{"$f":"IF(OR(G204<0,J204<0,#REF!<0,#REF!<0),\"ujemny plan\",\"\")","v":{"$error":"#REF!"}}]
["DWB/5/ND/LU","wpływy z najmu lokali użytkowych","855","85510","0750","PWMW",null,null,{"$error":"#DIV/0!"},null,null,{"$error":"#DIV/0!"},{"$error":"#DIV/0!"},{"$f":"IF(SUM(#REF!)>0,\"Tak\",\"\")","v":{"$error":"#REF!"}},{"$f":"IF(OR(G205<0,J205<0,#REF!<0,#REF!<0),\"ujemny plan\",\"\")","v":{"$error":"#REF!"}}]
["DWB/5/ND/LU","wpływy z najmu lokali użytkowych",900,90002,"0750","GMMW",null,null,{"$error":"#DIV/0!"},null,null,{"$error":"#DIV/0!"},{"$error":"#DIV/0!"},{"$f":"IF(SUM(#REF!)>0,\"Tak\",\"\")","v":{"$error":"#REF!"}},{"$f":"IF(OR(G206<0,J206<0,#REF!<0,#REF!<0),\"ujemny plan\",\"\")","v":{"$error":"#REF!"}}]
["DWB/5/ND/LU","wpływy z najmu lokali użytkowych",900,90003,"0750",null,null,null,{"$error":"#DIV/0!"},null,null,{"$error":"#DIV/0!"},{"$error":"#DIV/0!"},{"$f":"IF(SUM(#REF!)>0,\"Tak\",\"\")","v":{"$error":"#REF!"}},{"$f":"IF(OR(G207<0,J207<0,#REF!<0,#REF!<0),\"ujemny plan\",\"\")","v":{"$error":"#REF!"}}]
["DWB/5/ND/LU","wpływy z najmu lokali użytkowych",900,90095,"0750","GMMW",null,null,{"$error":"#DIV/0!"},null,null,{"$error":"#DIV/0!"},{"$error":"#DIV/0!"},{"$f":"IF(SUM(#REF!)>0,\"Tak\",\"\")","v":{"$error":"#REF!"}},{"$f":"IF(OR(G208<0,J208<0,#REF!<0,#REF!<0),\"ujemny plan\",\"\")","v":{"$error":"#REF!"}}]
["DWB/5/ND/LU","wpływy z najmu lokali użytkowych",925,92504,"0750",null,null,null,{"$error":"#DIV/0!"},null,null,{"$error":"#DIV/0!"},{"$error":"#DIV/0!"},{"$f":"IF(SUM(#REF!)>0,\"Tak\",\"\")","v":{"$error":"#REF!"}},{"$f":"IF(OR(G209<0,J209<0,#REF!<0,#REF!<0),\"ujemny plan\",\"\")","v":{"$error":"#REF!"}}]
["DWB/5/ND/LU","wpływy z najmu lokali użytkowych",926,92604,"0750","GMMW",null,null,{"$error":"#DIV/0!"},null,null,{"$error":"#DIV/0!"},{"$error":"#DIV/0!"},{"$f":"IF(SUM(#REF!)>0,\"Tak\",\"\")","v":{"$error":"#REF!"}},{"$f":"IF(OR(G210<0,J210<0,#REF!<0,#REF!<0),\"ujemny plan\",\"\")","v":{"$error":"#REF!"}}]
["DWB/5/ND/PC","wpływy z najmu i dzierżawy Portu Czerniakowskiego",null,null,"0750",null,{"$f":"SUM(G212)","v":0},null,{"$error":"#DIV/0!"},0,null,{"$error":"#DIV/0!"},{"$error":"#DIV/0!"},{"$f":"IF(SUM(#REF!)>0,\"Tak\",\"\")","v":{"$error":"#REF!"}},{"$f":"IF(OR(G211<0,J211<0,#REF!<0,#REF!<0),\"ujemny plan\",\"\")","v":{"$error":"#REF!"}}]
["DWB/5/ND/PC","wpływy z najmu i dzierżawy Portu Czerniakowskiego","900","90095","0750",null,null,null,{"$error":"#DIV/0!"},null,null,{"$error":"#DIV/0!"},{"$error":"#DIV/0!"},{"$f":"IF(SUM(#REF!)>0,\"Tak\",\"\")","v":{"$error":"#REF!"}},{"$f":"IF(OR(G212<0,J212<0,#REF!<0,#REF!<0),\"ujemny plan\",\"\")","v":{"$error":"#REF!"}}]
["DWB/5/ND/PO","pozostałe dochody z najmu i dzierżawy",null,null,"0750",null,{"$f":"SUM(G214:G247)","v":2511328},2705618.75,1.0773657403572929,1468328,1495973.44,1.0188278368320973,"Tak",{"$f":"IF(SUM(#REF!)>0,\"Tak\",\"\")","v":{"$error":"#REF!"}},{"$f":"IF(OR(G213<0,J213<0,#REF!<0,#REF!<0),\"ujemny plan\",\"\")","v":{"$error":"#REF!"}}]
["DWB/5/ND/PO","pozostałe dochody z najmu i dzierżawy","020","02001","0750","GMMW",0,116.91,null,0,116.91,null,"Tak",{"$f":"IF(SUM(#REF!)>0,\"Tak\",\"\")","v":{"$error":"#REF!"}},{"$f":"IF(OR(G214<0,J214<0,#REF!<0,#REF!<0),\"ujemny plan\",\"\")","v":{"$error":"#REF!"}}]
["DWB/5/ND/PO","pozostałe dochody z najmu i dzierżawy",600,60004,"0750","GMMW",null,null,{"$error":"#DIV/0!"},null,null,{"$error":"#DIV/0!"},{"$error":"#DIV/0!"},{"$f":"IF(SUM(#REF!)>0,\"Tak\",\"\")","v":{"$error":"#REF!"}},{"$f":"IF(OR(G215<0,J215<0,#REF!<0,#REF!<0),\"ujemny plan\",\"\")","v":{"$error":"#REF!"}}]
["DWB/5/ND/PO","pozostałe dochody z najmu i dzierżawy",600,60004,"0750","GUPP",null,null,{"$error":"#DIV/0!"},null,null,{"$error":"#DIV/0!"},{"$error":"#DIV/0!"},{"$f":"IF(SUM(#REF!)>0,\"Tak\",\"\")","v":{"$error":"#REF!"}},{"$f":"IF(OR(G216<0,J216<0,#REF!<0,#REF!<0),\"ujemny plan\",\"\")","v":{"$error":"#REF!"}}]
["DWB/5/ND/PO","pozostałe dochody z najmu i dzierżawy",600,60015,"0750","GMMW",null,null,{"$error":"#DIV/0!"},null,null,{"$error":"#DIV/0!"},{"$error":"#DIV/0!"},{"$f":"IF(SUM(#REF!)>0,\"Tak\",\"\")","v":{"$error":"#REF!"}},{"$f":"IF(OR(G217<0,J217<0,#REF!<0,#REF!<0),\"ujemny plan\",\"\")","v":{"$error":"#REF!"}}]
["DWB/5/ND/PO","pozostałe dochody z najmu i dzierżawy",600,60016,"0750",null,null,null,{"$error":"#DIV/0!"},null,null,{"$error":"#DIV/0!"},{"$error":"#DIV/0!"},{"$f":"IF(SUM(#REF!)>0,\"Tak\",\"\")","v":{"$error":"#REF!"}},{"$f":"IF(OR(G218<0,J218<0,#REF!<0,#REF!<0),\"ujemny plan\",\"\")","v":{"$error":"#REF!"}}]
["DWB/5/ND/PO","pozostałe dochody z najmu i dzierżawy",600,"60020","0750","GMMW",null,null,{"$error":"#DIV/0!"},null,null,{"$error":"#DIV/0!"},{"$error":"#DIV/0!"},{"$f":"IF(SUM(#REF!)>0,\"Tak\",\"\")","v":{"$error":"#REF!"}},{"$f":"IF(OR(G219<0,J219<0,#REF!<0,#REF!<0),\"ujemny plan\",\"\")","v":{"$error":"#REF!"}}]
["DWB/5/ND/PO","pozostałe dochody z najmu i dzierżawy",600,"60021","0750",null,null,null,{"$error":"#DIV/0!"},null,null,{"$error":"#DIV/0!"},{"$error":"#DIV/0!"},{"$f":"IF(SUM(#REF!)>0,\"Tak\",\"\")","v":{"$error":"#REF!"}},{"$f":"IF(OR(G220<0,J220<0,#REF!<0,#REF!<0),\"ujemny plan\",\"\")","v":{"$error":"#REF!"}}]
["DWB/5/ND/PO","pozostałe dochody z najmu i dzierżawy",700,70004,"0750",null,null,null,{"$error":"#DIV/0!"},null,null,{"$error":"#DIV/0!"},{"$error":"#DIV/0!"},{"$f":"IF(SUM(#REF!)>0,\"Tak\",\"\")","v":{"$error":"#REF!"}},{"$f":"IF(OR(G221<0,J221<0,#REF!<0,#REF!<0),\"ujemny plan\",\"\")","v":{"$error":"#REF!"}}]
["DWB/5/ND/PO","pozostałe dochody z najmu i dzierżawy",700,70005,"0750","GMMW",1414328,1443468.27,1.020603615285846,1414328,1443468.27,1.020603615285846,"Tak",{"$f":"IF(SUM(#REF!)>0,\"Tak\",\"\")","v":{"$error":"#REF!"}},{"$f":"IF(OR(G222<0,J222<0,#REF!<0,#REF!<0),\"ujemny plan\",\"\")","v":{"$error":"#REF!"}}]
["DWB/5/ND/PO","pozostałe dochody z najmu i dzierżawy",750,75023,"0750","GMMW",54000,52388.26,0.97015296296296305,54000,52388.26,0.97015296296296305,"Tak",{"$f":"IF(SUM(#REF!)>0,\"Tak\",\"\")","v":{"$error":"#REF!"}},{"$f":"IF(OR(G223<0,J223<0,#REF!<0,#REF!<0),\"ujemny plan\",\"\")","v":{"$error":"#REF!"}}]
["DWB/5/ND/PO","pozostałe dochody z najmu i dzierżawy","754","75416","0750","GMMW",null,null,{"$error":"#DIV/0!"},null,null,{"$error":"#DIV/0!"},{"$error":"#DIV/0!"},{"$f":"IF(SUM(#REF!)>0,\"Tak\",\"\")","v":{"$error":"#REF!"}},{"$f":"IF(OR(G224<0,J224<0,#REF!<0,#REF!<0),\"ujemny plan\",\"\")","v":{"$error":"#REF!"}}]
["DWB/5/ND/PO","pozostałe dochody z najmu i dzierżawy",801,80101,"0750","GMMW",null,null,{"$error":"#DIV/0!"},null,null,{"$error":"#DIV/0!"},{"$error":"#DIV/0!"},{"$f":"IF(SUM(#REF!)>0,\"Tak\",\"\")","v":{"$error":"#REF!"}},{"$f":"IF(OR(G225<0,J225<0,#REF!<0,#REF!<0),\"ujemny plan\",\"\")","v":{"$error":"#REF!"}}]
["DWB/5/ND/PO","pozostałe dochody z najmu i dzierżawy",801,80102,"0750","PWMW",null,null,{"$error":"#DIV/0!"},null,null,{"$error":"#DIV/0!"},{"$error":"#DIV/0!"},{"$f":"IF(SUM(#REF!)>0,\"Tak\",\"\")","v":{"$error":"#REF!"}},{"$f":"IF(OR(G226<0,J226<0,#REF!<0,#REF!<0),\"ujemny plan\",\"\")","v":{"$error":"#REF!"}}]
["DWB/5/ND/PO","pozostałe dochody z najmu i dzierżawy",801,80104,"0750","GMMW",null,null,{"$error":"#DIV/0!"},null,null,{"$error":"#DIV/0!"},{"$error":"#DIV/0!"},{"$f":"IF(SUM(#REF!)>0,\"Tak\",\"\")","v":{"$error":"#REF!"}},{"$f":"IF(OR(G227<0,J227<0,#REF!<0,#REF!<0),\"ujemny plan\",\"\")","v":{"$error":"#REF!"}}]
["DWB/5/ND/PO","pozostałe dochody z najmu i dzierżawy",801,80120,"0750","GMMW",null,null,{"$error":"#DIV/0!"},null,null,{"$error":"#DIV/0!"},{"$error":"#DIV/0!"},{"$f":"IF(SUM(#REF!)>0,\"Tak\",\"\")","v":{"$error":"#REF!"}},{"$f":"IF(OR(G228<0,J228<0,#REF!<0,#REF!<0),\"ujemny plan\",\"\")","v":{"$error":"#REF!"}}]
["DWB/5/ND/PO","pozostałe dochody z najmu i dzierżawy",801,80134,"0750","PWMW",null,null,{"$error":"#DIV/0!"},null,null,{"$error":"#DIV/0!"},{"$error":"#DIV/0!"},{"$f":"IF(SUM(#REF!)>0,\"Tak\",\"\")","v":{"$error":"#REF!"}},{"$f":"IF(OR(G229<0,J229<0,#REF!<0,#REF!<0),\"ujemny plan\",\"\")","v":{"$error":"#REF!"}}]
["DWB/5/ND/PO","pozostałe dochody z najmu i dzierżawy",801,80140,"0750","GMMW",null,null,{"$error":"#DIV/0!"},null,null,{"$error":"#DIV/0!"},{"$error":"#DIV/0!"},{"$f":"IF(SUM(#REF!)>0,\"Tak\",\"\")","v":{"$error":"#REF!"}},{"$f":"IF(OR(G230<0,J230<0,#REF!<0,#REF!<0),\"ujemny plan\",\"\")","v":{"$error":"#REF!"}}]
["DWB/5/ND/PO","pozostałe dochody z najmu i dzierżawy",801,80148,"0750",null,null,null,{"$error":"#DIV/0!"},null,null,{"$error":"#DIV/0!"},{"$error":"#DIV/0!"},{"$f":"IF(SUM(#REF!)>0,\"Tak\",\"\")","v":{"$error":"#REF!"}},{"$f":"IF(OR(G231<0,J231<0,#REF!<0,#REF!<0),\"ujemny plan\",\"\")","v":{"$error":"#REF!"}}]
["DWB/5/ND/PO","pozostałe dochody z najmu i dzierżawy",851,85158,"0750","GMMW",null,null,{"$error":"#DIV/0!"},null,null,{"$error":"#DIV/0!"},{"$error":"#DIV/0!"},{"$f":"IF(SUM(#REF!)>0,\"Tak\",\"\")","v":{"$error":"#REF!"}},{"$f":"IF(OR(G232<0,J232<0,#REF!<0,#REF!<0),\"ujemny plan\",\"\")","v":{"$error":"#REF!"}}]
["DWB/5/ND/PO","pozostałe dochody z najmu i dzierżawy",852,85202,"0750","PWMW",null,null,{"$error":"#DIV/0!"},null,null,{"$error":"#DIV/0!"},{"$error":"#DIV/0!"},{"$f":"IF(SUM(#REF!)>0,\"Tak\",\"\")","v":{"$error":"#REF!"}},{"$f":"IF(OR(G233<0,J233<0,#REF!<0,#REF!<0),\"ujemny plan\",\"\")","v":{"$error":"#REF!"}}]
["DWB/5/ND/PO","pozostałe dochody z najmu i dzierżawy",852,"85219","0750","GMMW",null,null,{"$error":"#DIV/0!"},null,null,{"$error":"#DIV/0!"},{"$error":"#DIV/0!"},{"$f":"IF(SUM(#REF!)>0,\"Tak\",\"\")","v":{"$error":"#REF!"}},{"$f":"IF(OR(G234<0,J234<0,#REF!<0,#REF!<0),\"ujemny plan\",\"\")","v":{"$error":"#REF!"}}]
["DWB/5/ND/PO","pozostałe dochody z najmu i dzierżawy",854,85403,"0750","PWMW",null,null,{"$error":"#DIV/0!"},null,null,{"$error":"#DIV/0!"},{"$error":"#DIV/0!"},{"$f":"IF(SUM(#REF!)>0,\"Tak\",\"\")","v":{"$error":"#REF!"}},{"$f":"IF(OR(G235<0,J235<0,#REF!<0,#REF!<0),\"ujemny plan\",\"\")","v":{"$error":"#REF!"}}]
["DWB/5/ND/PO","pozostałe dochody z najmu i dzierżawy",854,85407,"0750","GMMW",null,null,{"$error":"#DIV/0!"},null,null,{"$error":"#DIV/0!"},{"$error":"#DIV/0!"},{"$f":"IF(SUM(#REF!)>0,\"Tak\",\"\")","v":{"$error":"#REF!"}},{"$f":"IF(OR(G236<0,J236<0,#REF!<0,#REF!<0),\"ujemny plan\",\"\")","v":{"$error":"#REF!"}}]
["DWB/5/ND/PO","pozostałe dochody z najmu i dzierżawy",854,85407,"0750","PWMW",null,null,{"$error":"#DIV/0!"},null,null,{"$error":"#DIV/0!"},{"$error":"#DIV/0!"},{"$f":"IF(SUM(#REF!)>0,\"Tak\",\"\")","v":{"$error":"#REF!"}},{"$f":"IF(OR(G237<0,J237<0,#REF!<0,#REF!<0),\"ujemny plan\",\"\")","v":{"$error":"#REF!"}}]
["DWB/5/ND/PO","pozostałe dochody z najmu i dzierżawy",854,85410,"0750","PWMW",null,null,{"$error":"#DIV/0!"},null,null,{"$error":"#DIV/0!"},{"$error":"#DIV/0!"},{"$f":"IF(SUM(#REF!)>0,\"Tak\",\"\")","v":{"$error":"#REF!"}},{"$f":"IF(OR(G238<0,J238<0,#REF!<0,#REF!<0),\"ujemny plan\",\"\")","v":{"$error":"#REF!"}}]
["DWB/5/ND/PO","pozostałe dochody z najmu i dzierżawy",854,"85417","0750","PWMW",null,null,{"$error":"#DIV/0!"},null,null,{"$error":"#DIV/0!"},{"$error":"#DIV/0!"},{"$f":"IF(SUM(#REF!)>0,\"Tak\",\"\")","v":{"$error":"#REF!"}},{"$f":"IF(OR(G239<0,J239<0,#REF!<0,#REF!<0),\"ujemny plan\",\"\")","v":{"$error":"#REF!"}}]
["DWB/5/ND/PO","pozostałe dochody z najmu i dzierżawy",854,85420,"0750","PWMW",null,null,{"$error":"#DIV/0!"},null,null,{"$error":"#DIV/0!"},{"$error":"#DIV/0!"},{"$f":"IF(SUM(#REF!)>0,\"Tak\",\"\")","v":{"$error":"#REF!"}},{"$f":"IF(OR(G240<0,J240<0,#REF!<0,#REF!<0),\"ujemny plan\",\"\")","v":{"$error":"#REF!"}}]
["DWB/5/ND/PO","pozostałe dochody z najmu i dzierżawy",854,85421,"0750","PWMW",null,null,{"$error":"#DIV/0!"},null,null,{"$error":"#DIV/0!"},{"$error":"#DIV/0!"},{"$f":"IF(SUM(#REF!)>0,\"Tak\",\"\")","v":{"$error":"#REF!"}},{"$f":"IF(OR(G241<0,J241<0,#REF!<0,#REF!<0),\"ujemny plan\",\"\")","v":{"$error":"#REF!"}}]
["DWB/5/ND/PO","pozostałe dochody z najmu i dzierżawy","855","85510","0750","PWMW",null,null,{"$error":"#DIV/0!"},null,null,{"$error":"#DIV/0!"},{"$error":"#DIV/0!"},{"$f":"IF(SUM(#REF!)>0,\"Tak\",\"\")","v":{"$error":"#REF!"}},{"$f":"IF(OR(G242<0,J242<0,#REF!<0,#REF!<0),\"ujemny plan\",\"\")","v":{"$error":"#REF!"}}]
["DWB/5/ND/PO","pozostałe dochody z najmu i dzierżawy",900,90002,"0750",null,null,null,{"$error":"#DIV/0!"},null,null,{"$error":"#DIV/0!"},{"$error":"#DIV/0!"},{"$f":"IF(SUM(#REF!)>0,\"Tak\",\"\")","v":{"$error":"#REF!"}},{"$f":"IF(OR(G243<0,J243<0,#REF!<0,#REF!<0),\"ujemny plan\",\"\")","v":{"$error":"#REF!"}}]
["DWB/5/ND/PO","pozostałe dochody z najmu i dzierżawy",900,90003,"0750","GMMW",null,null,{"$error":"#DIV/0!"},null,null,{"$error":"#DIV/0!"},{"$error":"#DIV/0!"},{"$f":"IF(SUM(#REF!)>0,\"Tak\",\"\")","v":{"$error":"#REF!"}},{"$f":"IF(OR(G244<0,J244<0,#REF!<0,#REF!<0),\"ujemny plan\",\"\")","v":{"$error":"#REF!"}}]
["DWB/5/ND/PO","pozostałe dochody z najmu i dzierżawy",900,90095,"0750",null,null,null,{"$error":"#DIV/0!"},null,null,{"$error":"#DIV/0!"},{"$error":"#DIV/0!"},{"$f":"IF(SUM(#REF!)>0,\"Tak\",\"\")","v":{"$error":"#REF!"}},{"$f":"IF(OR(G245<0,J245<0,#REF!<0,#REF!<0),\"ujemny plan\",\"\")","v":{"$error":"#REF!"}}]
["DWB/5/ND/PO","pozostałe dochody z najmu i dzierżawy",925,92504,"0750","GMMW",null,null,{"$error":"#DIV/0!"},null,null,{"$error":"#DIV/0!"},{"$error":"#DIV/0!"},{"$f":"IF(SUM(#REF!)>0,\"Tak\",\"\")","v":{"$error":"#REF!"}},{"$f":"IF(OR(G246<0,J246<0,#REF!<0,#REF!<0),\"ujemny plan\",\"\")","v":{"$error":"#REF!"}}]
["DWB/5/ND/PO","pozostałe dochody z najmu i dzierżawy",926,92604,"0750","GMMW",1043000,1209645.31,1.1597749856184085,0,0,null,"Tak",{"$f":"IF(SUM(#REF!)>0,\"Tak\",\"\")","v":{"$error":"#REF!"}},{"$f":"IF(OR(G247<0,J247<0,#REF!<0,#REF!<0),\"ujemny plan\",\"\")","v":{"$error":"#REF!"}}]
["DWB/5/ND/PR","wpływy z najmu powierzchni pod reklamy",null,null,"0750",null,{"$f":"SUM(G249:G275)","v":3900},13110.53,3.361674358974359,0,0,null,"Tak",{"$f":"IF(SUM(#REF!)>0,\"Tak\",\"\")","v":{"$error":"#REF!"}},{"$f":"IF(OR(G248<0,J248<0,#REF!<0,#REF!<0),\"ujemny plan\",\"\")","v":{"$error":"#REF!"}}]
["DWB/5/ND/PR","wpływy z najmu powierzchni pod reklamy",600,60004,"0750",null,null,null,{"$error":"#DIV/0!"},null,null,{"$error":"#DIV/0!"},{"$error":"#DIV/0!"},{"$f":"IF(SUM(#REF!)>0,\"Tak\",\"\")","v":{"$error":"#REF!"}},{"$f":"IF(OR(G249<0,J249<0,#REF!<0,#REF!<0),\"ujemny plan\",\"\")","v":{"$error":"#REF!"}}]
["DWB/5/ND/PR","wpływy z najmu powierzchni pod reklamy",600,60015,"0750",null,null,null,{"$error":"#DIV/0!"},null,null,{"$error":"#DIV/0!"},{"$error":"#DIV/0!"},{"$f":"IF(SUM(#REF!)>0,\"Tak\",\"\")","v":{"$error":"#REF!"}},{"$f":"IF(OR(G250<0,J250<0,#REF!<0,#REF!<0),\"ujemny plan\",\"\")","v":{"$error":"#REF!"}}]
["DWB/5/ND/PR","wpływy z najmu powierzchni pod reklamy",600,60016,"0750","GMMW",null,null,{"$error":"#DIV/0!"},null,null,{"$error":"#DIV/0!"},{"$error":"#DIV/0!"},{"$f":"IF(SUM(#REF!)>0,\"Tak\",\"\")","v":{"$error":"#REF!"}},{"$f":"IF(OR(G251<0,J251<0,#REF!<0,#REF!<0),\"ujemny plan\",\"\")","v":{"$error":"#REF!"}}]
["DWB/5/ND/PR","wpływy z najmu powierzchni pod reklamy",700,70004,"0750",null,null,null,{"$error":"#DIV/0!"},null,null,{"$error":"#DIV/0!"},{"$error":"#DIV/0!"},{"$f":"IF(SUM(#REF!)>0,\"Tak\",\"\")","v":{"$error":"#REF!"}},{"$f":"IF(OR(G252<0,J252<0,#REF!<0,#REF!<0),\"ujemny plan\",\"\")","v":{"$error":"#REF!"}}]
["DWB/5/ND/PR","wpływy z najmu powierzchni pod reklamy",700,70005,"0750","GMMW",null,null,{"$error":"#DIV/0!"},null,null,{"$error":"#DIV/0!"},{"$error":"#DIV/0!"},{"$f":"IF(SUM(#REF!)>0,\"Tak\",\"\")","v":{"$error":"#REF!"}},{"$f":"IF(OR(G253<0,J253<0,#REF!<0,#REF!<0),\"ujemny plan\",\"\")","v":{"$error":"#REF!"}}]
["DWB/5/ND/PR","wpływy z najmu powierzchni pod reklamy",750,75023,"0750",null,null,null,{"$error":"#DIV/0!"},null,null,{"$error":"#DIV/0!"},{"$error":"#DIV/0!"},{"$f":"IF(SUM(#REF!)>0,\"Tak\",\"\")","v":{"$error":"#REF!"}},{"$f":"IF(OR(G254<0,J254<0,#REF!<0,#REF!<0),\"ujemny plan\",\"\")","v":{"$error":"#REF!"}}]
["DWB/5/ND/PR","wpływy z najmu powierzchni pod reklamy",801,80101,"0750",null,null,null,{"$error":"#DIV/0!"},null,null,{"$error":"#DIV/0!"},{"$error":"#DIV/0!"},{"$f":"IF(SUM(#REF!)>0,\"Tak\",\"\")","v":{"$error":"#REF!"}},{"$f":"IF(OR(G255<0,J255<0,#REF!<0,#REF!<0),\"ujemny plan\",\"\")","v":{"$error":"#REF!"}}]
["DWB/5/ND/PR","wpływy z najmu powierzchni pod reklamy",801,80102,"0750",null,null,null,{"$error":"#DIV/0!"},null,null,{"$error":"#DIV/0!"},{"$error":"#DIV/0!"},{"$f":"IF(SUM(#REF!)>0,\"Tak\",\"\")","v":{"$error":"#REF!"}},{"$f":"IF(OR(G256<0,J256<0,#REF!<0,#REF!<0),\"ujemny plan\",\"\")","v":{"$error":"#REF!"}}]
["DWB/5/ND/PR","wpływy z najmu powierzchni pod reklamy",801,80104,"0750",null,null,null,{"$error":"#DIV/0!"},null,null,{"$error":"#DIV/0!"},{"$error":"#DIV/0!"},{"$f":"IF(SUM(#REF!)>0,\"Tak\",\"\")","v":{"$error":"#REF!"}},{"$f":"IF(OR(G257<0,J257<0,#REF!<0,#REF!<0),\"ujemny plan\",\"\")","v":{"$error":"#REF!"}}]
["DWB/5/ND/PR","wpływy z najmu powierzchni pod reklamy",801,80120,"0750",null,null,null,{"$error":"#DIV/0!"},null,null,{"$error":"#DIV/0!"},{"$error":"#DIV/0!"},{"$f":"IF(SUM(#REF!)>0,\"Tak\",\"\")","v":{"$error":"#REF!"}},{"$f":"IF(OR(G258<0,J258<0,#REF!<0,#REF!<0),\"ujemny plan\",\"\")","v":{"$error":"#REF!"}}]
["DWB/5/ND/PR","wpływy z najmu powierzchni pod reklamy",801,80134,"0750",null,null,null,{"$error":"#DIV/0!"},null,null,{"$error":"#DIV/0!"},{"$error":"#DIV/0!"},{"$f":"IF(SUM(#REF!)>0,\"Tak\",\"\")","v":{"$error":"#REF!"}},{"$f":"IF(OR(G259<0,J259<0,#REF!<0,#REF!<0),\"ujemny plan\",\"\")","v":{"$error":"#REF!"}}]
["DWB/5/ND/PR","wpływy z najmu powierzchni pod reklamy",801,80140,"0750",null,null,null,{"$error":"#DIV/0!"},null,null,{"$error":"#DIV/0!"},{"$error":"#DIV/0!"},{"$f":"IF(SUM(#REF!)>0,\"Tak\",\"\")","v":{"$error":"#REF!"}},{"$f":"IF(OR(G260<0,J260<0,#REF!<0,#REF!<0),\"ujemny plan\",\"\")","v":{"$error":"#REF!"}}]
["DWB/5/ND/PR","wpływy z najmu powierzchni pod reklamy",801,80148,"0750",null,null,null,{"$error":"#DIV/0!"},null,null,{"$error":"#DIV/0!"},{"$error":"#DIV/0!"},{"$f":"IF(SUM(#REF!)>0,\"Tak\",\"\")","v":{"$error":"#REF!"}},{"$f":"IF(OR(G261<0,J261<0,#REF!<0,#REF!<0),\"ujemny plan\",\"\")","v":{"$error":"#REF!"}}]
["DWB/5/ND/PR","wpływy z najmu powierzchni pod reklamy",851,85158,"0750","GMMW",null,null,{"$error":"#DIV/0!"},null,null,{"$error":"#DIV/0!"},{"$error":"#DIV/0!"},{"$f":"IF(SUM(#REF!)>0,\"Tak\",\"\")","v":{"$error":"#REF!"}},{"$f":"IF(OR(G262<0,J262<0,#REF!<0,#REF!<0),\"ujemny plan\",\"\")","v":{"$error":"#REF!"}}]
["DWB/5/ND/PR","wpływy z najmu powierzchni pod reklamy",852,85202,"0750","PWMW",null,null,{"$error":"#DIV/0!"},null,null,{"$error":"#DIV/0!"},{"$error":"#DIV/0!"},{"$f":"IF(SUM(#REF!)>0,\"Tak\",\"\")","v":{"$error":"#REF!"}},{"$f":"IF(OR(G263<0,J263<0,#REF!<0,#REF!<0),\"ujemny plan\",\"\")","v":{"$error":"#REF!"}}]
["DWB/5/ND/PR","wpływy z najmu powierzchni pod reklamy",854,85403,"0750",null,null,null,{"$error":"#DIV/0!"},null,null,{"$error":"#DIV/0!"},{"$f":"IF(SUM(G264:L264)>0,\"Tak\",\"\")","v":{"$error":"#DIV/0!"}},{"$f":"IF(SUM(#REF!)>0,\"Tak\",\"\")","v":{"$error":"#REF!"}},{"$f":"IF(OR(G264<0,J264<0,#REF!<0,#REF!<0),\"ujemny plan\",\"\")","v":{"$error":"#REF!"}}]
["DWB/5/ND/PR","wpływy z najmu powierzchni pod reklamy",854,85407,"0750",null,null,null,{"$f":"H265/G265","v":{"$error":"#DIV/0!"}},null,null,{"$f":"K265/J265","v":{"$error":"#DIV/0!"}},{"$error":"#DIV/0!"},{"$f":"IF(SUM(#REF!)>0,\"Tak\",\"\")","v":{"$error":"#REF!"}},{"$f":"IF(OR(G265<0,J265<0,#REF!<0,#REF!<0),\"ujemny plan\",\"\")","v":{"$error":"#REF!"}}]
["DWB/5/ND/PR","wpływy z najmu powierzchni pod reklamy",854,85410,"0750",null,null,null,{"$error":"#DIV/0!"},null,null,{"$error":"#DIV/0!"},{"$error":"#DIV/0!"},{"$f":"IF(SUM(#REF!)>0,\"Tak\",\"\")","v":{"$error":"#REF!"}},{"$f":"IF(OR(G266<0,J266<0,#REF!<0,#REF!<0),\"ujemny plan\",\"\")","v":{"$error":"#REF!"}}]
["DWB/5/ND/PR","wpływy z najmu powierzchni pod reklamy",854,85412,"0750",null,null,null,{"$error":"#DIV/0!"},null,null,{"$error":"#DIV/0!"},{"$error":"#DIV/0!"},{"$f":"IF(SUM(#REF!)>0,\"Tak\",\"\")","v":{"$error":"#REF!"}},{"$f":"IF(OR(G267<0,J267<0,#REF!<0,#REF!<0),\"ujemny plan\",\"\")","v":{"$error":"#REF!"}}]
["DWB/5/ND/PR","wpływy z najmu powierzchni pod reklamy",854,85420,"0750",null,null,null,{"$error":"#DIV/0!"},null,null,{"$error":"#DIV/0!"},{"$error":"#DIV/0!"},{"$f":"IF(SUM(#REF!)>0,\"Tak\",\"\")","v":{"$error":"#REF!"}},{"$f":"IF(OR(G268<0,J268<0,#REF!<0,#REF!<0),\"ujemny plan\",\"\")","v":{"$error":"#REF!"}}]
["DWB/5/ND/PR","wpływy z najmu powierzchni pod reklamy",854,85421,"0750",null,null,null,{"$error":"#DIV/0!"},null,null,{"$error":"#DIV/0!"},{"$error":"#DIV/0!"},{"$f":"IF(SUM(#REF!)>0,\"Tak\",\"\")","v":{"$error":"#REF!"}},{"$f":"IF(OR(G269<0,J269<0,#REF!<0,#REF!<0),\"ujemny plan\",\"\")","v":{"$error":"#REF!"}}]
["DWB/5/ND/PR","wpływy z najmu powierzchni pod reklamy","855","85510","0750","PWMW",null,null,{"$error":"#DIV/0!"},null,null,{"$error":"#DIV/0!"},{"$error":"#DIV/0!"},{"$f":"IF(SUM(#REF!)>0,\"Tak\",\"\")","v":{"$error":"#REF!"}},{"$f":"IF(OR(G270<0,J270<0,#REF!<0,#REF!<0),\"ujemny plan\",\"\")","v":{"$error":"#REF!"}}]
["DWB/5/ND/PR","wpływy z najmu powierzchni pod reklamy",900,90002,"0750",null,null,null,{"$error":"#DIV/0!"},null,null,{"$error":"#DIV/0!"},{"$error":"#DIV/0!"},{"$f":"IF(SUM(#REF!)>0,\"Tak\",\"\")","v":{"$error":"#REF!"}},{"$f":"IF(OR(G271<0,J271<0,#REF!<0,#REF!<0),\"ujemny plan\",\"\")","v":{"$error":"#REF!"}}]
["DWB/5/ND/PR","wpływy z najmu powierzchni pod reklamy",900,90003,"0750",null,null,null,{"$error":"#DIV/0!"},null,null,{"$error":"#DIV/0!"},{"$error":"#DIV/0!"},{"$f":"IF(SUM(#REF!)>0,\"Tak\",\"\")","v":{"$error":"#REF!"}},{"$f":"IF(OR(G272<0,J272<0,#REF!<0,#REF!<0),\"ujemny plan\",\"\")","v":{"$error":"#REF!"}}]
["DWB/5/ND/PR","wpływy z najmu powierzchni pod reklamy",900,90095,"0750","GMMW",null,null,{"$error":"#DIV/0!"},null,null,{"$error":"#DIV/0!"},{"$error":"#DIV/0!"},{"$f":"IF(SUM(#REF!)>0,\"Tak\",\"\")","v":{"$error":"#REF!"}},{"$f":"IF(OR(G273<0,J273<0,#REF!<0,#REF!<0),\"ujemny plan\",\"\")","v":{"$error":"#REF!"}}]
["DWB/5/ND/PR","wpływy z najmu powierzchni pod reklamy",925,92504,"0750","GMMW",null,null,{"$error":"#DIV/0!"},null,null,{"$error":"#DIV/0!"},{"$error":"#DIV/0!"},{"$f":"IF(SUM(#REF!)>0,\"Tak\",\"\")","v":{"$error":"#REF!"}},{"$f":"IF(OR(G274<0,J274<0,#REF!<0,#REF!<0),\"ujemny plan\",\"\")","v":{"$error":"#REF!"}}]
["DWB/5/ND/PR","wpływy z najmu powierzchni pod reklamy",926,92604,"0750","GMMW",3900,13110.53,3.361674358974359,0,0,null,"Tak",{"$f":"IF(SUM(#REF!)>0,\"Tak\",\"\")","v":{"$error":"#REF!"}},{"$f":"IF(OR(G275<0,J275<0,#REF!<0,#REF!<0),\"ujemny plan\",\"\")","v":{"$error":"#REF!"}}]
["DWB/5/LP","Wpłaty środków pozostałych po likwidacji przedsiębiorstw","758","75814","0810","GMMW",null,null,{"$error":"#DIV/0!"},null,null,{"$error":"#DIV/0!"},{"$error":"#DIV/0!"},{"$f":"IF(SUM(#REF!)>0,\"Tak\",\"\")","v":{"$error":"#REF!"}},{"$f":"IF(OR(G276<0,J276<0,#REF!<0,#REF!<0),\"ujemny plan\",\"\")","v":{"$error":"#REF!"}}]
["DWB/5/OB","Odsetki od środków na rachunkach bankowych","758","75814","0920","GMMW",null,null,{"$error":"#DIV/0!"},null,null,{"$error":"#DIV/0!"},{"$error":"#DIV/0!"},{"$f":"IF(SUM(#REF!)>0,\"Tak\",\"\")","v":{"$error":"#REF!"}},{"$f":"IF(OR(G277<0,J277<0,#REF!<0,#REF!<0),\"ujemny plan\",\"\")","v":{"$error":"#REF!"}}]
["DWB/6","Pozostałe dochody ",null,null,null,null,{"$f":"SUM(G279,G346,G447,G531,G534,G573,G582,G658,G671,G829,G846,G885,G888,G904,G802,G966)","v":12618972},{"$f":"SUM(H279,H346,H447,H531,H534,H573,H582,H658,H671,H829,H846,H885,H888,H904,H802,H966)","v":12497929.069999998},0.99040786127427805,{"$f":"SUM(J279,J346,J447,J531,J534,J573,J582,J658,J671,J829,J846,J885,J888,J904,J802,J966)","v":3430159},{"$f":"SUM(K279,K346,K447,K531,K534,K573,K582,K658,K671,K829,K846,K885,K888,K904,K802,K966)","v":3311290.7199999997},0.96534613118517243,"Tak",{"$f":"IF(SUM(#REF!)>0,\"Tak\",\"\")","v":{"$error":"#REF!"}},{"$f":"IF(OR(G278<0,J278<0,#REF!<0,#REF!<0),\"ujemny plan\",\"\")","v":{"$error":"#REF!"}}]
["DWB/6/MP","Mandaty i kary pieniężne",null,null,null,null,{"$f":"SUM(G280,G292,G343,G287)","v":255900},{"$f":"SUM(H280,H292,H343,H287)","v":278613.12},1.088757796014068,255900,{"$f":"SUM(K280,K292,K343,K287)","v":277182.88},1.0831687377881984,"Tak",{"$f":"IF(SUM(#REF!)>0,\"Tak\",\"\")","v":{"$error":"#REF!"}},{"$f":"IF(OR(G279<0,J279<0,#REF!<0,#REF!<0),\"ujemny plan\",\"\")","v":{"$error":"#REF!"}}]
["DWB/6/MP/GF","Kary umowne za naruszenie zasad korzystania ze środowiska",null,null,null,null,{"$f":"SUM(G281,G284)","v":0},null,{"$error":"#DIV/0!"},{"$f":"SUM(J281,J284)","v":0},null,{"$error":"#DIV/0!"},{"$error":"#DIV/0!"},{"$f":"IF(SUM(#REF!)>0,\"Tak\",\"\")","v":{"$error":"#REF!"}},{"$f":"IF(OR(G280<0,J280<0,#REF!<0,#REF!<0),\"ujemny plan\",\"\")","v":{"$error":"#REF!"}}]
["DWB/6/MP/GF","Kary umowne za naruszenie zasad korzystania ze środowiska",null,null,"0570",null,{"$f":"SUM(G282:G283)","v":0},null,{"$error":"#DIV/0!"},0,null,{"$error":"#DIV/0!"},{"$error":"#DIV/0!"},{"$f":"IF(SUM(#REF!)>0,\"Tak\",\"\")","v":{"$error":"#REF!"}},{"$f":"IF(OR(G281<0,J281<0,#REF!<0,#REF!<0),\"ujemny plan\",\"\")","v":{"$error":"#REF!"}}]
["DWB/6/MP/GF","Kary umowne za naruszenie zasad korzystania ze środowiska","900","90019","0570","GPOS",null,null,{"$error":"#DIV/0!"},null,null,{"$error":"#DIV/0!"},{"$error":"#DIV/0!"},{"$f":"IF(SUM(#REF!)>0,\"Tak\",\"\")","v":{"$error":"#REF!"}},{"$f":"IF(OR(G282<0,J282<0,#REF!<0,#REF!<0),\"ujemny plan\",\"\")","v":{"$error":"#REF!"}}]
["DWB/6/MP/GF","Kary umowne za naruszenie zasad korzystania ze środowiska","900","90095","0570","GPOS",null,null,{"$error":"#DIV/0!"},null,null,{"$error":"#DIV/0!"},{"$error":"#DIV/0!"},{"$f":"IF(SUM(#REF!)>0,\"Tak\",\"\")","v":{"$error":"#REF!"}},{"$f":"IF(OR(G283<0,J283<0,#REF!<0,#REF!<0),\"ujemny plan\",\"\")","v":{"$error":"#REF!"}}]
["DWB/6/MP/GF","Kary umowne za naruszenie zasad korzystania ze środowiska",null,null,"0580",null,{"$f":"SUM(G285:G286)","v":0},null,{"$error":"#DIV/0!"},0,null,{"$error":"#DIV/0!"},{"$error":"#DIV/0!"},{"$f":"IF(SUM(#REF!)>0,\"Tak\",\"\")","v":{"$error":"#REF!"}},{"$f":"IF(OR(G284<0,J284<0,#REF!<0,#REF!<0),\"ujemny plan\",\"\")","v":{"$error":"#REF!"}}]
["DWB/6/MP/GF","Kary umowne za naruszenie zasad korzystania ze środowiska","900","90019","0580","GPOS",null,null,{"$error":"#DIV/0!"},null,null,{"$error":"#DIV/0!"},{"$error":"#DIV/0!"},{"$f":"IF(SUM(#REF!)>0,\"Tak\",\"\")","v":{"$error":"#REF!"}},{"$f":"IF(OR(G285<0,J285<0,#REF!<0,#REF!<0),\"ujemny plan\",\"\")","v":{"$error":"#REF!"}}]
["DWB/6/MP/GF","Kary umowne za naruszenie zasad korzystania ze środowiska","900","90095","0580","GPOS",null,null,{"$error":"#DIV/0!"},null,null,{"$error":"#DIV/0!"},{"$error":"#DIV/0!"},{"$f":"IF(SUM(#REF!)>0,\"Tak\",\"\")","v":{"$error":"#REF!"}},{"$f":"IF(OR(G286<0,J286<0,#REF!<0,#REF!<0),\"ujemny plan\",\"\")","v":{"$error":"#REF!"}}]
["DWB/6/MP/GK","Kary umowne na rzecz zasobu geodezyjnego i kartograficznego",null,null,null,null,{"$f":"SUM(G288,G290)","v":0},null,{"$error":"#DIV/0!"},{"$f":"SUM(J288,J290)","v":0},null,{"$error":"#DIV/0!"},{"$error":"#DIV/0!"},{"$f":"IF(SUM(#REF!)>0,\"Tak\",\"\")","v":{"$error":"#REF!"}},{"$f":"IF(OR(G287<0,J287<0,#REF!<0,#REF!<0),\"ujemny plan\",\"\")","v":{"$error":"#REF!"}}]
["DWB/6/MP/GK","Kary umowne na rzecz zasobu geodezyjnego i kartograficznego",null,null,"0570",null,{"$f":"SUM(G289:G289)","v":0},null,{"$error":"#DIV/0!"},0,null,{"$error":"#DIV/0!"},{"$error":"#DIV/0!"},{"$f":"IF(SUM(#REF!)>0,\"Tak\",\"\")","v":{"$error":"#REF!"}},{"$f":"IF(OR(G288<0,J288<0,#REF!<0,#REF!<0),\"ujemny plan\",\"\")","v":{"$error":"#REF!"}}]
["DWB/6/MP/GK","Kary umowne na rzecz zasobu geodezyjnego i kartograficznego","710","71012","0570",null,null,null,{"$error":"#DIV/0!"},null,null,{"$error":"#DIV/0!"},{"$error":"#DIV/0!"},{"$f":"IF(SUM(#REF!)>0,\"Tak\",\"\")","v":{"$error":"#REF!"}},{"$f":"IF(OR(G289<0,J289<0,#REF!<0,#REF!<0),\"ujemny plan\",\"\")","v":{"$error":"#REF!"}}]
["DWB/6/MP/GK","Kary umowne na rzecz zasobu geodezyjnego i kartograficznego",null,null,"0580",null,{"$f":"SUM(G291:G291)","v":0},null,{"$error":"#DIV/0!"},0,null,{"$error":"#DIV/0!"},{"$error":"#DIV/0!"},{"$f":"IF(SUM(#REF!)>0,\"Tak\",\"\")","v":{"$error":"#REF!"}},{"$f":"IF(OR(G290<0,J290<0,#REF!<0,#REF!<0),\"ujemny plan\",\"\")","v":{"$error":"#REF!"}}]
["DWB/6/MP/GK","Kary umowne na rzecz zasobu geodezyjnego i kartograficznego","710","71012","0580",null,null,null,{"$error":"#DIV/0!"},null,null,{"$error":"#DIV/0!"},{"$error":"#DIV/0!"},{"$f":"IF(SUM(#REF!)>0,\"Tak\",\"\")","v":{"$error":"#REF!"}},{"$f":"IF(OR(G291<0,J291<0,#REF!<0,#REF!<0),\"ujemny plan\",\"\")","v":{"$error":"#REF!"}}]
["DWB/6/MP/PO","Pozostałe mandaty i kary pieniężne",null,null,null,null,{"$f":"SUM(G293,G312,G327)","v":255900},278613.12,1.088757796014068,{"$f":"SUM(J293,J312,J327)","v":255900},{"$f":"SUM(K293,K312,K327)","v":277182.88},1.0831687377881984,"Tak",{"$f":"IF(SUM(#REF!)>0,\"Tak\",\"\")","v":{"$error":"#REF!"}},{"$f":"IF(OR(G292<0,J292<0,#REF!<0,#REF!<0),\"ujemny plan\",\"\")","v":{"$error":"#REF!"}}]
["DWB/6/MP/PO","Pozostałe mandaty i kary pieniężne",null,null,"0570",null,{"$f":"SUM(G294:G311)","v":5000},{"$f":"SUM(H294:H311)","v":4901.75},0.98035000000000005,{"$f":"SUM(J294:J311)","v":5000},{"$f":"SUM(K294:K311)","v":4901.75},0.98035000000000005,"Tak",{"$f":"IF(SUM(#REF!)>0,\"Tak\",\"\")","v":{"$error":"#REF!"}},{"$f":"IF(OR(G293<0,J293<0,#REF!<0,#REF!<0),\"ujemny plan\",\"\")","v":{"$error":"#REF!"}}]
["DWB/6/MP/PO","Pozostałe mandaty i kary pieniężne","600","60016","0570","GMMW",5000,4901.75,0.98035000000000005,5000,4901.75,0.98035000000000005,"Tak",{"$f":"IF(SUM(#REF!)>0,\"Tak\",\"\")","v":{"$error":"#REF!"}},{"$f":"IF(OR(G294<0,J294<0,#REF!<0,#REF!<0),\"ujemny plan\",\"\")","v":{"$error":"#REF!"}}]
["DWB/6/MP/PO","Pozostałe mandaty i kary pieniężne","600","60095","0570","GMMW",null,null,{"$error":"#DIV/0!"},null,null,{"$error":"#DIV/0!"},{"$error":"#DIV/0!"},{"$f":"IF(SUM(#REF!)>0,\"Tak\",\"\")","v":{"$error":"#REF!"}},{"$f":"IF(OR(G295<0,J295<0,#REF!<0,#REF!<0),\"ujemny plan\",\"\")","v":{"$error":"#REF!"}}]
["DWB/6/MP/PO","Pozostałe mandaty i kary pieniężne","700","70005","0570","GMMW",null,null,{"$error":"#DIV/0!"},null,null,{"$error":"#DIV/0!"},{"$error":"#DIV/0!"},{"$f":"IF(SUM(#REF!)>0,\"Tak\",\"\")","v":{"$error":"#REF!"}},{"$f":"IF(OR(G296<0,J296<0,#REF!<0,#REF!<0),\"ujemny plan\",\"\")","v":{"$error":"#REF!"}}]
["DWB/6/MP/PO","Pozostałe mandaty i kary pieniężne","700","70005","0570","GMMW",null,null,{"$error":"#DIV/0!"},null,null,{"$error":"#DIV/0!"},{"$error":"#DIV/0!"},{"$f":"IF(SUM(#REF!)>0,\"Tak\",\"\")","v":{"$error":"#REF!"}},{"$f":"IF(OR(G297<0,J297<0,#REF!<0,#REF!<0),\"ujemny plan\",\"\")","v":{"$error":"#REF!"}}]
["DWB/6/MP/PO","Pozostałe mandaty i kary pieniężne","710","71002","0570","GMMW",null,null,{"$error":"#DIV/0!"},null,null,{"$error":"#DIV/0!"},{"$error":"#DIV/0!"},{"$f":"IF(SUM(#REF!)>0,\"Tak\",\"\")","v":{"$error":"#REF!"}},{"$f":"IF(OR(G298<0,J298<0,#REF!<0,#REF!<0),\"ujemny plan\",\"\")","v":{"$error":"#REF!"}}]
["DWB/6/MP/PO","Pozostałe mandaty i kary pieniężne","750","75023","0570","GMMW",null,null,{"$error":"#DIV/0!"},null,null,{"$error":"#DIV/0!"},{"$error":"#DIV/0!"},{"$f":"IF(SUM(#REF!)>0,\"Tak\",\"\")","v":{"$error":"#REF!"}},{"$f":"IF(OR(G299<0,J299<0,#REF!<0,#REF!<0),\"ujemny plan\",\"\")","v":{"$error":"#REF!"}}]
["DWB/6/MP/PO","Pozostałe mandaty i kary pieniężne","750","75023","0570","GMMW",null,null,{"$error":"#DIV/0!"},null,null,{"$error":"#DIV/0!"},{"$error":"#DIV/0!"},{"$f":"IF(SUM(#REF!)>0,\"Tak\",\"\")","v":{"$error":"#REF!"}},{"$f":"IF(OR(G300<0,J300<0,#REF!<0,#REF!<0),\"ujemny plan\",\"\")","v":{"$error":"#REF!"}}]
["DWB/6/MP/PO","Pozostałe mandaty i kary pieniężne","754","75416","0570","GMMW",null,null,{"$error":"#DIV/0!"},null,null,{"$error":"#DIV/0!"},{"$error":"#DIV/0!"},{"$f":"IF(SUM(#REF!)>0,\"Tak\",\"\")","v":{"$error":"#REF!"}},{"$f":"IF(OR(G301<0,J301<0,#REF!<0,#REF!<0),\"ujemny plan\",\"\")","v":{"$error":"#REF!"}}]
["DWB/6/MP/PO","Pozostałe mandaty i kary pieniężne","754","75421","0570","GMMW",null,null,{"$error":"#DIV/0!"},null,null,{"$error":"#DIV/0!"},{"$error":"#DIV/0!"},{"$f":"IF(SUM(#REF!)>0,\"Tak\",\"\")","v":{"$error":"#REF!"}},{"$f":"IF(OR(G302<0,J302<0,#REF!<0,#REF!<0),\"ujemny plan\",\"\")","v":{"$error":"#REF!"}}]
["DWB/6/MP/PO","Pozostałe mandaty i kary pieniężne","756","75618","0570","GMMW",null,null,{"$error":"#DIV/0!"},null,null,{"$error":"#DIV/0!"},{"$error":"#DIV/0!"},{"$f":"IF(SUM(#REF!)>0,\"Tak\",\"\")","v":{"$error":"#REF!"}},{"$f":"IF(OR(G303<0,J303<0,#REF!<0,#REF!<0),\"ujemny plan\",\"\")","v":{"$error":"#REF!"}}]
["DWB/6/MP/PO","Pozostałe mandaty i kary pieniężne","801","80104","0570","GMMW",null,null,{"$error":"#DIV/0!"},null,null,{"$error":"#DIV/0!"},{"$error":"#DIV/0!"},{"$f":"IF(SUM(#REF!)>0,\"Tak\",\"\")","v":{"$error":"#REF!"}},{"$f":"IF(OR(G304<0,J304<0,#REF!<0,#REF!<0),\"ujemny plan\",\"\")","v":{"$error":"#REF!"}}]
["DWB/6/MP/PO","Pozostałe mandaty i kary pieniężne","852","85219","0570","GMMW",null,null,{"$error":"#DIV/0!"},null,null,{"$error":"#DIV/0!"},{"$error":"#DIV/0!"},{"$f":"IF(SUM(#REF!)>0,\"Tak\",\"\")","v":{"$error":"#REF!"}},{"$f":"IF(OR(G305<0,J305<0,#REF!<0,#REF!<0),\"ujemny plan\",\"\")","v":{"$error":"#REF!"}}]
["DWB/6/MP/PO","Pozostałe mandaty i kary pieniężne","900","90003","0570",null,null,null,{"$error":"#DIV/0!"},null,null,{"$error":"#DIV/0!"},{"$error":"#DIV/0!"},{"$f":"IF(SUM(#REF!)>0,\"Tak\",\"\")","v":{"$error":"#REF!"}},{"$f":"IF(OR(G306<0,J306<0,#REF!<0,#REF!<0),\"ujemny plan\",\"\")","v":{"$error":"#REF!"}}]
["DWB/6/MP/PO","Pozostałe mandaty i kary pieniężne","900","90015","0570","GMMW",null,null,{"$error":"#DIV/0!"},null,null,{"$error":"#DIV/0!"},{"$error":"#DIV/0!"},{"$f":"IF(SUM(#REF!)>0,\"Tak\",\"\")","v":{"$error":"#REF!"}},{"$f":"IF(OR(G307<0,J307<0,#REF!<0,#REF!<0),\"ujemny plan\",\"\")","v":{"$error":"#REF!"}}]
["DWB/6/MP/PO","Pozostałe mandaty i kary pieniężne","900","90095","0570",null,null,null,{"$error":"#DIV/0!"},null,null,{"$error":"#DIV/0!"},{"$error":"#DIV/0!"},{"$f":"IF(SUM(#REF!)>0,\"Tak\",\"\")","v":{"$error":"#REF!"}},{"$f":"IF(OR(G308<0,J308<0,#REF!<0,#REF!<0),\"ujemny plan\",\"\")","v":{"$error":"#REF!"}}]
["DWB/6/MP/PO","Pozostałe mandaty i kary pieniężne","921","92109","0570","GMMW",null,null,{"$error":"#DIV/0!"},null,null,{"$error":"#DIV/0!"},{"$error":"#DIV/0!"},{"$f":"IF(SUM(#REF!)>0,\"Tak\",\"\")","v":{"$error":"#REF!"}},{"$f":"IF(OR(G309<0,J309<0,#REF!<0,#REF!<0),\"ujemny plan\",\"\")","v":{"$error":"#REF!"}}]
["DWB/6/MP/PO","Pozostałe mandaty i kary pieniężne","925","92504","0570","GMMW",null,null,{"$error":"#DIV/0!"},null,null,{"$error":"#DIV/0!"},{"$error":"#DIV/0!"},{"$f":"IF(SUM(#REF!)>0,\"Tak\",\"\")","v":{"$error":"#REF!"}},{"$f":"IF(OR(G310<0,J310<0,#REF!<0,#REF!<0),\"ujemny plan\",\"\")","v":{"$error":"#REF!"}}]
["DWB/6/MP/PO","Pozostałe mandaty i kary pieniężne","926","92604","0570","GMMW",null,null,{"$error":"#DIV/0!"},null,null,{"$error":"#DIV/0!"},{"$error":"#DIV/0!"},{"$f":"IF(SUM(#REF!)>0,\"Tak\",\"\")","v":{"$error":"#REF!"}},{"$f":"IF(OR(G311<0,J311<0,#REF!<0,#REF!<0),\"ujemny plan\",\"\")","v":{"$error":"#REF!"}}]
["DWB/6/MP/PO","Pozostałe mandaty i kary pieniężne",null,null,"0580",null,{"$f":"SUM(G313:G326)","v":24000},24449.09,1.0187120833333334,24000,24449.09,1.0187120833333334,"Tak",{"$f":"IF(SUM(#REF!)>0,\"Tak\",\"\")","v":{"$error":"#REF!"}},{"$f":"IF(OR(G312<0,J312<0,#REF!<0,#REF!<0),\"ujemny plan\",\"\")","v":{"$error":"#REF!"}}]
["DWB/6/MP/PO","Pozostałe mandaty i kary pieniężne","600","60011","0580","GMMW",null,null,{"$error":"#DIV/0!"},null,null,{"$error":"#DIV/0!"},{"$error":"#DIV/0!"},{"$f":"IF(SUM(#REF!)>0,\"Tak\",\"\")","v":{"$error":"#REF!"}},{"$f":"IF(OR(G313<0,J313<0,#REF!<0,#REF!<0),\"ujemny plan\",\"\")","v":{"$error":"#REF!"}}]
["DWB/6/MP/PO","Pozostałe mandaty i kary pieniężne","600","60016","0580","GMMW",23000,23449.09,1.0195256521739131,23000,23449.09,1.0195256521739131,"Tak",{"$f":"IF(SUM(#REF!)>0,\"Tak\",\"\")","v":{"$error":"#REF!"}},{"$f":"IF(OR(G314<0,J314<0,#REF!<0,#REF!<0),\"ujemny plan\",\"\")","v":{"$error":"#REF!"}}]
["DWB/6/MP/PO","Pozostałe mandaty i kary pieniężne","700","70005","0580","GMMW",null,null,{"$error":"#DIV/0!"},null,null,{"$error":"#DIV/0!"},{"$error":"#DIV/0!"},{"$f":"IF(SUM(#REF!)>0,\"Tak\",\"\")","v":{"$error":"#REF!"}},{"$f":"IF(OR(G315<0,J315<0,#REF!<0,#REF!<0),\"ujemny plan\",\"\")","v":{"$error":"#REF!"}}]
["DWB/6/MP/PO","Pozostałe mandaty i kary pieniężne","700","70007","0580","GMMW",1000,1000,1,1000,1000,1,"Tak",{"$f":"IF(SUM(#REF!)>0,\"Tak\",\"\")","v":{"$error":"#REF!"}},{"$f":"IF(OR(G316<0,J316<0,#REF!<0,#REF!<0),\"ujemny plan\",\"\")","v":{"$error":"#REF!"}}]
["DWB/6/MP/PO","Pozostałe mandaty i kary pieniężne","750","75023","0580","GMMW",null,null,{"$error":"#DIV/0!"},null,null,{"$error":"#DIV/0!"},{"$error":"#DIV/0!"},{"$f":"IF(SUM(#REF!)>0,\"Tak\",\"\")","v":{"$error":"#REF!"}},{"$f":"IF(OR(G317<0,J317<0,#REF!<0,#REF!<0),\"ujemny plan\",\"\")","v":{"$error":"#REF!"}}]
["DWB/6/MP/PO","Pozostałe mandaty i kary pieniężne","756","75618","0580","GMMW",null,null,{"$error":"#DIV/0!"},null,null,{"$error":"#DIV/0!"},{"$error":"#DIV/0!"},{"$f":"IF(SUM(#REF!)>0,\"Tak\",\"\")","v":{"$error":"#REF!"}},{"$f":"IF(OR(G318<0,J318<0,#REF!<0,#REF!<0),\"ujemny plan\",\"\")","v":{"$error":"#REF!"}}]
["DWB/6/MP/PO","Pozostałe mandaty i kary pieniężne","756","75618","0580","PWMW",null,null,{"$error":"#DIV/0!"},null,null,{"$error":"#DIV/0!"},{"$error":"#DIV/0!"},{"$f":"IF(SUM(#REF!)>0,\"Tak\",\"\")","v":{"$error":"#REF!"}},{"$f":"IF(OR(G319<0,J319<0,#REF!<0,#REF!<0),\"ujemny plan\",\"\")","v":{"$error":"#REF!"}}]
["DWB/6/MP/PO","Pozostałe mandaty i kary pieniężne","801","80104","0580","GMMW",null,null,{"$error":"#DIV/0!"},null,null,{"$error":"#DIV/0!"},{"$error":"#DIV/0!"},{"$f":"IF(SUM(#REF!)>0,\"Tak\",\"\")","v":{"$error":"#REF!"}},{"$f":"IF(OR(G320<0,J320<0,#REF!<0,#REF!<0),\"ujemny plan\",\"\")","v":{"$error":"#REF!"}}]
["DWB/6/MP/PO","Pozostałe mandaty i kary pieniężne","852","85219","0580","GMMW",null,null,{"$error":"#DIV/0!"},null,null,{"$error":"#DIV/0!"},{"$error":"#DIV/0!"},{"$f":"IF(SUM(#REF!)>0,\"Tak\",\"\")","v":{"$error":"#REF!"}},{"$f":"IF(OR(G321<0,J321<0,#REF!<0,#REF!<0),\"ujemny plan\",\"\")","v":{"$error":"#REF!"}}]
["DWB/6/MP/PO","Pozostałe mandaty i kary pieniężne","900","90003","0580","GMMW",null,null,{"$error":"#DIV/0!"},null,null,{"$error":"#DIV/0!"},{"$error":"#DIV/0!"},{"$f":"IF(SUM(#REF!)>0,\"Tak\",\"\")","v":{"$error":"#REF!"}},{"$f":"IF(OR(G322<0,J322<0,#REF!<0,#REF!<0),\"ujemny plan\",\"\")","v":{"$error":"#REF!"}}]
["DWB/6/MP/PO","Pozostałe mandaty i kary pieniężne","900","90015","0580","GMMW",null,null,{"$error":"#DIV/0!"},null,null,{"$error":"#DIV/0!"},{"$error":"#DIV/0!"},{"$f":"IF(SUM(#REF!)>0,\"Tak\",\"\")","v":{"$error":"#REF!"}},{"$f":"IF(OR(G323<0,J323<0,#REF!<0,#REF!<0),\"ujemny plan\",\"\")","v":{"$error":"#REF!"}}]
["DWB/6/MP/PO","Pozostałe mandaty i kary pieniężne","900","90095","0580","GMMW",null,null,{"$error":"#DIV/0!"},null,null,{"$error":"#DIV/0!"},{"$error":"#DIV/0!"},{"$f":"IF(SUM(#REF!)>0,\"Tak\",\"\")","v":{"$error":"#REF!"}},{"$f":"IF(OR(G324<0,J324<0,#REF!<0,#REF!<0),\"ujemny plan\",\"\")","v":{"$error":"#REF!"}}]
["DWB/6/MP/PO","Pozostałe mandaty i kary pieniężne","926","92601","0580","GMMW",null,null,{"$error":"#DIV/0!"},null,null,{"$error":"#DIV/0!"},{"$error":"#DIV/0!"},{"$f":"IF(SUM(#REF!)>0,\"Tak\",\"\")","v":{"$error":"#REF!"}},{"$f":"IF(OR(G325<0,J325<0,#REF!<0,#REF!<0),\"ujemny plan\",\"\")","v":{"$error":"#REF!"}}]
["DWB/6/MP/PO","Pozostałe mandaty i kary pieniężne","926","92604","0580","GMMW",null,null,{"$error":"#DIV/0!"},null,null,{"$error":"#DIV/0!"},{"$error":"#DIV/0!"},{"$f":"IF(SUM(#REF!)>0,\"Tak\",\"\")","v":{"$error":"#REF!"}},{"$f":"IF(OR(G326<0,J326<0,#REF!<0,#REF!<0),\"ujemny plan\",\"\")","v":{"$error":"#REF!"}}]
["DWB/6/MP/PO","Pozostałe mandaty i kary pieniężne",null,null,"0950",null,{"$f":"SUM(G328:G342)","v":226900},249262.27999999997,1.0985556632877918,226900,247832.03999999998,1.0922522697223445,"Tak",{"$f":"IF(SUM(#REF!)>0,\"Tak\",\"\")","v":{"$error":"#REF!"}},{"$f":"IF(OR(G327<0,J327<0,#REF!<0,#REF!<0),\"ujemny plan\",\"\")","v":{"$error":"#REF!"}}]
["DWB/6/MP/PO","Pozostałe mandaty i kary pieniężne","600","60004","0950","GMMW",null,null,{"$error":"#DIV/0!"},null,null,{"$error":"#DIV/0!"},{"$f":"IF(SUM(G328:L328)>0,\"Tak\",\"\")","v":{"$error":"#DIV/0!"}},{"$f":"IF(SUM(#REF!)>0,\"Tak\",\"\")","v":{"$error":"#REF!"}},{"$f":"IF(OR(G328<0,J328<0,#REF!<0,#REF!<0),\"ujemny plan\",\"\")","v":{"$error":"#REF!"}}]
["DWB/6/MP/PO","Pozostałe mandaty i kary pieniężne","700","70005","0950","GMMW",7000,13488.58,{"$f":"H329/G329","v":1.9269400000000001},7000,13488.58,{"$f":"K329/J329","v":1.9269400000000001},"Tak",{"$f":"IF(SUM(#REF!)>0,\"Tak\",\"\")","v":{"$error":"#REF!"}},{"$f":"IF(OR(G329<0,J329<0,#REF!<0,#REF!<0),\"ujemny plan\",\"\")","v":{"$error":"#REF!"}}]
["DWB/6/MP/PO","Pozostałe mandaty i kary pieniężne","710","71002","0950","GMMW",null,null,{"$error":"#DIV/0!"},null,null,{"$error":"#DIV/0!"},{"$error":"#DIV/0!"},{"$f":"IF(SUM(#REF!)>0,\"Tak\",\"\")","v":{"$error":"#REF!"}},{"$f":"IF(OR(G330<0,J330<0,#REF!<0,#REF!<0),\"ujemny plan\",\"\")","v":{"$error":"#REF!"}}]
["DWB/6/MP/PO","Pozostałe mandaty i kary pieniężne","750","75023","0950","GMMW",12500,19905.599999999999,1.5924479999999999,12500,19905.599999999999,1.5924479999999999,"Tak",{"$f":"IF(SUM(#REF!)>0,\"Tak\",\"\")","v":{"$error":"#REF!"}},{"$f":"IF(OR(G331<0,J331<0,#REF!<0,#REF!<0),\"ujemny plan\",\"\")","v":{"$error":"#REF!"}}]
["DWB/6/MP/PO","Pozostałe mandaty i kary pieniężne","754","75416","0950","GMMW",null,null,{"$error":"#DIV/0!"},null,null,{"$error":"#DIV/0!"},{"$error":"#DIV/0!"},{"$f":"IF(SUM(#REF!)>0,\"Tak\",\"\")","v":{"$error":"#REF!"}},{"$f":"IF(OR(G332<0,J332<0,#REF!<0,#REF!<0),\"ujemny plan\",\"\")","v":{"$error":"#REF!"}}]
["DWB/6/MP/PO","Pozostałe mandaty i kary pieniężne","754","75421","0950",null,null,null,{"$error":"#DIV/0!"},null,null,{"$error":"#DIV/0!"},{"$error":"#DIV/0!"},{"$f":"IF(SUM(#REF!)>0,\"Tak\",\"\")","v":{"$error":"#REF!"}},{"$f":"IF(OR(G333<0,J333<0,#REF!<0,#REF!<0),\"ujemny plan\",\"\")","v":{"$error":"#REF!"}}]
["DWB/6/MP/PO","Pozostałe mandaty i kary pieniężne","801","80101","0950","GMMW",0,3431.7,null,0,3431.7,null,"Tak",{"$f":"IF(SUM(#REF!)>0,\"Tak\",\"\")","v":{"$error":"#REF!"}},{"$f":"IF(OR(G334<0,J334<0,#REF!<0,#REF!<0),\"ujemny plan\",\"\")","v":{"$error":"#REF!"}}]
["DWB/6/MP/PO","Pozostałe mandaty i kary pieniężne","852","85219","0950","GMMW",null,null,{"$error":"#DIV/0!"},null,null,{"$error":"#DIV/0!"},{"$error":"#DIV/0!"},{"$f":"IF(SUM(#REF!)>0,\"Tak\",\"\")","v":{"$error":"#REF!"}},{"$f":"IF(OR(G335<0,J335<0,#REF!<0,#REF!<0),\"ujemny plan\",\"\")","v":{"$error":"#REF!"}}]
["DWB/6/MP/PO","Pozostałe mandaty i kary pieniężne","855","85516","0950","GMMW",4000,3658.14,0.91453499999999999,4000,3658.14,0.91453499999999999,"Tak",{"$f":"IF(SUM(#REF!)>0,\"Tak\",\"\")","v":{"$error":"#REF!"}},{"$f":"IF(OR(G336<0,J336<0,#REF!<0,#REF!<0),\"ujemny plan\",\"\")","v":{"$error":"#REF!"}}]
["DWB/6/MP/PO","Pozostałe mandaty i kary pieniężne","900","90003","0950","GMMW",null,null,{"$error":"#DIV/0!"},null,null,{"$error":"#DIV/0!"},{"$error":"#DIV/0!"},{"$f":"IF(SUM(#REF!)>0,\"Tak\",\"\")","v":{"$error":"#REF!"}},{"$f":"IF(OR(G337<0,J337<0,#REF!<0,#REF!<0),\"ujemny plan\",\"\")","v":{"$error":"#REF!"}}]
["DWB/6/MP/PO","Pozostałe mandaty i kary pieniężne","900","90015","0950","GMMW",null,null,{"$error":"#DIV/0!"},null,null,{"$error":"#DIV/0!"},{"$error":"#DIV/0!"},{"$f":"IF(SUM(#REF!)>0,\"Tak\",\"\")","v":{"$error":"#REF!"}},{"$f":"IF(OR(G338<0,J338<0,#REF!<0,#REF!<0),\"ujemny plan\",\"\")","v":{"$error":"#REF!"}}]
["DWB/6/MP/PO","Pozostałe mandaty i kary pieniężne","900","90095","0950","GMMW",203400,207348.02,1.0194101278269418,203400,207348.02,1.0194101278269418,"Tak",{"$f":"IF(SUM(#REF!)>0,\"Tak\",\"\")","v":{"$error":"#REF!"}},{"$f":"IF(OR(G339<0,J339<0,#REF!<0,#REF!<0),\"ujemny plan\",\"\")","v":{"$error":"#REF!"}}]
["DWB/6/MP/PO","Pozostałe mandaty i kary pieniężne","925","92504","0950","GMMW",null,null,{"$error":"#DIV/0!"},null,null,{"$error":"#DIV/0!"},{"$error":"#DIV/0!"},{"$f":"IF(SUM(#REF!)>0,\"Tak\",\"\")","v":{"$error":"#REF!"}},{"$f":"IF(OR(G340<0,J340<0,#REF!<0,#REF!<0),\"ujemny plan\",\"\")","v":{"$error":"#REF!"}}]
["DWB/6/MP/PO","Pozostałe mandaty i kary pieniężne","926","92601","0950","GMMW",null,null,{"$error":"#DIV/0!"},null,null,{"$error":"#DIV/0!"},{"$error":"#DIV/0!"},{"$f":"IF(SUM(#REF!)>0,\"Tak\",\"\")","v":{"$error":"#REF!"}},{"$f":"IF(OR(G341<0,J341<0,#REF!<0,#REF!<0),\"ujemny plan\",\"\")","v":{"$error":"#REF!"}}]
["DWB/6/MP/PO","Pozostałe mandaty i kary pieniężne","926","92604","0950","GMMW",0,1430.24,null,0,0,null,"Tak",{"$f":"IF(SUM(#REF!)>0,\"Tak\",\"\")","v":{"$error":"#REF!"}},{"$f":"IF(OR(G342<0,J342<0,#REF!<0,#REF!<0),\"ujemny plan\",\"\")","v":{"$error":"#REF!"}}]
["DWB/6/MP/SM","Mandaty pobierane przez Straż Miejską m.st. Warszawy",null,null,null,null,{"$f":"SUM(G344)","v":0},null,{"$error":"#DIV/0!"},0,null,{"$error":"#DIV/0!"},{"$error":"#DIV/0!"},{"$f":"IF(SUM(#REF!)>0,\"Tak\",\"\")","v":{"$error":"#REF!"}},{"$f":"IF(OR(G343<0,J343<0,#REF!<0,#REF!<0),\"ujemny plan\",\"\")","v":{"$error":"#REF!"}}]
["DWB/6/MP/SM","Mandaty pobierane przez Straż Miejską m.st. Warszawy",null,null,"0570",null,{"$f":"SUM(G345:G345)","v":0},null,{"$error":"#DIV/0!"},0,null,{"$error":"#DIV/0!"},{"$error":"#DIV/0!"},{"$f":"IF(SUM(#REF!)>0,\"Tak\",\"\")","v":{"$error":"#REF!"}},{"$f":"IF(OR(G344<0,J344<0,#REF!<0,#REF!<0),\"ujemny plan\",\"\")","v":{"$error":"#REF!"}}]
["DWB/6/MP/SM","Mandaty pobierane przez Straż Miejską m.st. Warszawy","754","75416","0570","GMMW",null,null,{"$error":"#DIV/0!"},null,null,{"$error":"#DIV/0!"},{"$error":"#DIV/0!"},{"$f":"IF(SUM(#REF!)>0,\"Tak\",\"\")","v":{"$error":"#REF!"}},{"$f":"IF(OR(G345<0,J345<0,#REF!<0,#REF!<0),\"ujemny plan\",\"\")","v":{"$error":"#REF!"}}]
["DWB/6/RO","Wpływy z różnych opłat ",null,null,null,null,{"$f":"SUM(G347,G350,G369,G353,G357,G365,G435,G438,G441,G444)","v":2317218},{"$f":"SUM(H347,H350,H369,H353,H357,H365,H435,H438,H441,H444)","v":2154486.48},0.92977289145863706,2305500,{"$f":"SUM(K347,K350,K369,K353,K357,K365,K435,K438,K441,K444)","v":2141356.5699999998},0.92880354369984808,"Tak",{"$f":"IF(SUM(#REF!)>0,\"Tak\",\"\")","v":{"$error":"#REF!"}},{"$f":"IF(OR(G346<0,J346<0,#REF!<0,#REF!<0),\"ujemny plan\",\"\")","v":{"$error":"#REF!"}}]
["DWB/6/RO/GF","Opłaty za szczególne korzystanie ze środowiska",null,null,null,null,{"$f":"SUM(G348)","v":0},null,{"$error":"#DIV/0!"},0,null,{"$error":"#DIV/0!"},{"$error":"#DIV/0!"},{"$f":"IF(SUM(#REF!)>0,\"Tak\",\"\")","v":{"$error":"#REF!"}},{"$f":"IF(OR(G347<0,J347<0,#REF!<0,#REF!<0),\"ujemny plan\",\"\")","v":{"$error":"#REF!"}}]
["DWB/6/RO/GF","Opłaty za szczególne korzystanie ze środowiska",null,null,"0690",null,{"$f":"SUM(G349:G349)","v":0},null,{"$error":"#DIV/0!"},0,null,{"$error":"#DIV/0!"},{"$error":"#DIV/0!"},{"$f":"IF(SUM(#REF!)>0,\"Tak\",\"\")","v":{"$error":"#REF!"}},{"$f":"IF(OR(G348<0,J348<0,#REF!<0,#REF!<0),\"ujemny plan\",\"\")","v":{"$error":"#REF!"}}]
["DWB/6/RO/GF","Opłaty za szczególne korzystanie ze środowiska","900","90019","0690","GPOS",null,null,{"$error":"#DIV/0!"},null,null,{"$error":"#DIV/0!"},{"$error":"#DIV/0!"},{"$f":"IF(SUM(#REF!)>0,\"Tak\",\"\")","v":{"$error":"#REF!"}},{"$f":"IF(OR(G349<0,J349<0,#REF!<0,#REF!<0),\"ujemny plan\",\"\")","v":{"$error":"#REF!"}}]
["DWB/6/RO/GK","Opłaty za czynności geodezyjne i kartograficzne",null,null,null,null,{"$f":"SUM(G351)","v":0},null,{"$error":"#DIV/0!"},0,null,{"$error":"#DIV/0!"},{"$error":"#DIV/0!"},{"$f":"IF(SUM(#REF!)>0,\"Tak\",\"\")","v":{"$error":"#REF!"}},{"$f":"IF(OR(G350<0,J350<0,#REF!<0,#REF!<0),\"ujemny plan\",\"\")","v":{"$error":"#REF!"}}]
["DWB/6/RO/GK","Opłaty za czynności geodezyjne i kartograficzne",null,null,"0690",null,{"$f":"SUM(G352:G352)","v":0},null,{"$error":"#DIV/0!"},0,null,{"$error":"#DIV/0!"},{"$error":"#DIV/0!"},{"$f":"IF(SUM(#REF!)>0,\"Tak\",\"\")","v":{"$error":"#REF!"}},{"$f":"IF(OR(G351<0,J351<0,#REF!<0,#REF!<0),\"ujemny plan\",\"\")","v":{"$error":"#REF!"}}]
["DWB/6/RO/GK","Opłaty za czynności geodezyjne i kartograficzne","710","71012","0690","PWMW",null,null,{"$error":"#DIV/0!"},null,null,{"$error":"#DIV/0!"},{"$error":"#DIV/0!"},{"$f":"IF(SUM(#REF!)>0,\"Tak\",\"\")","v":{"$error":"#REF!"}},{"$f":"IF(OR(G352<0,J352<0,#REF!<0,#REF!<0),\"ujemny plan\",\"\")","v":{"$error":"#REF!"}}]
["DWB/6/RO/PZ","Wpływy z opłat za pobyt dziecka w pieczy zastępczej",null,null,null,null,{"$f":"SUM(G354)","v":0},null,{"$error":"#DIV/0!"},0,null,{"$error":"#DIV/0!"},{"$error":"#DIV/0!"},{"$f":"IF(SUM(#REF!)>0,\"Tak\",\"\")","v":{"$error":"#REF!"}},{"$f":"IF(OR(G353<0,J353<0,#REF!<0,#REF!<0),\"ujemny plan\",\"\")","v":{"$error":"#REF!"}}]
["DWB/6/RO/PZ","Wpływy z opłat za pobyt dziecka w pieczy zastępczej",null,null,"0680",null,{"$f":"SUM(G355:G356)","v":0},null,{"$error":"#DIV/0!"},0,null,{"$error":"#DIV/0!"},{"$error":"#DIV/0!"},{"$f":"IF(SUM(#REF!)>0,\"Tak\",\"\")","v":{"$error":"#REF!"}},{"$f":"IF(OR(G354<0,J354<0,#REF!<0,#REF!<0),\"ujemny plan\",\"\")","v":{"$error":"#REF!"}}]
["DWB/6/RO/PZ","Wpływy z opłat za pobyt dziecka w pieczy zastępczej","855","85508","0680","PWMW",null,null,{"$error":"#DIV/0!"},null,null,{"$error":"#DIV/0!"},{"$error":"#DIV/0!"},{"$f":"IF(SUM(#REF!)>0,\"Tak\",\"\")","v":{"$error":"#REF!"}},{"$f":"IF(OR(G355<0,J355<0,#REF!<0,#REF!<0),\"ujemny plan\",\"\")","v":{"$error":"#REF!"}}]
["DWB/6/RO/PZ","Wpływy z opłat za pobyt dziecka w pieczy zastępczej","855","85510","0680","PWMW",null,null,{"$error":"#DIV/0!"},null,null,{"$error":"#DIV/0!"},{"$error":"#DIV/0!"},{"$f":"IF(SUM(#REF!)>0,\"Tak\",\"\")","v":{"$error":"#REF!"}},{"$f":"IF(OR(G356<0,J356<0,#REF!<0,#REF!<0),\"ujemny plan\",\"\")","v":{"$error":"#REF!"}}]
["DWB/6/RO/PD","Wpływy z opłat za zajęcia pasa drogowego",null,null,null,null,{"$f":"SUM(G358)","v":2200000},2008267.48,0.9128488545454545,2200000,2008267.48,0.9128488545454545,"Tak",{"$f":"IF(SUM(#REF!)>0,\"Tak\",\"\")","v":{"$error":"#REF!"}},{"$f":"IF(OR(G357<0,J357<0,#REF!<0,#REF!<0),\"ujemny plan\",\"\")","v":{"$error":"#REF!"}}]
["DWB/6/RO/PD","Wpływy z opłat za zajęcia pasa drogowego",null,null,"0620",null,{"$f":"SUM(G359:G360)","v":2200000},{"$f":"SUM(H359:H360)","v":2008267.48},0.9128488545454545,2200000,{"$f":"SUM(K359:K360)","v":2008267.48},0.9128488545454545,"Tak",{"$f":"IF(SUM(#REF!)>0,\"Tak\",\"\")","v":{"$error":"#REF!"}},{"$f":"IF(OR(G358<0,J358<0,#REF!<0,#REF!<0),\"ujemny plan\",\"\")","v":{"$error":"#REF!"}}]
["DWB/6/RO/PD","Wpływy z opłat za zajęcia pasa drogowego","600","60016","0620","GMMW",2200000,2008267.48,0.9128488545454545,2200000,2008267.48,0.9128488545454545,"Tak",{"$f":"IF(SUM(#REF!)>0,\"Tak\",\"\")","v":{"$error":"#REF!"}},{"$f":"IF(OR(G359<0,J359<0,#REF!<0,#REF!<0),\"ujemny plan\",\"\")","v":{"$error":"#REF!"}}]
["DWB/6/RO/PD","Wpływy z opłat za zajęcia pasa drogowego","600","60017","0620","GMMW",null,null,{"$error":"#DIV/0!"},null,null,{"$error":"#DIV/0!"},{"$error":"#DIV/0!"},{"$f":"IF(SUM(#REF!)>0,\"Tak\",\"\")","v":{"$error":"#REF!"}},{"$f":"IF(OR(G360<0,J360<0,#REF!<0,#REF!<0),\"ujemny plan\",\"\")","v":{"$error":"#REF!"}}]
["DWB/6/RO/OP","Opłaty za przedszkole",null,null,null,null,{"$f":"SUM(G362)","v":0},null,{"$error":"#DIV/0!"},0,null,{"$error":"#DIV/0!"},{"$error":"#DIV/0!"},{"$f":"IF(SUM(#REF!)>0,\"Tak\",\"\")","v":{"$error":"#REF!"}},{"$f":"IF(OR(G361<0,J361<0,#REF!<0,#REF!<0),\"ujemny plan\",\"\")","v":{"$error":"#REF!"}}]
["DWB/6/RO/OP","Opłaty za przedszkole",null,null,"0660",null,{"$f":"SUM(G363:G364)","v":0},null,{"$error":"#DIV/0!"},0,null,{"$error":"#DIV/0!"},{"$error":"#DIV/0!"},{"$f":"IF(SUM(#REF!)>0,\"Tak\",\"\")","v":{"$error":"#REF!"}},{"$f":"IF(OR(G362<0,J362<0,#REF!<0,#REF!<0),\"ujemny plan\",\"\")","v":{"$error":"#REF!"}}]
["DWB/6/RO/OP","Opłaty za przedszkole","801","80104","0660","GMMW",null,null,{"$error":"#DIV/0!"},null,null,{"$error":"#DIV/0!"},{"$error":"#DIV/0!"},{"$f":"IF(SUM(#REF!)>0,\"Tak\",\"\")","v":{"$error":"#REF!"}},{"$f":"IF(OR(G363<0,J363<0,#REF!<0,#REF!<0),\"ujemny plan\",\"\")","v":{"$error":"#REF!"}}]
["DWB/6/RO/OP","Opłaty za przedszkole","801","80105","0660","GMMW",null,null,{"$error":"#DIV/0!"},null,null,{"$error":"#DIV/0!"},{"$error":"#DIV/0!"},{"$f":"IF(SUM(#REF!)>0,\"Tak\",\"\")","v":{"$error":"#REF!"}},{"$f":"IF(OR(G364<0,J364<0,#REF!<0,#REF!<0),\"ujemny plan\",\"\")","v":{"$error":"#REF!"}}]
["DWB/6/RO/OW","Opłaty za wyżywienie w przedszkolach",null,null,null,null,{"$f":"SUM(G366)","v":0},null,{"$error":"#DIV/0!"},0,null,{"$error":"#DIV/0!"},{"$error":"#DIV/0!"},{"$f":"IF(SUM(#REF!)>0,\"Tak\",\"\")","v":{"$error":"#REF!"}},{"$f":"IF(OR(G365<0,J365<0,#REF!<0,#REF!<0),\"ujemny plan\",\"\")","v":{"$error":"#REF!"}}]
["DWB/6/RO/OW","Opłaty za wyżywienie w przedszkolach",null,null,"0670",null,{"$f":"SUM(G367:G368)","v":0},null,{"$error":"#DIV/0!"},0,null,{"$error":"#DIV/0!"},{"$error":"#DIV/0!"},{"$f":"IF(SUM(#REF!)>0,\"Tak\",\"\")","v":{"$error":"#REF!"}},{"$f":"IF(OR(G366<0,J366<0,#REF!<0,#REF!<0),\"ujemny plan\",\"\")","v":{"$error":"#REF!"}}]
["DWB/6/RO/OW","Opłaty za wyżywienie w przedszkolach","801","80104","0670","GMMW",null,null,{"$error":"#DIV/0!"},null,null,{"$error":"#DIV/0!"},{"$error":"#DIV/0!"},{"$f":"IF(SUM(#REF!)>0,\"Tak\",\"\")","v":{"$error":"#REF!"}},{"$f":"IF(OR(G367<0,J367<0,#REF!<0,#REF!<0),\"ujemny plan\",\"\")","v":{"$error":"#REF!"}}]
["DWB/6/RO/OW","Opłaty za wyżywienie w przedszkolach","801","80105","0670","GMMW",null,null,{"$error":"#DIV/0!"},null,null,{"$error":"#DIV/0!"},{"$error":"#DIV/0!"},{"$f":"IF(SUM(#REF!)>0,\"Tak\",\"\")","v":{"$error":"#REF!"}},{"$f":"IF(OR(G368<0,J368<0,#REF!<0,#REF!<0),\"ujemny plan\",\"\")","v":{"$error":"#REF!"}}]
["DWB/6/RO/PO","Pozostałe wpływy z różnych opłat",null,null,null,null,{"$f":"SUM(G370,G383,G387,G406)","v":117218},{"$f":"SUM(H370,H383,H387,H406)","v":146219},1.2474108072139092,105500,{"$f":"SUM(K370,K383,K387,K406)","v":133089.09},1.261507962085308,"Tak",{"$f":"IF(SUM(#REF!)>0,\"Tak\",\"\")","v":{"$error":"#REF!"}},{"$f":"IF(OR(G369<0,J369<0,#REF!<0,#REF!<0),\"ujemny plan\",\"\")","v":{"$error":"#REF!"}}]
["DWB/6/RO/PO","Pozostałe wpływy z różnych opłat",null,null,"0610",null,{"$f":"SUM(G371:G382)","v":1412},{"$f":"SUM(H371:H382)","v":1568},1.1104815864022664,0,{"$f":"SUM(K371:K382)","v":0},null,"Tak",{"$f":"IF(SUM(#REF!)>0,\"Tak\",\"\")","v":{"$error":"#REF!"}},{"$f":"IF(OR(G370<0,J370<0,#REF!<0,#REF!<0),\"ujemny plan\",\"\")","v":{"$error":"#REF!"}}]
["DWB/6/RO/PO","Pozostałe wpływy z różnych opłat","600","60095","0610","GMMW",null,null,{"$error":"#DIV/0!"},null,null,{"$error":"#DIV/0!"},{"$error":"#DIV/0!"},{"$f":"IF(SUM(#REF!)>0,\"Tak\",\"\")","v":{"$error":"#REF!"}},{"$f":"IF(OR(G371<0,J371<0,#REF!<0,#REF!<0),\"ujemny plan\",\"\")","v":{"$error":"#REF!"}}]
["DWB/6/RO/PO","Pozostałe wpływy z różnych opłat","600","60095","0610","PWMW",null,null,{"$error":"#DIV/0!"},null,null,{"$error":"#DIV/0!"},{"$error":"#DIV/0!"},{"$f":"IF(SUM(#REF!)>0,\"Tak\",\"\")","v":{"$error":"#REF!"}},{"$f":"IF(OR(G372<0,J372<0,#REF!<0,#REF!<0),\"ujemny plan\",\"\")","v":{"$error":"#REF!"}}]
["DWB/6/RO/PO","Pozostałe wpływy z różnych opłat","750","75085","0610","GMMW",null,null,{"$error":"#DIV/0!"},null,null,{"$error":"#DIV/0!"},{"$error":"#DIV/0!"},{"$f":"IF(SUM(#REF!)>0,\"Tak\",\"\")","v":{"$error":"#REF!"}},{"$f":"IF(OR(G373<0,J373<0,#REF!<0,#REF!<0),\"ujemny plan\",\"\")","v":{"$error":"#REF!"}}]
["DWB/6/RO/PO","Pozostałe wpływy z różnych opłat","801","80101","0610","GMMW",788,944,1.1979695431472082,0,0,null,"Tak",{"$f":"IF(SUM(#REF!)>0,\"Tak\",\"\")","v":{"$error":"#REF!"}},{"$f":"IF(OR(G374<0,J374<0,#REF!<0,#REF!<0),\"ujemny plan\",\"\")","v":{"$error":"#REF!"}}]
["DWB/6/RO/PO","Pozostałe wpływy z różnych opłat","801","80102","0610","PWMW",null,null,{"$error":"#DIV/0!"},null,null,{"$error":"#DIV/0!"},{"$error":"#DIV/0!"},{"$f":"IF(SUM(#REF!)>0,\"Tak\",\"\")","v":{"$error":"#REF!"}},{"$f":"IF(OR(G375<0,J375<0,#REF!<0,#REF!<0),\"ujemny plan\",\"\")","v":{"$error":"#REF!"}}]
["DWB/6/RO/PO","Pozostałe wpływy z różnych opłat","801","80115","0610","GMMW",null,null,{"$error":"#DIV/0!"},null,null,{"$error":"#DIV/0!"},{"$error":"#DIV/0!"},{"$f":"IF(SUM(#REF!)>0,\"Tak\",\"\")","v":{"$error":"#REF!"}},{"$f":"IF(OR(G376<0,J376<0,#REF!<0,#REF!<0),\"ujemny plan\",\"\")","v":{"$error":"#REF!"}}]
["DWB/6/RO/PO","Pozostałe wpływy z różnych opłat","801","80116","0610","GMMW",null,null,{"$error":"#DIV/0!"},null,null,{"$error":"#DIV/0!"},{"$error":"#DIV/0!"},{"$f":"IF(SUM(#REF!)>0,\"Tak\",\"\")","v":{"$error":"#REF!"}},{"$f":"IF(OR(G377<0,J377<0,#REF!<0,#REF!<0),\"ujemny plan\",\"\")","v":{"$error":"#REF!"}}]
["DWB/6/RO/PO","Pozostałe wpływy z różnych opłat","801","80117","0610","GMMW",null,null,{"$error":"#DIV/0!"},null,null,{"$error":"#DIV/0!"},{"$error":"#DIV/0!"},{"$f":"IF(SUM(#REF!)>0,\"Tak\",\"\")","v":{"$error":"#REF!"}},{"$f":"IF(OR(G378<0,J378<0,#REF!<0,#REF!<0),\"ujemny plan\",\"\")","v":{"$error":"#REF!"}}]
["DWB/6/RO/PO","Pozostałe wpływy z różnych opłat","801","80120","0610","GMMW",624,624,1,0,0,null,"Tak",{"$f":"IF(SUM(#REF!)>0,\"Tak\",\"\")","v":{"$error":"#REF!"}},{"$f":"IF(OR(G379<0,J379<0,#REF!<0,#REF!<0),\"ujemny plan\",\"\")","v":{"$error":"#REF!"}}]
["DWB/6/RO/PO","Pozostałe wpływy z różnych opłat","801","80121","0610","GMMW",null,null,{"$error":"#DIV/0!"},null,null,{"$error":"#DIV/0!"},{"$error":"#DIV/0!"},{"$f":"IF(SUM(#REF!)>0,\"Tak\",\"\")","v":{"$error":"#REF!"}},{"$f":"IF(OR(G380<0,J380<0,#REF!<0,#REF!<0),\"ujemny plan\",\"\")","v":{"$error":"#REF!"}}]
["DWB/6/RO/PO","Pozostałe wpływy z różnych opłat","801","80134","0610","PWMW",null,null,{"$error":"#DIV/0!"},null,null,{"$error":"#DIV/0!"},{"$error":"#DIV/0!"},{"$f":"IF(SUM(#REF!)>0,\"Tak\",\"\")","v":{"$error":"#REF!"}},{"$f":"IF(OR(G381<0,J381<0,#REF!<0,#REF!<0),\"ujemny plan\",\"\")","v":{"$error":"#REF!"}}]
["DWB/6/RO/PO","Pozostałe wpływy z różnych opłat","801","80140","0610","GMMW",null,null,{"$error":"#DIV/0!"},null,null,{"$error":"#DIV/0!"},{"$error":"#DIV/0!"},{"$f":"IF(SUM(#REF!)>0,\"Tak\",\"\")","v":{"$error":"#REF!"}},{"$f":"IF(OR(G382<0,J382<0,#REF!<0,#REF!<0),\"ujemny plan\",\"\")","v":{"$error":"#REF!"}}]
["DWB/6/RO/PO","Pozostałe wpływy z różnych opłat",null,null,"0620",null,{"$f":"SUM(G384:G386)","v":0},null,{"$error":"#DIV/0!"},0,null,{"$error":"#DIV/0!"},{"$error":"#DIV/0!"},{"$f":"IF(SUM(#REF!)>0,\"Tak\",\"\")","v":{"$error":"#REF!"}},{"$f":"IF(OR(G383<0,J383<0,#REF!<0,#REF!<0),\"ujemny plan\",\"\")","v":{"$error":"#REF!"}}]
["DWB/6/RO/PO","Pozostałe wpływy z różnych opłat","600","60004","0620","GMMW",null,null,{"$error":"#DIV/0!"},null,null,{"$error":"#DIV/0!"},{"$error":"#DIV/0!"},{"$f":"IF(SUM(#REF!)>0,\"Tak\",\"\")","v":{"$error":"#REF!"}},{"$f":"IF(OR(G384<0,J384<0,#REF!<0,#REF!<0),\"ujemny plan\",\"\")","v":{"$error":"#REF!"}}]
["DWB/6/RO/PO","Pozostałe wpływy z różnych opłat","600","60095","0620","PWMW",null,null,{"$error":"#DIV/0!"},null,null,{"$error":"#DIV/0!"},{"$error":"#DIV/0!"},{"$f":"IF(SUM(#REF!)>0,\"Tak\",\"\")","v":{"$error":"#REF!"}},{"$f":"IF(OR(G385<0,J385<0,#REF!<0,#REF!<0),\"ujemny plan\",\"\")","v":{"$error":"#REF!"}}]
["DWB/6/RO/PO","Pozostałe wpływy z różnych opłat","756","75618","0620","PWMW",null,null,{"$error":"#DIV/0!"},null,null,{"$error":"#DIV/0!"},{"$error":"#DIV/0!"},{"$f":"IF(SUM(#REF!)>0,\"Tak\",\"\")","v":{"$error":"#REF!"}},{"$f":"IF(OR(G386<0,J386<0,#REF!<0,#REF!<0),\"ujemny plan\",\"\")","v":{"$error":"#REF!"}}]
["DWB/6/RO/PO","Pozostałe wpływy z różnych opłat",null,null,"0640",null,{"$f":"SUM(G388:G405)","v":9644},17775.919999999998,1.8432102861883035,5500,13306.01,2.4192745454545457,"Tak",{"$f":"IF(SUM(#REF!)>0,\"Tak\",\"\")","v":{"$error":"#REF!"}},{"$f":"IF(OR(G387<0,J387<0,#REF!<0,#REF!<0),\"ujemny plan\",\"\")","v":{"$error":"#REF!"}}]
["DWB/6/RO/PO","Pozostałe wpływy z różnych opłat","600","60095","0640","PWMW",null,null,{"$error":"#DIV/0!"},null,null,{"$error":"#DIV/0!"},{"$error":"#DIV/0!"},{"$f":"IF(SUM(#REF!)>0,\"Tak\",\"\")","v":{"$error":"#REF!"}},{"$f":"IF(OR(G388<0,J388<0,#REF!<0,#REF!<0),\"ujemny plan\",\"\")","v":{"$error":"#REF!"}}]
["DWB/6/RO/PO","Pozostałe wpływy z różnych opłat","700","70005","0640","GMMW",4000,4277.91,1.0694774999999999,0,0,null,"Tak",{"$f":"IF(SUM(#REF!)>0,\"Tak\",\"\")","v":{"$error":"#REF!"}},{"$f":"IF(OR(G389<0,J389<0,#REF!<0,#REF!<0),\"ujemny plan\",\"\")","v":{"$error":"#REF!"}}]
["DWB/6/RO/PO","Pozostałe wpływy z różnych opłat","710","71002","0640","GMMW",null,null,{"$error":"#DIV/0!"},null,null,{"$error":"#DIV/0!"},{"$error":"#DIV/0!"},{"$f":"IF(SUM(#REF!)>0,\"Tak\",\"\")","v":{"$error":"#REF!"}},{"$f":"IF(OR(G390<0,J390<0,#REF!<0,#REF!<0),\"ujemny plan\",\"\")","v":{"$error":"#REF!"}}]
["DWB/6/RO/PO","Pozostałe wpływy z różnych opłat","750","75023","0640","GKZP",null,null,{"$error":"#DIV/0!"},null,null,{"$error":"#DIV/0!"},{"$error":"#DIV/0!"},{"$f":"IF(SUM(#REF!)>0,\"Tak\",\"\")","v":{"$error":"#REF!"}},{"$f":"IF(OR(G391<0,J391<0,#REF!<0,#REF!<0),\"ujemny plan\",\"\")","v":{"$error":"#REF!"}}]
["DWB/6/RO/PO","Pozostałe wpływy z różnych opłat","750","75023","0640","GMMW",5500,13306.01,2.4192745454545457,5500,13306.01,2.4192745454545457,{"$f":"IF(SUM(G392:L392)>0,\"Tak\",\"\")","v":"Tak"},{"$f":"IF(SUM(#REF!)>0,\"Tak\",\"\")","v":{"$error":"#REF!"}},{"$f":"IF(OR(G392<0,J392<0,#REF!<0,#REF!<0),\"ujemny plan\",\"\")","v":{"$error":"#REF!"}}]
["DWB/6/RO/PO","Pozostałe wpływy z różnych opłat","750","75085","0640","GMMW",null,null,{"$f":"H393/G393","v":{"$error":"#DIV/0!"}},null,null,{"$f":"K393/J393","v":{"$error":"#DIV/0!"}},{"$error":"#DIV/0!"},{"$f":"IF(SUM(#REF!)>0,\"Tak\",\"\")","v":{"$error":"#REF!"}},{"$f":"IF(OR(G393<0,J393<0,#REF!<0,#REF!<0),\"ujemny plan\",\"\")","v":{"$error":"#REF!"}}]
["DWB/6/RO/PO","Pozostałe wpływy z różnych opłat","756","75618","0640","GMMW",null,null,{"$error":"#DIV/0!"},null,null,{"$error":"#DIV/0!"},{"$error":"#DIV/0!"},{"$f":"IF(SUM(#REF!)>0,\"Tak\",\"\")","v":{"$error":"#REF!"}},{"$f":"IF(OR(G394<0,J394<0,#REF!<0,#REF!<0),\"ujemny plan\",\"\")","v":{"$error":"#REF!"}}]
["DWB/6/RO/PO","Pozostałe wpływy z różnych opłat","801","80101","0640","GMMW",null,null,{"$error":"#DIV/0!"},null,null,{"$error":"#DIV/0!"},{"$error":"#DIV/0!"},{"$f":"IF(SUM(#REF!)>0,\"Tak\",\"\")","v":{"$error":"#REF!"}},{"$f":"IF(OR(G395<0,J395<0,#REF!<0,#REF!<0),\"ujemny plan\",\"\")","v":{"$error":"#REF!"}}]
["DWB/6/RO/PO","Pozostałe wpływy z różnych opłat","801","80104","0640","GMMW",144,192,1.3333333333333333,0,0,null,"Tak",{"$f":"IF(SUM(#REF!)>0,\"Tak\",\"\")","v":{"$error":"#REF!"}},{"$f":"IF(OR(G396<0,J396<0,#REF!<0,#REF!<0),\"ujemny plan\",\"\")","v":{"$error":"#REF!"}}]
["DWB/6/RO/PO","Pozostałe wpływy z różnych opłat","801","80120","0640","GMMW",null,null,{"$error":"#DIV/0!"},null,null,{"$error":"#DIV/0!"},{"$error":"#DIV/0!"},{"$f":"IF(SUM(#REF!)>0,\"Tak\",\"\")","v":{"$error":"#REF!"}},{"$f":"IF(OR(G397<0,J397<0,#REF!<0,#REF!<0),\"ujemny plan\",\"\")","v":{"$error":"#REF!"}}]
["DWB/6/RO/PO","Pozostałe wpływy z różnych opłat","851","85158","0640","GMMW",null,null,{"$error":"#DIV/0!"},null,null,{"$error":"#DIV/0!"},{"$error":"#DIV/0!"},{"$f":"IF(SUM(#REF!)>0,\"Tak\",\"\")","v":{"$error":"#REF!"}},{"$f":"IF(OR(G398<0,J398<0,#REF!<0,#REF!<0),\"ujemny plan\",\"\")","v":{"$error":"#REF!"}}]
["DWB/6/RO/PO","Pozostałe wpływy z różnych opłat","852","85214","0640","GMMW",null,null,{"$error":"#DIV/0!"},null,null,{"$error":"#DIV/0!"},{"$error":"#DIV/0!"},{"$f":"IF(SUM(#REF!)>0,\"Tak\",\"\")","v":{"$error":"#REF!"}},{"$f":"IF(OR(G399<0,J399<0,#REF!<0,#REF!<0),\"ujemny plan\",\"\")","v":{"$error":"#REF!"}}]
["DWB/6/RO/PO","Pozostałe wpływy z różnych opłat","852","85228","0640","GMMW",null,null,{"$error":"#DIV/0!"},null,null,{"$error":"#DIV/0!"},{"$error":"#DIV/0!"},{"$f":"IF(SUM(#REF!)>0,\"Tak\",\"\")","v":{"$error":"#REF!"}},{"$f":"IF(OR(G400<0,J400<0,#REF!<0,#REF!<0),\"ujemny plan\",\"\")","v":{"$error":"#REF!"}}]
["DWB/6/RO/PO","Pozostałe wpływy z różnych opłat","854","85406","0640","GMMW",null,null,{"$error":"#DIV/0!"},null,null,{"$error":"#DIV/0!"},{"$error":"#DIV/0!"},{"$f":"IF(SUM(#REF!)>0,\"Tak\",\"\")","v":{"$error":"#REF!"}},{"$f":"IF(OR(G401<0,J401<0,#REF!<0,#REF!<0),\"ujemny plan\",\"\")","v":{"$error":"#REF!"}}]
["DWB/6/RO/PO","Pozostałe wpływy z różnych opłat","854","85407","0640","GMMW",null,null,{"$error":"#DIV/0!"},null,null,{"$error":"#DIV/0!"},{"$error":"#DIV/0!"},{"$f":"IF(SUM(#REF!)>0,\"Tak\",\"\")","v":{"$error":"#REF!"}},{"$f":"IF(OR(G402<0,J402<0,#REF!<0,#REF!<0),\"ujemny plan\",\"\")","v":{"$error":"#REF!"}}]
["DWB/6/RO/PO","Pozostałe wpływy z różnych opłat","855","85595","0640","GMMW",null,null,{"$error":"#DIV/0!"},null,null,{"$error":"#DIV/0!"},{"$error":"#DIV/0!"},{"$f":"IF(SUM(#REF!)>0,\"Tak\",\"\")","v":{"$error":"#REF!"}},{"$f":"IF(OR(G403<0,J403<0,#REF!<0,#REF!<0),\"ujemny plan\",\"\")","v":{"$error":"#REF!"}}]
["DWB/6/RO/PO","Pozostałe wpływy z różnych opłat","900","90095","0640","GMMW",null,null,{"$error":"#DIV/0!"},null,null,{"$error":"#DIV/0!"},{"$error":"#DIV/0!"},{"$f":"IF(SUM(#REF!)>0,\"Tak\",\"\")","v":{"$error":"#REF!"}},{"$f":"IF(OR(G404<0,J404<0,#REF!<0,#REF!<0),\"ujemny plan\",\"\")","v":{"$error":"#REF!"}}]
["DWB/6/RO/PO","Pozostałe wpływy z różnych opłat","926","92604","0640","GMMW",null,null,{"$error":"#DIV/0!"},null,null,{"$error":"#DIV/0!"},{"$error":"#DIV/0!"},{"$f":"IF(SUM(#REF!)>0,\"Tak\",\"\")","v":{"$error":"#REF!"}},{"$f":"IF(OR(G405<0,J405<0,#REF!<0,#REF!<0),\"ujemny plan\",\"\")","v":{"$error":"#REF!"}}]
["DWB/6/RO/PO","Pozostałe wpływy z różnych opłat",null,null,"0690",null,{"$f":"SUM(G407:G434)","v":106162},126875.08,1.1951082308170533,100000,119783.08,1.1978308,"Tak",{"$f":"IF(SUM(#REF!)>0,\"Tak\",\"\")","v":{"$error":"#REF!"}},{"$f":"IF(OR(G406<0,J406<0,#REF!<0,#REF!<0),\"ujemny plan\",\"\")","v":{"$error":"#REF!"}}]
["DWB/6/RO/PO","Pozostałe wpływy z różnych opłat","600","60004","0690","GMMW",null,null,{"$error":"#DIV/0!"},null,null,{"$error":"#DIV/0!"},{"$error":"#DIV/0!"},{"$f":"IF(SUM(#REF!)>0,\"Tak\",\"\")","v":{"$error":"#REF!"}},{"$f":"IF(OR(G407<0,J407<0,#REF!<0,#REF!<0),\"ujemny plan\",\"\")","v":{"$error":"#REF!"}}]
["DWB/6/RO/PO","Pozostałe wpływy z różnych opłat","600","60019","0690","GMMW",null,null,{"$error":"#DIV/0!"},null,null,{"$error":"#DIV/0!"},{"$error":"#DIV/0!"},{"$f":"IF(SUM(#REF!)>0,\"Tak\",\"\")","v":{"$error":"#REF!"}},{"$f":"IF(OR(G408<0,J408<0,#REF!<0,#REF!<0),\"ujemny plan\",\"\")","v":{"$error":"#REF!"}}]
["DWB/6/RO/PO","Pozostałe wpływy z różnych opłat","600","60095","0690","GMMW",null,null,{"$error":"#DIV/0!"},null,null,{"$error":"#DIV/0!"},{"$error":"#DIV/0!"},{"$f":"IF(SUM(#REF!)>0,\"Tak\",\"\")","v":{"$error":"#REF!"}},{"$f":"IF(OR(G409<0,J409<0,#REF!<0,#REF!<0),\"ujemny plan\",\"\")","v":{"$error":"#REF!"}}]
["DWB/6/RO/PO","Pozostałe wpływy z różnych opłat","600","60095","0690","PWMW",null,null,{"$error":"#DIV/0!"},null,null,{"$error":"#DIV/0!"},{"$error":"#DIV/0!"},{"$f":"IF(SUM(#REF!)>0,\"Tak\",\"\")","v":{"$error":"#REF!"}},{"$f":"IF(OR(G410<0,J410<0,#REF!<0,#REF!<0),\"ujemny plan\",\"\")","v":{"$error":"#REF!"}}]
["DWB/6/RO/PO","Pozostałe wpływy z różnych opłat","700","70005","0690","GMMW",100000,119783.08,1.1978308,100000,119783.08,1.1978308,"Tak",{"$f":"IF(SUM(#REF!)>0,\"Tak\",\"\")","v":{"$error":"#REF!"}},{"$f":"IF(OR(G411<0,J411<0,#REF!<0,#REF!<0),\"ujemny plan\",\"\")","v":{"$error":"#REF!"}}]
["DWB/6/RO/PO","Pozostałe wpływy z różnych opłat","750","75023","0690","GMMW",null,null,{"$error":"#DIV/0!"},null,null,{"$error":"#DIV/0!"},{"$error":"#DIV/0!"},{"$f":"IF(SUM(#REF!)>0,\"Tak\",\"\")","v":{"$error":"#REF!"}},{"$f":"IF(OR(G412<0,J412<0,#REF!<0,#REF!<0),\"ujemny plan\",\"\")","v":{"$error":"#REF!"}}]
["DWB/6/RO/PO","Pozostałe wpływy z różnych opłat","750","75095","0690","GMMW",null,null,{"$error":"#DIV/0!"},null,null,{"$error":"#DIV/0!"},{"$error":"#DIV/0!"},{"$f":"IF(SUM(#REF!)>0,\"Tak\",\"\")","v":{"$error":"#REF!"}},{"$f":"IF(OR(G413<0,J413<0,#REF!<0,#REF!<0),\"ujemny plan\",\"\")","v":{"$error":"#REF!"}}]
["DWB/6/RO/PO","Pozostałe wpływy z różnych opłat","756","75615","0690","GMMW",null,null,{"$error":"#DIV/0!"},null,null,{"$error":"#DIV/0!"},{"$error":"#DIV/0!"},{"$f":"IF(SUM(#REF!)>0,\"Tak\",\"\")","v":{"$error":"#REF!"}},{"$f":"IF(OR(G414<0,J414<0,#REF!<0,#REF!<0),\"ujemny plan\",\"\")","v":{"$error":"#REF!"}}]
["DWB/6/RO/PO","Pozostałe wpływy z różnych opłat","756","75616","0690","GMMW",null,null,{"$error":"#DIV/0!"},null,null,{"$error":"#DIV/0!"},{"$error":"#DIV/0!"},{"$f":"IF(SUM(#REF!)>0,\"Tak\",\"\")","v":{"$error":"#REF!"}},{"$f":"IF(OR(G415<0,J415<0,#REF!<0,#REF!<0),\"ujemny plan\",\"\")","v":{"$error":"#REF!"}}]
["DWB/6/RO/PO","Pozostałe wpływy z różnych opłat","756","75618","0690","GMMW",null,null,{"$error":"#DIV/0!"},null,null,{"$error":"#DIV/0!"},{"$error":"#DIV/0!"},{"$f":"IF(SUM(#REF!)>0,\"Tak\",\"\")","v":{"$error":"#REF!"}},{"$f":"IF(OR(G416<0,J416<0,#REF!<0,#REF!<0),\"ujemny plan\",\"\")","v":{"$error":"#REF!"}}]
["DWB/6/RO/PO","Pozostałe wpływy z różnych opłat","756","75618","0690","PWMW",null,null,{"$error":"#DIV/0!"},null,null,{"$error":"#DIV/0!"},{"$error":"#DIV/0!"},{"$f":"IF(SUM(#REF!)>0,\"Tak\",\"\")","v":{"$error":"#REF!"}},{"$f":"IF(OR(G417<0,J417<0,#REF!<0,#REF!<0),\"ujemny plan\",\"\")","v":{"$error":"#REF!"}}]
["DWB/6/RO/PO","Pozostałe wpływy z różnych opłat","801","80101","0690","GMMW",5478,6318,1.1533406352683462,0,0,null,"Tak",{"$f":"IF(SUM(#REF!)>0,\"Tak\",\"\")","v":{"$error":"#REF!"}},{"$f":"IF(OR(G418<0,J418<0,#REF!<0,#REF!<0),\"ujemny plan\",\"\")","v":{"$error":"#REF!"}}]
["DWB/6/RO/PO","Pozostałe wpływy z różnych opłat","801","80102","0690","PWMW",null,null,{"$error":"#DIV/0!"},null,null,{"$error":"#DIV/0!"},{"$error":"#DIV/0!"},{"$f":"IF(SUM(#REF!)>0,\"Tak\",\"\")","v":{"$error":"#REF!"}},{"$f":"IF(OR(G419<0,J419<0,#REF!<0,#REF!<0),\"ujemny plan\",\"\")","v":{"$error":"#REF!"}}]
["DWB/6/RO/PO","Pozostałe wpływy z różnych opłat","801","80104","0690","GMMW",null,null,{"$error":"#DIV/0!"},null,null,{"$error":"#DIV/0!"},{"$error":"#DIV/0!"},{"$f":"IF(SUM(#REF!)>0,\"Tak\",\"\")","v":{"$error":"#REF!"}},{"$f":"IF(OR(G420<0,J420<0,#REF!<0,#REF!<0),\"ujemny plan\",\"\")","v":{"$error":"#REF!"}}]
["DWB/6/RO/PO","Pozostałe wpływy z różnych opłat","801","80115","0690","GMMW",null,null,{"$error":"#DIV/0!"},null,null,{"$error":"#DIV/0!"},{"$error":"#DIV/0!"},{"$f":"IF(SUM(#REF!)>0,\"Tak\",\"\")","v":{"$error":"#REF!"}},{"$f":"IF(OR(G421<0,J421<0,#REF!<0,#REF!<0),\"ujemny plan\",\"\")","v":{"$error":"#REF!"}}]
["DWB/6/RO/PO","Pozostałe wpływy z różnych opłat","801","80116","0690","GMMW",null,null,{"$error":"#DIV/0!"},null,null,{"$error":"#DIV/0!"},{"$error":"#DIV/0!"},{"$f":"IF(SUM(#REF!)>0,\"Tak\",\"\")","v":{"$error":"#REF!"}},{"$f":"IF(OR(G422<0,J422<0,#REF!<0,#REF!<0),\"ujemny plan\",\"\")","v":{"$error":"#REF!"}}]
["DWB/6/RO/PO","Pozostałe wpływy z różnych opłat","801","80117","0690","GMMW",null,null,{"$error":"#DIV/0!"},null,null,{"$error":"#DIV/0!"},{"$error":"#DIV/0!"},{"$f":"IF(SUM(#REF!)>0,\"Tak\",\"\")","v":{"$error":"#REF!"}},{"$f":"IF(OR(G423<0,J423<0,#REF!<0,#REF!<0),\"ujemny plan\",\"\")","v":{"$error":"#REF!"}}]
["DWB/6/RO/PO","Pozostałe wpływy z różnych opłat","801","80120","0690","GMMW",684,774,1.131578947368421,0,0,null,"Tak",{"$f":"IF(SUM(#REF!)>0,\"Tak\",\"\")","v":{"$error":"#REF!"}},{"$f":"IF(OR(G424<0,J424<0,#REF!<0,#REF!<0),\"ujemny plan\",\"\")","v":{"$error":"#REF!"}}]
["DWB/6/RO/PO","Pozostałe wpływy z różnych opłat","801","80121","0690","GMMW",null,null,{"$error":"#DIV/0!"},null,null,{"$error":"#DIV/0!"},{"$error":"#DIV/0!"},{"$f":"IF(SUM(#REF!)>0,\"Tak\",\"\")","v":{"$error":"#REF!"}},{"$f":"IF(OR(G425<0,J425<0,#REF!<0,#REF!<0),\"ujemny plan\",\"\")","v":{"$error":"#REF!"}}]
["DWB/6/RO/PO","Pozostałe wpływy z różnych opłat","801","80134","0690","PWMW",null,null,{"$error":"#DIV/0!"},null,null,{"$error":"#DIV/0!"},{"$error":"#DIV/0!"},{"$f":"IF(SUM(#REF!)>0,\"Tak\",\"\")","v":{"$error":"#REF!"}},{"$f":"IF(OR(G426<0,J426<0,#REF!<0,#REF!<0),\"ujemny plan\",\"\")","v":{"$error":"#REF!"}}]
["DWB/6/RO/PO","Pozostałe wpływy z różnych opłat","801","80140","0690","GMMW",null,null,{"$error":"#DIV/0!"},null,null,{"$error":"#DIV/0!"},{"$error":"#DIV/0!"},{"$f":"IF(SUM(#REF!)>0,\"Tak\",\"\")","v":{"$error":"#REF!"}},{"$f":"IF(OR(G427<0,J427<0,#REF!<0,#REF!<0),\"ujemny plan\",\"\")","v":{"$error":"#REF!"}}]
["DWB/6/RO/PO","Pozostałe wpływy z różnych opłat","851","85158","0690","GMMW",null,null,{"$error":"#DIV/0!"},null,null,{"$error":"#DIV/0!"},{"$error":"#DIV/0!"},{"$f":"IF(SUM(#REF!)>0,\"Tak\",\"\")","v":{"$error":"#REF!"}},{"$f":"IF(OR(G428<0,J428<0,#REF!<0,#REF!<0),\"ujemny plan\",\"\")","v":{"$error":"#REF!"}}]
["DWB/6/RO/PO","Pozostałe wpływy z różnych opłat","852","85219","0690","GMMW",null,null,{"$error":"#DIV/0!"},null,null,{"$error":"#DIV/0!"},{"$error":"#DIV/0!"},{"$f":"IF(SUM(#REF!)>0,\"Tak\",\"\")","v":{"$error":"#REF!"}},{"$f":"IF(OR(G429<0,J429<0,#REF!<0,#REF!<0),\"ujemny plan\",\"\")","v":{"$error":"#REF!"}}]
["DWB/6/RO/PO","Pozostałe wpływy z różnych opłat","855","85505","0690","GMMW",null,null,{"$error":"#DIV/0!"},null,null,{"$error":"#DIV/0!"},{"$error":"#DIV/0!"},{"$f":"IF(SUM(#REF!)>0,\"Tak\",\"\")","v":{"$error":"#REF!"}},{"$f":"IF(OR(G430<0,J430<0,#REF!<0,#REF!<0),\"ujemny plan\",\"\")","v":{"$error":"#REF!"}}]
["DWB/6/RO/PO","Pozostałe wpływy z różnych opłat","855","85506","0690","GMMW",null,null,{"$error":"#DIV/0!"},null,null,{"$error":"#DIV/0!"},{"$error":"#DIV/0!"},{"$f":"IF(SUM(#REF!)>0,\"Tak\",\"\")","v":{"$error":"#REF!"}},{"$f":"IF(OR(G431<0,J431<0,#REF!<0,#REF!<0),\"ujemny plan\",\"\")","v":{"$error":"#REF!"}}]
["DWB/6/RO/PO","Pozostałe wpływy z różnych opłat","900","90001","0690","GMMW",null,null,{"$error":"#DIV/0!"},null,null,{"$error":"#DIV/0!"},{"$error":"#DIV/0!"},{"$f":"IF(SUM(#REF!)>0,\"Tak\",\"\")","v":{"$error":"#REF!"}},{"$f":"IF(OR(G432<0,J432<0,#REF!<0,#REF!<0),\"ujemny plan\",\"\")","v":{"$error":"#REF!"}}]
["DWB/6/RO/PO","Pozostałe wpływy z różnych opłat","900","90095","0690","GMMW",null,null,{"$error":"#DIV/0!"},null,null,{"$error":"#DIV/0!"},{"$error":"#DIV/0!"},{"$f":"IF(SUM(#REF!)>0,\"Tak\",\"\")","v":{"$error":"#REF!"}},{"$f":"IF(OR(G433<0,J433<0,#REF!<0,#REF!<0),\"ujemny plan\",\"\")","v":{"$error":"#REF!"}}]
["DWB/6/RO/PO","Pozostałe wpływy z różnych opłat","926","92604","0690","GMMW",null,null,{"$error":"#DIV/0!"},null,null,{"$error":"#DIV/0!"},{"$error":"#DIV/0!"},{"$f":"IF(SUM(#REF!)>0,\"Tak\",\"\")","v":{"$error":"#REF!"}},{"$f":"IF(OR(G434<0,J434<0,#REF!<0,#REF!<0),\"ujemny plan\",\"\")","v":{"$error":"#REF!"}}]
["DWB/6/RO/RJ","Wpływy z opłat za rejestrację jachtów o długości 24 m",null,null,null,null,{"$f":"SUM(G436)","v":0},null,{"$error":"#DIV/0!"},0,null,{"$error":"#DIV/0!"},{"$error":"#DIV/0!"},{"$f":"IF(SUM(#REF!)>0,\"Tak\",\"\")","v":{"$error":"#REF!"}},{"$f":"IF(OR(G435<0,J435<0,#REF!<0,#REF!<0),\"ujemny plan\",\"\")","v":{"$error":"#REF!"}}]
["DWB/6/RO/RJ","Wpływy z opłat za rejestrację jachtów o długości 24 m",null,null,"0690",null,{"$f":"SUM(G437:G437)","v":0},null,{"$error":"#DIV/0!"},0,null,{"$error":"#DIV/0!"},{"$error":"#DIV/0!"},{"$f":"IF(SUM(#REF!)>0,\"Tak\",\"\")","v":{"$error":"#REF!"}},{"$f":"IF(OR(G436<0,J436<0,#REF!<0,#REF!<0),\"ujemny plan\",\"\")","v":{"$error":"#REF!"}}]
["DWB/6/RO/RJ","Wpływy z opłat za rejestrację jachtów o długości 24 m","600","60095","0690",null,null,null,{"$error":"#DIV/0!"},null,null,{"$error":"#DIV/0!"},{"$error":"#DIV/0!"},{"$f":"IF(SUM(#REF!)>0,\"Tak\",\"\")","v":{"$error":"#REF!"}},{"$f":"IF(OR(G437<0,J437<0,#REF!<0,#REF!<0),\"ujemny plan\",\"\")","v":{"$error":"#REF!"}}]
["DWB/6/RO/RT","Wpływy z opłaty retencyjnej",null,null,null,null,{"$f":"SUM(G439)","v":0},null,{"$error":"#DIV/0!"},0,null,{"$error":"#DIV/0!"},{"$error":"#DIV/0!"},{"$f":"IF(SUM(#REF!)>0,\"Tak\",\"\")","v":{"$error":"#REF!"}},{"$f":"IF(OR(G438<0,J438<0,#REF!<0,#REF!<0),\"ujemny plan\",\"\")","v":{"$error":"#REF!"}}]
["DWB/6/RO/RT","Wpływy z opłaty retencyjnej",null,null,"0690",null,{"$f":"SUM(G440:G440)","v":0},null,{"$error":"#DIV/0!"},0,null,{"$error":"#DIV/0!"},{"$error":"#DIV/0!"},{"$f":"IF(SUM(#REF!)>0,\"Tak\",\"\")","v":{"$error":"#REF!"}},{"$f":"IF(OR(G439<0,J439<0,#REF!<0,#REF!<0),\"ujemny plan\",\"\")","v":{"$error":"#REF!"}}]
["DWB/6/RO/RT","Wpływy z opłaty retencyjnej","900","90001","0690","GMMW",null,null,{"$error":"#DIV/0!"},null,null,{"$error":"#DIV/0!"},{"$error":"#DIV/0!"},{"$f":"IF(SUM(#REF!)>0,\"Tak\",\"\")","v":{"$error":"#REF!"}},{"$f":"IF(OR(G440<0,J440<0,#REF!<0,#REF!<0),\"ujemny plan\",\"\")","v":{"$error":"#REF!"}}]
["DWB/6/RO/SP","Wpływy z opłat za korzystanie ze SPPN",null,null,null,null,{"$f":"SUM(G442)","v":0},null,{"$error":"#DIV/0!"},0,null,{"$error":"#DIV/0!"},{"$error":"#DIV/0!"},{"$f":"IF(SUM(#REF!)>0,\"Tak\",\"\")","v":{"$error":"#REF!"}},{"$f":"IF(OR(G441<0,J441<0,#REF!<0,#REF!<0),\"ujemny plan\",\"\")","v":{"$error":"#REF!"}}]
["DWB/6/RO/SP","Wpływy z opłat za korzystanie ze SPPN",null,null,"0690",null,{"$f":"SUM(G443:G443)","v":0},null,{"$error":"#DIV/0!"},0,null,{"$error":"#DIV/0!"},{"$error":"#DIV/0!"},{"$f":"IF(SUM(#REF!)>0,\"Tak\",\"\")","v":{"$error":"#REF!"}},{"$f":"IF(OR(G442<0,J442<0,#REF!<0,#REF!<0),\"ujemny plan\",\"\")","v":{"$error":"#REF!"}}]
["DWB/6/RO/SP","Wpływy z opłat za korzystanie ze SPPN","600","60019","0690","GMMW",null,null,{"$error":"#DIV/0!"},null,null,{"$error":"#DIV/0!"},{"$error":"#DIV/0!"},{"$f":"IF(SUM(#REF!)>0,\"Tak\",\"\")","v":{"$error":"#REF!"}},{"$f":"IF(OR(G443<0,J443<0,#REF!<0,#REF!<0),\"ujemny plan\",\"\")","v":{"$error":"#REF!"}}]
["DWB/6/RO/WR","Wpływy z opłat za korzystanie z WRP",null,null,null,null,{"$f":"SUM(G445)","v":0},null,{"$error":"#DIV/0!"},0,null,{"$error":"#DIV/0!"},{"$error":"#DIV/0!"},{"$f":"IF(SUM(#REF!)>0,\"Tak\",\"\")","v":{"$error":"#REF!"}},{"$f":"IF(OR(G444<0,J444<0,#REF!<0,#REF!<0),\"ujemny plan\",\"\")","v":{"$error":"#REF!"}}]
["DWB/6/RO/WR","Wpływy z opłat za korzystanie z WRP",null,null,"0690",null,{"$f":"SUM(G446:G446)","v":0},null,{"$error":"#DIV/0!"},0,null,{"$error":"#DIV/0!"},{"$error":"#DIV/0!"},{"$f":"IF(SUM(#REF!)>0,\"Tak\",\"\")","v":{"$error":"#REF!"}},{"$f":"IF(OR(G445<0,J445<0,#REF!<0,#REF!<0),\"ujemny plan\",\"\")","v":{"$error":"#REF!"}}]
["DWB/6/RO/WR","Wpływy z opłat za korzystanie z WRP","600","60022","0690","GMMW",null,null,{"$error":"#DIV/0!"},null,null,{"$error":"#DIV/0!"},{"$error":"#DIV/0!"},{"$f":"IF(SUM(#REF!)>0,\"Tak\",\"\")","v":{"$error":"#REF!"}},{"$f":"IF(OR(G446<0,J446<0,#REF!<0,#REF!<0),\"ujemny plan\",\"\")","v":{"$error":"#REF!"}}]
["DWB/6/WU","Wpływy z usług",null,null,"0830",null,{"$f":"SUM(G448,G450,G486,G529:G530)","v":8831498},{"$f":"SUM(H448,H450,H486,H529:H530)","v":8731162.0299999993},0.98863885039661437,94715,{"$f":"SUM(K448,K450,K486,K529:K530)","v":86203.05},0.91013091907300858,"Tak",{"$f":"IF(SUM(#REF!)>0,\"Tak\",\"\")","v":{"$error":"#REF!"}},{"$f":"IF(OR(G447<0,J447<0,#REF!<0,#REF!<0),\"ujemny plan\",\"\")","v":{"$error":"#REF!"}}]
["DWB/6/WU/GK","wpływy z usług - sprzedaż map, danych z ewidencji gruntów i budynków oraz innych materiałów i informacji z zasobów geodezyjnych i kartograficznych",null,null,"0830",null,{"$f":"SUM(G449:G449)","v":0},null,{"$error":"#DIV/0!"},0,null,{"$error":"#DIV/0!"},{"$error":"#DIV/0!"},{"$f":"IF(SUM(#REF!)>0,\"Tak\",\"\")","v":{"$error":"#REF!"}},{"$f":"IF(OR(G448<0,J448<0,#REF!<0,#REF!<0),\"ujemny plan\",\"\")","v":{"$error":"#REF!"}}]
["DWB/6/WU/GK","wpływy z usług - sprzedaż map, danych z ewidencji gruntów i budynków oraz innych materiałów i informacji z zasobów geodezyjnych i kartograficznych","710","71012","0830","PWMW",null,null,{"$error":"#DIV/0!"},null,null,{"$error":"#DIV/0!"},{"$error":"#DIV/0!"},{"$f":"IF(SUM(#REF!)>0,\"Tak\",\"\")","v":{"$error":"#REF!"}},{"$f":"IF(OR(G449<0,J449<0,#REF!<0,#REF!<0),\"ujemny plan\",\"\")","v":{"$error":"#REF!"}}]
["DWB/6/WU/ME","wpływy z usług - zwrot odpłatności za media",null,null,"0830",null,{"$f":"SUM(G451:G485)","v":3996627},4136961.0799999996,1.0351131291461524,94715,86203.05,0.91013091907300858,"Tak",{"$f":"IF(SUM(#REF!)>0,\"Tak\",\"\")","v":{"$error":"#REF!"}},{"$f":"IF(OR(G450<0,J450<0,#REF!<0,#REF!<0),\"ujemny plan\",\"\")","v":{"$error":"#REF!"}}]
["DWB/6/WU/ME","wpływy z usług - zwrot odpłatności za media","020","02001","0830",null,null,null,{"$error":"#DIV/0!"},null,null,{"$error":"#DIV/0!"},{"$error":"#DIV/0!"},{"$f":"IF(SUM(#REF!)>0,\"Tak\",\"\")","v":{"$error":"#REF!"}},{"$f":"IF(OR(G451<0,J451<0,#REF!<0,#REF!<0),\"ujemny plan\",\"\")","v":{"$error":"#REF!"}}]
["DWB/6/WU/ME","wpływy z usług - zwrot odpłatności za media",400,40002,"0830",null,null,null,{"$error":"#DIV/0!"},null,null,{"$error":"#DIV/0!"},{"$error":"#DIV/0!"},{"$f":"IF(SUM(#REF!)>0,\"Tak\",\"\")","v":{"$error":"#REF!"}},{"$f":"IF(OR(G452<0,J452<0,#REF!<0,#REF!<0),\"ujemny plan\",\"\")","v":{"$error":"#REF!"}}]
["DWB/6/WU/ME","wpływy z usług - zwrot odpłatności za media",600,60004,"0830",null,null,null,{"$error":"#DIV/0!"},null,null,{"$error":"#DIV/0!"},{"$error":"#DIV/0!"},{"$f":"IF(SUM(#REF!)>0,\"Tak\",\"\")","v":{"$error":"#REF!"}},{"$f":"IF(OR(G453<0,J453<0,#REF!<0,#REF!<0),\"ujemny plan\",\"\")","v":{"$error":"#REF!"}}]
["DWB/6/WU/ME","wpływy z usług - zwrot odpłatności za media",600,60015,"0830",null,null,null,{"$error":"#DIV/0!"},null,null,{"$error":"#DIV/0!"},{"$error":"#DIV/0!"},{"$f":"IF(SUM(#REF!)>0,\"Tak\",\"\")","v":{"$error":"#REF!"}},{"$f":"IF(OR(G454<0,J454<0,#REF!<0,#REF!<0),\"ujemny plan\",\"\")","v":{"$error":"#REF!"}}]
["DWB/6/WU/ME","wpływy z usług - zwrot odpłatności za media",630,63001,"0830",null,null,null,{"$error":"#DIV/0!"},null,null,{"$error":"#DIV/0!"},{"$error":"#DIV/0!"},{"$f":"IF(SUM(#REF!)>0,\"Tak\",\"\")","v":{"$error":"#REF!"}},{"$f":"IF(OR(G455<0,J455<0,#REF!<0,#REF!<0),\"ujemny plan\",\"\")","v":{"$error":"#REF!"}}]
["DWB/6/WU/ME","wpływy z usług - zwrot odpłatności za media",700,70004,"0830",null,null,null,{"$error":"#DIV/0!"},null,null,{"$error":"#DIV/0!"},{"$f":"IF(SUM(G456:L456)>0,\"Tak\",\"\")","v":{"$error":"#DIV/0!"}},{"$f":"IF(SUM(#REF!)>0,\"Tak\",\"\")","v":{"$error":"#REF!"}},{"$f":"IF(OR(G456<0,J456<0,#REF!<0,#REF!<0),\"ujemny plan\",\"\")","v":{"$error":"#REF!"}}]
["DWB/6/WU/ME","wpływy z usług - zwrot odpłatności za media",700,70005,"0830","GMMW",null,null,{"$f":"H457/G457","v":{"$error":"#DIV/0!"}},null,null,{"$f":"K457/J457","v":{"$error":"#DIV/0!"}},{"$error":"#DIV/0!"},{"$f":"IF(SUM(#REF!)>0,\"Tak\",\"\")","v":{"$error":"#REF!"}},{"$f":"IF(OR(G457<0,J457<0,#REF!<0,#REF!<0),\"ujemny plan\",\"\")","v":{"$error":"#REF!"}}]
["DWB/6/WU/ME","wpływy z usług - zwrot odpłatności za media",700,70005,"0830","PWMW",null,null,{"$error":"#DIV/0!"},null,null,{"$error":"#DIV/0!"},{"$error":"#DIV/0!"},{"$f":"IF(SUM(#REF!)>0,\"Tak\",\"\")","v":{"$error":"#REF!"}},{"$f":"IF(OR(G458<0,J458<0,#REF!<0,#REF!<0),\"ujemny plan\",\"\")","v":{"$error":"#REF!"}}]
["DWB/6/WU/ME","wpływy z usług - zwrot odpłatności za media",700,"70007","0830","GMMW",3900000,4049071.32,1.0382234153846153,0,49.5,null,"Tak",{"$f":"IF(SUM(#REF!)>0,\"Tak\",\"\")","v":{"$error":"#REF!"}},{"$f":"IF(OR(G459<0,J459<0,#REF!<0,#REF!<0),\"ujemny plan\",\"\")","v":{"$error":"#REF!"}}]
["DWB/6/WU/ME","wpływy z usług - zwrot odpłatności za media",750,75023,"0830","GMMW",null,null,{"$error":"#DIV/0!"},null,null,{"$error":"#DIV/0!"},{"$error":"#DIV/0!"},{"$f":"IF(SUM(#REF!)>0,\"Tak\",\"\")","v":{"$error":"#REF!"}},{"$f":"IF(OR(G460<0,J460<0,#REF!<0,#REF!<0),\"ujemny plan\",\"\")","v":{"$error":"#REF!"}}]
["DWB/6/WU/ME","wpływy z usług - zwrot odpłatności za media",750,75075,"0830",null,null,null,{"$error":"#DIV/0!"},null,null,{"$error":"#DIV/0!"},{"$error":"#DIV/0!"},{"$f":"IF(SUM(#REF!)>0,\"Tak\",\"\")","v":{"$error":"#REF!"}},{"$f":"IF(OR(G461<0,J461<0,#REF!<0,#REF!<0),\"ujemny plan\",\"\")","v":{"$error":"#REF!"}}]
["DWB/6/WU/ME","wpływy z usług - zwrot odpłatności za media",801,80101,"0830","GMMW",null,null,{"$error":"#DIV/0!"},null,null,{"$error":"#DIV/0!"},{"$error":"#DIV/0!"},{"$f":"IF(SUM(#REF!)>0,\"Tak\",\"\")","v":{"$error":"#REF!"}},{"$f":"IF(OR(G462<0,J462<0,#REF!<0,#REF!<0),\"ujemny plan\",\"\")","v":{"$error":"#REF!"}}]
["DWB/6/WU/ME","wpływy z usług - zwrot odpłatności za media",801,80104,"0830","GMMW",null,null,{"$error":"#DIV/0!"},null,null,{"$error":"#DIV/0!"},{"$error":"#DIV/0!"},{"$f":"IF(SUM(#REF!)>0,\"Tak\",\"\")","v":{"$error":"#REF!"}},{"$f":"IF(OR(G463<0,J463<0,#REF!<0,#REF!<0),\"ujemny plan\",\"\")","v":{"$error":"#REF!"}}]
["DWB/6/WU/ME","wpływy z usług - zwrot odpłatności za media",801,80105,"0830","GMMW",null,null,{"$error":"#DIV/0!"},null,null,{"$error":"#DIV/0!"},{"$error":"#DIV/0!"},{"$f":"IF(SUM(#REF!)>0,\"Tak\",\"\")","v":{"$error":"#REF!"}},{"$f":"IF(OR(G464<0,J464<0,#REF!<0,#REF!<0),\"ujemny plan\",\"\")","v":{"$error":"#REF!"}}]
["DWB/6/WU/ME","wpływy z usług - zwrot odpłatności za media",801,80120,"0830","GMMW",null,null,{"$error":"#DIV/0!"},null,null,{"$error":"#DIV/0!"},{"$error":"#DIV/0!"},{"$f":"IF(SUM(#REF!)>0,\"Tak\",\"\")","v":{"$error":"#REF!"}},{"$f":"IF(OR(G465<0,J465<0,#REF!<0,#REF!<0),\"ujemny plan\",\"\")","v":{"$error":"#REF!"}}]
["DWB/6/WU/ME","wpływy z usług - zwrot odpłatności za media",801,80140,"0830","GMMW",null,null,{"$error":"#DIV/0!"},null,null,{"$error":"#DIV/0!"},{"$error":"#DIV/0!"},{"$f":"IF(SUM(#REF!)>0,\"Tak\",\"\")","v":{"$error":"#REF!"}},{"$f":"IF(OR(G466<0,J466<0,#REF!<0,#REF!<0),\"ujemny plan\",\"\")","v":{"$error":"#REF!"}}]
["DWB/6/WU/ME","wpływy z usług - zwrot odpłatności za media",801,80148,"0830","GMMW",null,null,{"$error":"#DIV/0!"},null,null,{"$error":"#DIV/0!"},{"$error":"#DIV/0!"},{"$f":"IF(SUM(#REF!)>0,\"Tak\",\"\")","v":{"$error":"#REF!"}},{"$f":"IF(OR(G467<0,J467<0,#REF!<0,#REF!<0),\"ujemny plan\",\"\")","v":{"$error":"#REF!"}}]
["DWB/6/WU/ME","wpływy z usług - zwrot odpłatności za media","851","85158","0830","GMMW",null,null,{"$error":"#DIV/0!"},null,null,{"$error":"#DIV/0!"},{"$error":"#DIV/0!"},{"$f":"IF(SUM(#REF!)>0,\"Tak\",\"\")","v":{"$error":"#REF!"}},{"$f":"IF(OR(G468<0,J468<0,#REF!<0,#REF!<0),\"ujemny plan\",\"\")","v":{"$error":"#REF!"}}]
["DWB/6/WU/ME","wpływy z usług - zwrot odpłatności za media",852,85202,"0830",null,null,null,{"$error":"#DIV/0!"},null,null,{"$error":"#DIV/0!"},{"$error":"#DIV/0!"},{"$f":"IF(SUM(#REF!)>0,\"Tak\",\"\")","v":{"$error":"#REF!"}},{"$f":"IF(OR(G469<0,J469<0,#REF!<0,#REF!<0),\"ujemny plan\",\"\")","v":{"$error":"#REF!"}}]
["DWB/6/WU/ME","wpływy z usług - zwrot odpłatności za media",852,85203,"0830",null,null,null,{"$error":"#DIV/0!"},null,null,{"$error":"#DIV/0!"},{"$error":"#DIV/0!"},{"$f":"IF(SUM(#REF!)>0,\"Tak\",\"\")","v":{"$error":"#REF!"}},{"$f":"IF(OR(G470<0,J470<0,#REF!<0,#REF!<0),\"ujemny plan\",\"\")","v":{"$error":"#REF!"}}]
["DWB/6/WU/ME","wpływy z usług - zwrot odpłatności za media",852,85204,"0830",null,null,null,{"$error":"#DIV/0!"},null,null,{"$error":"#DIV/0!"},{"$error":"#DIV/0!"},{"$f":"IF(SUM(#REF!)>0,\"Tak\",\"\")","v":{"$error":"#REF!"}},{"$f":"IF(OR(G471<0,J471<0,#REF!<0,#REF!<0),\"ujemny plan\",\"\")","v":{"$error":"#REF!"}}]
["DWB/6/WU/ME","wpływy z usług - zwrot odpłatności za media",852,85214,"0830",null,null,null,{"$error":"#DIV/0!"},null,null,{"$error":"#DIV/0!"},{"$error":"#DIV/0!"},{"$f":"IF(SUM(#REF!)>0,\"Tak\",\"\")","v":{"$error":"#REF!"}},{"$f":"IF(OR(G472<0,J472<0,#REF!<0,#REF!<0),\"ujemny plan\",\"\")","v":{"$error":"#REF!"}}]
["DWB/6/WU/ME","wpływy z usług - zwrot odpłatności za media",852,85219,"0830",null,null,null,{"$error":"#DIV/0!"},null,null,{"$error":"#DIV/0!"},{"$error":"#DIV/0!"},{"$f":"IF(SUM(#REF!)>0,\"Tak\",\"\")","v":{"$error":"#REF!"}},{"$f":"IF(OR(G473<0,J473<0,#REF!<0,#REF!<0),\"ujemny plan\",\"\")","v":{"$error":"#REF!"}}]
["DWB/6/WU/ME","wpływy z usług - zwrot odpłatności za media",852,85228,"0830",null,null,null,{"$error":"#DIV/0!"},null,null,{"$error":"#DIV/0!"},{"$error":"#DIV/0!"},{"$f":"IF(SUM(#REF!)>0,\"Tak\",\"\")","v":{"$error":"#REF!"}},{"$f":"IF(OR(G474<0,J474<0,#REF!<0,#REF!<0),\"ujemny plan\",\"\")","v":{"$error":"#REF!"}}]
["DWB/6/WU/ME","wpływy z usług - zwrot odpłatności za media",854,"85406","0830","GMMW",null,null,{"$error":"#DIV/0!"},null,null,{"$error":"#DIV/0!"},{"$error":"#DIV/0!"},{"$f":"IF(SUM(#REF!)>0,\"Tak\",\"\")","v":{"$error":"#REF!"}},{"$f":"IF(OR(G475<0,J475<0,#REF!<0,#REF!<0),\"ujemny plan\",\"\")","v":{"$error":"#REF!"}}]
["DWB/6/WU/ME","wpływy z usług - zwrot odpłatności za media",854,"85407","0830","GMMW",null,null,{"$error":"#DIV/0!"},null,null,{"$error":"#DIV/0!"},{"$error":"#DIV/0!"},{"$f":"IF(SUM(#REF!)>0,\"Tak\",\"\")","v":{"$error":"#REF!"}},{"$f":"IF(OR(G476<0,J476<0,#REF!<0,#REF!<0),\"ujemny plan\",\"\")","v":{"$error":"#REF!"}}]
["DWB/6/WU/ME","wpływy z usług - zwrot odpłatności za media",854,"85417","0830","GMMW",null,null,{"$error":"#DIV/0!"},null,null,{"$error":"#DIV/0!"},{"$error":"#DIV/0!"},{"$f":"IF(SUM(#REF!)>0,\"Tak\",\"\")","v":{"$error":"#REF!"}},{"$f":"IF(OR(G477<0,J477<0,#REF!<0,#REF!<0),\"ujemny plan\",\"\")","v":{"$error":"#REF!"}}]
["DWB/6/WU/ME","wpływy z usług - zwrot odpłatności za media","855","85516","0830","GMMW",94715,86153.55,0.9096082985799504,94715,86153.55,0.9096082985799504,"Tak",{"$f":"IF(SUM(#REF!)>0,\"Tak\",\"\")","v":{"$error":"#REF!"}},{"$f":"IF(OR(G478<0,J478<0,#REF!<0,#REF!<0),\"ujemny plan\",\"\")","v":{"$error":"#REF!"}}]
["DWB/6/WU/ME","wpływy z usług - zwrot odpłatności za media",900,90001,"0830",null,null,null,{"$error":"#DIV/0!"},null,null,{"$error":"#DIV/0!"},{"$error":"#DIV/0!"},{"$f":"IF(SUM(#REF!)>0,\"Tak\",\"\")","v":{"$error":"#REF!"}},{"$f":"IF(OR(G479<0,J479<0,#REF!<0,#REF!<0),\"ujemny plan\",\"\")","v":{"$error":"#REF!"}}]
["DWB/6/WU/ME","wpływy z usług - zwrot odpłatności za media",900,"90003","0830","GMMW",null,null,{"$error":"#DIV/0!"},null,null,{"$error":"#DIV/0!"},{"$error":"#DIV/0!"},{"$f":"IF(SUM(#REF!)>0,\"Tak\",\"\")","v":{"$error":"#REF!"}},{"$f":"IF(OR(G480<0,J480<0,#REF!<0,#REF!<0),\"ujemny plan\",\"\")","v":{"$error":"#REF!"}}]
["DWB/6/WU/ME","wpływy z usług - zwrot odpłatności za media",900,"90004","0830","GMMW",null,null,{"$error":"#DIV/0!"},null,null,{"$error":"#DIV/0!"},{"$error":"#DIV/0!"},{"$f":"IF(SUM(#REF!)>0,\"Tak\",\"\")","v":{"$error":"#REF!"}},{"$f":"IF(OR(G481<0,J481<0,#REF!<0,#REF!<0),\"ujemny plan\",\"\")","v":{"$error":"#REF!"}}]
["DWB/6/WU/ME","wpływy z usług - zwrot odpłatności za media",900,90015,"0830",null,null,null,{"$error":"#DIV/0!"},null,null,{"$error":"#DIV/0!"},{"$error":"#DIV/0!"},{"$f":"IF(SUM(#REF!)>0,\"Tak\",\"\")","v":{"$error":"#REF!"}},{"$f":"IF(OR(G482<0,J482<0,#REF!<0,#REF!<0),\"ujemny plan\",\"\")","v":{"$error":"#REF!"}}]
["DWB/6/WU/ME","wpływy z usług - zwrot odpłatności za media",900,90095,"0830","GMMW",null,null,{"$error":"#DIV/0!"},null,null,{"$error":"#DIV/0!"},{"$error":"#DIV/0!"},{"$f":"IF(SUM(#REF!)>0,\"Tak\",\"\")","v":{"$error":"#REF!"}},{"$f":"IF(OR(G483<0,J483<0,#REF!<0,#REF!<0),\"ujemny plan\",\"\")","v":{"$error":"#REF!"}}]
["DWB/6/WU/ME","wpływy z usług - zwrot odpłatności za media",925,92504,"0830",null,null,null,{"$error":"#DIV/0!"},null,null,{"$error":"#DIV/0!"},{"$error":"#DIV/0!"},{"$f":"IF(SUM(#REF!)>0,\"Tak\",\"\")","v":{"$error":"#REF!"}},{"$f":"IF(OR(G484<0,J484<0,#REF!<0,#REF!<0),\"ujemny plan\",\"\")","v":{"$error":"#REF!"}}]
["DWB/6/WU/ME","wpływy z usług - zwrot odpłatności za media",926,92604,"0830","GMMW",1912,1736.21,0.90805962343096236,0,0,null,"Tak",{"$f":"IF(SUM(#REF!)>0,\"Tak\",\"\")","v":{"$error":"#REF!"}},{"$f":"IF(OR(G485<0,J485<0,#REF!<0,#REF!<0),\"ujemny plan\",\"\")","v":{"$error":"#REF!"}}]
["DWB/6/WU/PO","wpływy z usług - pozostałe",null,null,"0830",null,{"$f":"SUM(G487:G528)","v":4834871},4594200.95,0.95022203281121675,0,0,null,"Tak",{"$f":"IF(SUM(#REF!)>0,\"Tak\",\"\")","v":{"$error":"#REF!"}},{"$f":"IF(OR(G486<0,J486<0,#REF!<0,#REF!<0),\"ujemny plan\",\"\")","v":{"$error":"#REF!"}}]
["DWB/6/WU/PO","wpływy z usług - pozostałe","020","02001","0830","GMMW",null,null,{"$error":"#DIV/0!"},null,null,{"$error":"#DIV/0!"},{"$error":"#DIV/0!"},{"$f":"IF(SUM(#REF!)>0,\"Tak\",\"\")","v":{"$error":"#REF!"}},{"$f":"IF(OR(G487<0,J487<0,#REF!<0,#REF!<0),\"ujemny plan\",\"\")","v":{"$error":"#REF!"}}]
["DWB/6/WU/PO","wpływy z usług - pozostałe",400,40002,"0830","GMMW",null,null,{"$error":"#DIV/0!"},null,null,{"$error":"#DIV/0!"},{"$error":"#DIV/0!"},{"$f":"IF(SUM(#REF!)>0,\"Tak\",\"\")","v":{"$error":"#REF!"}},{"$f":"IF(OR(G488<0,J488<0,#REF!<0,#REF!<0),\"ujemny plan\",\"\")","v":{"$error":"#REF!"}}]
["DWB/6/WU/PO","wpływy z usług - pozostałe",600,60004,"0830",null,null,null,{"$error":"#DIV/0!"},null,null,{"$error":"#DIV/0!"},{"$error":"#DIV/0!"},{"$f":"IF(SUM(#REF!)>0,\"Tak\",\"\")","v":{"$error":"#REF!"}},{"$f":"IF(OR(G489<0,J489<0,#REF!<0,#REF!<0),\"ujemny plan\",\"\")","v":{"$error":"#REF!"}}]
["DWB/6/WU/PO","wpływy z usług - pozostałe",600,60015,"0830","GMMW",null,null,{"$error":"#DIV/0!"},null,null,{"$error":"#DIV/0!"},{"$error":"#DIV/0!"},{"$f":"IF(SUM(#REF!)>0,\"Tak\",\"\")","v":{"$error":"#REF!"}},{"$f":"IF(OR(G490<0,J490<0,#REF!<0,#REF!<0),\"ujemny plan\",\"\")","v":{"$error":"#REF!"}}]
["DWB/6/WU/PO","wpływy z usług - pozostałe",630,63001,"0830","GMMW",null,null,{"$error":"#DIV/0!"},null,null,{"$error":"#DIV/0!"},{"$error":"#DIV/0!"},{"$f":"IF(SUM(#REF!)>0,\"Tak\",\"\")","v":{"$error":"#REF!"}},{"$f":"IF(OR(G491<0,J491<0,#REF!<0,#REF!<0),\"ujemny plan\",\"\")","v":{"$error":"#REF!"}}]
["DWB/6/WU/PO","wpływy z usług - pozostałe",700,70004,"0830",null,null,null,{"$error":"#DIV/0!"},null,null,{"$error":"#DIV/0!"},{"$error":"#DIV/0!"},{"$f":"IF(SUM(#REF!)>0,\"Tak\",\"\")","v":{"$error":"#REF!"}},{"$f":"IF(OR(G492<0,J492<0,#REF!<0,#REF!<0),\"ujemny plan\",\"\")","v":{"$error":"#REF!"}}]
["DWB/6/WU/PO","wpływy z usług - pozostałe",700,70005,"0830","GMMW",null,null,{"$error":"#DIV/0!"},null,null,{"$error":"#DIV/0!"},{"$error":"#DIV/0!"},{"$f":"IF(SUM(#REF!)>0,\"Tak\",\"\")","v":{"$error":"#REF!"}},{"$f":"IF(OR(G493<0,J493<0,#REF!<0,#REF!<0),\"ujemny plan\",\"\")","v":{"$error":"#REF!"}}]
["DWB/6/WU/PO","wpływy z usług - pozostałe","710","71002","0830","GMMW",null,null,{"$error":"#DIV/0!"},null,null,{"$error":"#DIV/0!"},{"$error":"#DIV/0!"},{"$f":"IF(SUM(#REF!)>0,\"Tak\",\"\")","v":{"$error":"#REF!"}},{"$f":"IF(OR(G494<0,J494<0,#REF!<0,#REF!<0),\"ujemny plan\",\"\")","v":{"$error":"#REF!"}}]
["DWB/6/WU/PO","wpływy z usług - pozostałe",750,75023,"0830","GMMW",null,null,{"$error":"#DIV/0!"},null,null,{"$error":"#DIV/0!"},{"$error":"#DIV/0!"},{"$f":"IF(SUM(#REF!)>0,\"Tak\",\"\")","v":{"$error":"#REF!"}},{"$f":"IF(OR(G495<0,J495<0,#REF!<0,#REF!<0),\"ujemny plan\",\"\")","v":{"$error":"#REF!"}}]
["DWB/6/WU/PO","wpływy z usług - pozostałe",750,75075,"0830",null,null,null,{"$error":"#DIV/0!"},null,null,{"$error":"#DIV/0!"},{"$error":"#DIV/0!"},{"$f":"IF(SUM(#REF!)>0,\"Tak\",\"\")","v":{"$error":"#REF!"}},{"$f":"IF(OR(G496<0,J496<0,#REF!<0,#REF!<0),\"ujemny plan\",\"\")","v":{"$error":"#REF!"}}]
["DWB/6/WU/PO","wpływy z usług - pozostałe",801,80101,"0830","GMMW",null,null,{"$error":"#DIV/0!"},null,null,{"$error":"#DIV/0!"},{"$error":"#DIV/0!"},{"$f":"IF(SUM(#REF!)>0,\"Tak\",\"\")","v":{"$error":"#REF!"}},{"$f":"IF(OR(G497<0,J497<0,#REF!<0,#REF!<0),\"ujemny plan\",\"\")","v":{"$error":"#REF!"}}]
["DWB/6/WU/PO","wpływy z usług - pozostałe",801,80104,"0830","GMMW",null,null,{"$error":"#DIV/0!"},null,null,{"$error":"#DIV/0!"},{"$error":"#DIV/0!"},{"$f":"IF(SUM(#REF!)>0,\"Tak\",\"\")","v":{"$error":"#REF!"}},{"$f":"IF(OR(G498<0,J498<0,#REF!<0,#REF!<0),\"ujemny plan\",\"\")","v":{"$error":"#REF!"}}]
["DWB/6/WU/PO","wpływy z usług - pozostałe",801,80105,"0830","GMMW",null,null,{"$error":"#DIV/0!"},null,null,{"$error":"#DIV/0!"},{"$error":"#DIV/0!"},{"$f":"IF(SUM(#REF!)>0,\"Tak\",\"\")","v":{"$error":"#REF!"}},{"$f":"IF(OR(G499<0,J499<0,#REF!<0,#REF!<0),\"ujemny plan\",\"\")","v":{"$error":"#REF!"}}]
["DWB/6/WU/PO","wpływy z usług - pozostałe",801,80120,"0830","GMMW",null,null,{"$error":"#DIV/0!"},null,null,{"$error":"#DIV/0!"},{"$error":"#DIV/0!"},{"$f":"IF(SUM(#REF!)>0,\"Tak\",\"\")","v":{"$error":"#REF!"}},{"$f":"IF(OR(G500<0,J500<0,#REF!<0,#REF!<0),\"ujemny plan\",\"\")","v":{"$error":"#REF!"}}]
["DWB/6/WU/PO","wpływy z usług - pozostałe",801,80140,"0830",null,null,null,{"$error":"#DIV/0!"},null,null,{"$error":"#DIV/0!"},{"$error":"#DIV/0!"},{"$f":"IF(SUM(#REF!)>0,\"Tak\",\"\")","v":{"$error":"#REF!"}},{"$f":"IF(OR(G501<0,J501<0,#REF!<0,#REF!<0),\"ujemny plan\",\"\")","v":{"$error":"#REF!"}}]
["DWB/6/WU/PO","wpływy z usług - pozostałe",801,80148,"0830",null,null,null,{"$error":"#DIV/0!"},null,null,{"$error":"#DIV/0!"},{"$error":"#DIV/0!"},{"$f":"IF(SUM(#REF!)>0,\"Tak\",\"\")","v":{"$error":"#REF!"}},{"$f":"IF(OR(G502<0,J502<0,#REF!<0,#REF!<0),\"ujemny plan\",\"\")","v":{"$error":"#REF!"}}]
["DWB/6/WU/PO","wpływy z usług - pozostałe",851,85158,"0830","GMMW",null,null,{"$error":"#DIV/0!"},null,null,{"$error":"#DIV/0!"},{"$error":"#DIV/0!"},{"$f":"IF(SUM(#REF!)>0,\"Tak\",\"\")","v":{"$error":"#REF!"}},{"$f":"IF(OR(G503<0,J503<0,#REF!<0,#REF!<0),\"ujemny plan\",\"\")","v":{"$error":"#REF!"}}]
["DWB/6/WU/PO","wpływy z usług - pozostałe",852,85202,"0830","PWMW",null,null,{"$error":"#DIV/0!"},null,null,{"$error":"#DIV/0!"},{"$error":"#DIV/0!"},{"$f":"IF(SUM(#REF!)>0,\"Tak\",\"\")","v":{"$error":"#REF!"}},{"$f":"IF(OR(G504<0,J504<0,#REF!<0,#REF!<0),\"ujemny plan\",\"\")","v":{"$error":"#REF!"}}]
["DWB/6/WU/PO","wpływy z usług - pozostałe",852,85203,"0830","GMMW",null,null,{"$error":"#DIV/0!"},null,null,{"$error":"#DIV/0!"},{"$error":"#DIV/0!"},{"$f":"IF(SUM(#REF!)>0,\"Tak\",\"\")","v":{"$error":"#REF!"}},{"$f":"IF(OR(G505<0,J505<0,#REF!<0,#REF!<0),\"ujemny plan\",\"\")","v":{"$error":"#REF!"}}]
["DWB/6/WU/PO","wpływy z usług - pozostałe",852,85203,"0830","PWMW",null,null,{"$error":"#DIV/0!"},null,null,{"$error":"#DIV/0!"},{"$error":"#DIV/0!"},{"$f":"IF(SUM(#REF!)>0,\"Tak\",\"\")","v":{"$error":"#REF!"}},{"$f":"IF(OR(G506<0,J506<0,#REF!<0,#REF!<0),\"ujemny plan\",\"\")","v":{"$error":"#REF!"}}]
["DWB/6/WU/PO","wpływy z usług - pozostałe",852,85204,"0830","PWMW",null,null,{"$error":"#DIV/0!"},null,null,{"$error":"#DIV/0!"},{"$error":"#DIV/0!"},{"$f":"IF(SUM(#REF!)>0,\"Tak\",\"\")","v":{"$error":"#REF!"}},{"$f":"IF(OR(G507<0,J507<0,#REF!<0,#REF!<0),\"ujemny plan\",\"\")","v":{"$error":"#REF!"}}]
["DWB/6/WU/PO","wpływy z usług - pozostałe",852,85214,"0830","GMMW",0,5673.06,null,0,0,null,"Tak",{"$f":"IF(SUM(#REF!)>0,\"Tak\",\"\")","v":{"$error":"#REF!"}},{"$f":"IF(OR(G508<0,J508<0,#REF!<0,#REF!<0),\"ujemny plan\",\"\")","v":{"$error":"#REF!"}}]
["DWB/6/WU/PO","wpływy z usług - pozostałe",852,85219,"0830","GMMW",null,null,{"$error":"#DIV/0!"},null,null,{"$error":"#DIV/0!"},{"$error":"#DIV/0!"},{"$f":"IF(SUM(#REF!)>0,\"Tak\",\"\")","v":{"$error":"#REF!"}},{"$f":"IF(OR(G509<0,J509<0,#REF!<0,#REF!<0),\"ujemny plan\",\"\")","v":{"$error":"#REF!"}}]
["DWB/6/WU/PO","wpływy z usług - pozostałe",852,85228,"0830","GMMW",112000,142373.03,1.2711877678571428,0,0,null,"Tak",{"$f":"IF(SUM(#REF!)>0,\"Tak\",\"\")","v":{"$error":"#REF!"}},{"$f":"IF(OR(G510<0,J510<0,#REF!<0,#REF!<0),\"ujemny plan\",\"\")","v":{"$error":"#REF!"}}]
["DWB/6/WU/PO","wpływy z usług - pozostałe",852,85228,"0830","PWMW",null,null,{"$error":"#DIV/0!"},null,null,{"$error":"#DIV/0!"},{"$error":"#DIV/0!"},{"$f":"IF(SUM(#REF!)>0,\"Tak\",\"\")","v":{"$error":"#REF!"}},{"$f":"IF(OR(G511<0,J511<0,#REF!<0,#REF!<0),\"ujemny plan\",\"\")","v":{"$error":"#REF!"}}]
["DWB/6/WU/PO","wpływy z usług - pozostałe",852,"85295","0830","PWMW",null,null,{"$error":"#DIV/0!"},null,null,{"$error":"#DIV/0!"},{"$error":"#DIV/0!"},{"$f":"IF(SUM(#REF!)>0,\"Tak\",\"\")","v":{"$error":"#REF!"}},{"$f":"IF(OR(G512<0,J512<0,#REF!<0,#REF!<0),\"ujemny plan\",\"\")","v":{"$error":"#REF!"}}]
["DWB/6/WU/PO","wpływy z usług - pozostałe",854,85407,"0830","PWMW",null,null,{"$error":"#DIV/0!"},null,null,{"$error":"#DIV/0!"},{"$error":"#DIV/0!"},{"$f":"IF(SUM(#REF!)>0,\"Tak\",\"\")","v":{"$error":"#REF!"}},{"$f":"IF(OR(G513<0,J513<0,#REF!<0,#REF!<0),\"ujemny plan\",\"\")","v":{"$error":"#REF!"}}]
["DWB/6/WU/PO","wpływy z usług - pozostałe",854,85412,"0830","GMMW",811505,811805.38,1.0003701517550723,0,0,null,"Tak",{"$f":"IF(SUM(#REF!)>0,\"Tak\",\"\")","v":{"$error":"#REF!"}},{"$f":"IF(OR(G514<0,J514<0,#REF!<0,#REF!<0),\"ujemny plan\",\"\")","v":{"$error":"#REF!"}}]
["DWB/6/WU/PO","wpływy z usług - pozostałe",854,85417,"0830","PWMW",null,null,{"$error":"#DIV/0!"},null,null,{"$error":"#DIV/0!"},{"$error":"#DIV/0!"},{"$f":"IF(SUM(#REF!)>0,\"Tak\",\"\")","v":{"$error":"#REF!"}},{"$f":"IF(OR(G515<0,J515<0,#REF!<0,#REF!<0),\"ujemny plan\",\"\")","v":{"$error":"#REF!"}}]
["DWB/6/WU/PO","wpływy z usług - pozostałe","855",85505,"0830",null,null,null,{"$error":"#DIV/0!"},null,null,{"$error":"#DIV/0!"},{"$error":"#DIV/0!"},{"$f":"IF(SUM(#REF!)>0,\"Tak\",\"\")","v":{"$error":"#REF!"}},{"$f":"IF(OR(G516<0,J516<0,#REF!<0,#REF!<0),\"ujemny plan\",\"\")","v":{"$error":"#REF!"}}]
["DWB/6/WU/PO","wpływy z usług - pozostałe","855",85508,"0830","GMMW",null,null,{"$error":"#DIV/0!"},null,null,{"$error":"#DIV/0!"},{"$error":"#DIV/0!"},{"$f":"IF(SUM(#REF!)>0,\"Tak\",\"\")","v":{"$error":"#REF!"}},{"$f":"IF(OR(G517<0,J517<0,#REF!<0,#REF!<0),\"ujemny plan\",\"\")","v":{"$error":"#REF!"}}]
["DWB/6/WU/PO","wpływy z usług - pozostałe","855",85510,"0830","PWMW",null,null,{"$error":"#DIV/0!"},null,null,{"$error":"#DIV/0!"},{"$error":"#DIV/0!"},{"$f":"IF(SUM(#REF!)>0,\"Tak\",\"\")","v":{"$error":"#REF!"}},{"$f":"IF(OR(G518<0,J518<0,#REF!<0,#REF!<0),\"ujemny plan\",\"\")","v":{"$error":"#REF!"}}]
["DWB/6/WU/PO","wpływy z usług - pozostałe","855",85595,"0830","PWMW",null,null,{"$error":"#DIV/0!"},null,null,{"$error":"#DIV/0!"},{"$error":"#DIV/0!"},{"$f":"IF(SUM(#REF!)>0,\"Tak\",\"\")","v":{"$error":"#REF!"}},{"$f":"IF(OR(G519<0,J519<0,#REF!<0,#REF!<0),\"ujemny plan\",\"\")","v":{"$error":"#REF!"}}]
["DWB/6/WU/PO","wpływy z usług - pozostałe",900,90001,"0830","GMMW",null,null,{"$error":"#DIV/0!"},null,null,{"$error":"#DIV/0!"},{"$f":"IF(SUM(G520:L520)>0,\"Tak\",\"\")","v":{"$error":"#DIV/0!"}},{"$f":"IF(SUM(#REF!)>0,\"Tak\",\"\")","v":{"$error":"#REF!"}},{"$f":"IF(OR(G520<0,J520<0,#REF!<0,#REF!<0),\"ujemny plan\",\"\")","v":{"$error":"#REF!"}}]
["DWB/6/WU/PO","wpływy z usług - pozostałe",900,90002,"0830","GMMW",null,null,{"$f":"H521/G521","v":{"$error":"#DIV/0!"}},null,null,{"$f":"K521/J521","v":{"$error":"#DIV/0!"}},{"$error":"#DIV/0!"},{"$f":"IF(SUM(#REF!)>0,\"Tak\",\"\")","v":{"$error":"#REF!"}},{"$f":"IF(OR(G521<0,J521<0,#REF!<0,#REF!<0),\"ujemny plan\",\"\")","v":{"$error":"#REF!"}}]
["DWB/6/WU/PO","wpływy z usług - pozostałe",900,90003,"0830","GMMW",null,null,{"$error":"#DIV/0!"},null,null,{"$error":"#DIV/0!"},{"$error":"#DIV/0!"},{"$f":"IF(SUM(#REF!)>0,\"Tak\",\"\")","v":{"$error":"#REF!"}},{"$f":"IF(OR(G522<0,J522<0,#REF!<0,#REF!<0),\"ujemny plan\",\"\")","v":{"$error":"#REF!"}}]
["DWB/6/WU/PO","wpływy z usług - pozostałe",900,90015,"0830",null,null,null,{"$error":"#DIV/0!"},null,null,{"$error":"#DIV/0!"},{"$error":"#DIV/0!"},{"$f":"IF(SUM(#REF!)>0,\"Tak\",\"\")","v":{"$error":"#REF!"}},{"$f":"IF(OR(G523<0,J523<0,#REF!<0,#REF!<0),\"ujemny plan\",\"\")","v":{"$error":"#REF!"}}]
["DWB/6/WU/PO","wpływy z usług - pozostałe",900,90095,"0830","GMMW",null,null,{"$error":"#DIV/0!"},null,null,{"$error":"#DIV/0!"},{"$error":"#DIV/0!"},{"$f":"IF(SUM(#REF!)>0,\"Tak\",\"\")","v":{"$error":"#REF!"}},{"$f":"IF(OR(G524<0,J524<0,#REF!<0,#REF!<0),\"ujemny plan\",\"\")","v":{"$error":"#REF!"}}]
["DWB/6/WU/PO","wpływy z usług - pozostałe",921,92105,"0830",null,null,null,{"$error":"#DIV/0!"},null,null,{"$error":"#DIV/0!"},{"$error":"#DIV/0!"},{"$f":"IF(SUM(#REF!)>0,\"Tak\",\"\")","v":{"$error":"#REF!"}},{"$f":"IF(OR(G525<0,J525<0,#REF!<0,#REF!<0),\"ujemny plan\",\"\")","v":{"$error":"#REF!"}}]
["DWB/6/WU/PO","wpływy z usług - pozostałe",925,92504,"0830","GMMW",null,null,{"$error":"#DIV/0!"},null,null,{"$error":"#DIV/0!"},{"$error":"#DIV/0!"},{"$f":"IF(SUM(#REF!)>0,\"Tak\",\"\")","v":{"$error":"#REF!"}},{"$f":"IF(OR(G526<0,J526<0,#REF!<0,#REF!<0),\"ujemny plan\",\"\")","v":{"$error":"#REF!"}}]
["DWB/6/WU/PO","wpływy z usług - pozostałe",926,"92601","0830","GMMW",null,null,{"$error":"#DIV/0!"},null,null,{"$error":"#DIV/0!"},{"$error":"#DIV/0!"},{"$f":"IF(SUM(#REF!)>0,\"Tak\",\"\")","v":{"$error":"#REF!"}},{"$f":"IF(OR(G527<0,J527<0,#REF!<0,#REF!<0),\"ujemny plan\",\"\")","v":{"$error":"#REF!"}}]
["DWB/6/WU/PO","wpływy z usług - pozostałe",926,92604,"0830","GMMW",3911366,3634349.48,0.92917652809785634,0,0,null,"Tak",{"$f":"IF(SUM(#REF!)>0,\"Tak\",\"\")","v":{"$error":"#REF!"}},{"$f":"IF(OR(G528<0,J528<0,#REF!<0,#REF!<0),\"ujemny plan\",\"\")","v":{"$error":"#REF!"}}]
["DWB/6/WU/PC","wpływy z usług - opłaty za korzystanie z Portu Czerniakowskiego","900","90095","0830","GMMW",null,null,{"$error":"#DIV/0!"},null,null,{"$error":"#DIV/0!"},{"$error":"#DIV/0!"},{"$f":"IF(SUM(#REF!)>0,\"Tak\",\"\")","v":{"$error":"#REF!"}},{"$f":"IF(OR(G529<0,J529<0,#REF!<0,#REF!<0),\"ujemny plan\",\"\")","v":{"$error":"#REF!"}}]
["DWB/6/WU/TM","wpływy z usług - sprzedaż biletów komunikacji miejskiej",600,60004,"0830","GMMW",null,null,{"$error":"#DIV/0!"},null,null,{"$error":"#DIV/0!"},{"$error":"#DIV/0!"},{"$f":"IF(SUM(#REF!)>0,\"Tak\",\"\")","v":{"$error":"#REF!"}},{"$f":"IF(OR(G530<0,J530<0,#REF!<0,#REF!<0),\"ujemny plan\",\"\")","v":{"$error":"#REF!"}}]
["DWB/6/NR","Odsetki za nieterminowe rozliczenia, płacone przez urząd skarbowy",null,null,"0890",null,{"$f":"SUM(G532:G533)","v":0},0,{"$error":"#DIV/0!"},0,0,{"$error":"#DIV/0!"},{"$error":"#DIV/0!"},{"$f":"IF(SUM(#REF!)>0,\"Tak\",\"\")","v":{"$error":"#REF!"}},{"$f":"IF(OR(G531<0,J531<0,#REF!<0,#REF!<0),\"ujemny plan\",\"\")","v":{"$error":"#REF!"}}]
["DWB/6/NR","Odsetki za nieterminowe rozliczenia, płacone przez urząd skarbowy",756,75621,"0890",null,null,null,{"$error":"#DIV/0!"},null,null,{"$error":"#DIV/0!"},{"$error":"#DIV/0!"},{"$f":"IF(SUM(#REF!)>0,\"Tak\",\"\")","v":{"$error":"#REF!"}},{"$f":"IF(OR(G532<0,J532<0,#REF!<0,#REF!<0),\"ujemny plan\",\"\")","v":{"$error":"#REF!"}}]
["DWB/6/NR","Odsetki za nieterminowe rozliczenia, płacone przez urząd skarbowy",756,75622,"0890",null,null,null,{"$error":"#DIV/0!"},null,null,{"$error":"#DIV/0!"},{"$error":"#DIV/0!"},{"$f":"IF(SUM(#REF!)>0,\"Tak\",\"\")","v":{"$error":"#REF!"}},{"$f":"IF(OR(G533<0,J533<0,#REF!<0,#REF!<0),\"ujemny plan\",\"\")","v":{"$error":"#REF!"}}]
["DWB/6/OD","Odsetki od dotacji pobranych w nadmiernej wysokości",null,null,"0900",null,{"$f":"SUM(G535:G572)","v":0},61.2,null,0,61.2,null,"Tak",{"$f":"IF(SUM(#REF!)>0,\"Tak\",\"\")","v":{"$error":"#REF!"}},{"$f":"IF(OR(G534<0,J534<0,#REF!<0,#REF!<0),\"ujemny plan\",\"\")","v":{"$error":"#REF!"}}]
["DWB/6/OD","Odsetki od dotacji pobranych w nadmiernej wysokości",700,70005,"0900","PWMW",null,null,{"$error":"#DIV/0!"},null,null,{"$error":"#DIV/0!"},{"$error":"#DIV/0!"},{"$f":"IF(SUM(#REF!)>0,\"Tak\",\"\")","v":{"$error":"#REF!"}},{"$f":"IF(OR(G535<0,J535<0,#REF!<0,#REF!<0),\"ujemny plan\",\"\")","v":{"$error":"#REF!"}}]
["DWB/6/OD","Odsetki od dotacji pobranych w nadmiernej wysokości",755,75515,"0900","GMMW",null,null,{"$error":"#DIV/0!"},null,null,{"$error":"#DIV/0!"},{"$error":"#DIV/0!"},{"$f":"IF(SUM(#REF!)>0,\"Tak\",\"\")","v":{"$error":"#REF!"}},{"$f":"IF(OR(G536<0,J536<0,#REF!<0,#REF!<0),\"ujemny plan\",\"\")","v":{"$error":"#REF!"}}]
["DWB/6/OD","Odsetki od dotacji pobranych w nadmiernej wysokości",801,80101,"0900","GMMW",null,null,{"$error":"#DIV/0!"},null,null,{"$error":"#DIV/0!"},{"$error":"#DIV/0!"},{"$f":"IF(SUM(#REF!)>0,\"Tak\",\"\")","v":{"$error":"#REF!"}},{"$f":"IF(OR(G537<0,J537<0,#REF!<0,#REF!<0),\"ujemny plan\",\"\")","v":{"$error":"#REF!"}}]
["DWB/6/OD","Odsetki od dotacji pobranych w nadmiernej wysokości",801,80102,"0900","GMMW",null,null,{"$error":"#DIV/0!"},null,null,{"$error":"#DIV/0!"},{"$error":"#DIV/0!"},{"$f":"IF(SUM(#REF!)>0,\"Tak\",\"\")","v":{"$error":"#REF!"}},{"$f":"IF(OR(G538<0,J538<0,#REF!<0,#REF!<0),\"ujemny plan\",\"\")","v":{"$error":"#REF!"}}]
["DWB/6/OD","Odsetki od dotacji pobranych w nadmiernej wysokości",801,80104,"0900","GMMW",null,null,{"$error":"#DIV/0!"},null,null,{"$error":"#DIV/0!"},{"$error":"#DIV/0!"},{"$f":"IF(SUM(#REF!)>0,\"Tak\",\"\")","v":{"$error":"#REF!"}},{"$f":"IF(OR(G539<0,J539<0,#REF!<0,#REF!<0),\"ujemny plan\",\"\")","v":{"$error":"#REF!"}}]
["DWB/6/OD","Odsetki od dotacji pobranych w nadmiernej wysokości",801,80115,"0900","GMMW",null,null,{"$error":"#DIV/0!"},null,null,{"$error":"#DIV/0!"},{"$error":"#DIV/0!"},{"$f":"IF(SUM(#REF!)>0,\"Tak\",\"\")","v":{"$error":"#REF!"}},{"$f":"IF(OR(G540<0,J540<0,#REF!<0,#REF!<0),\"ujemny plan\",\"\")","v":{"$error":"#REF!"}}]
["DWB/6/OD","Odsetki od dotacji pobranych w nadmiernej wysokości",801,80116,"0900","GMMW",null,null,{"$error":"#DIV/0!"},null,null,{"$error":"#DIV/0!"},{"$error":"#DIV/0!"},{"$f":"IF(SUM(#REF!)>0,\"Tak\",\"\")","v":{"$error":"#REF!"}},{"$f":"IF(OR(G541<0,J541<0,#REF!<0,#REF!<0),\"ujemny plan\",\"\")","v":{"$error":"#REF!"}}]
["DWB/6/OD","Odsetki od dotacji pobranych w nadmiernej wysokości",801,80117,"0900","GMMW",null,null,{"$error":"#DIV/0!"},null,null,{"$error":"#DIV/0!"},{"$error":"#DIV/0!"},{"$f":"IF(SUM(#REF!)>0,\"Tak\",\"\")","v":{"$error":"#REF!"}},{"$f":"IF(OR(G542<0,J542<0,#REF!<0,#REF!<0),\"ujemny plan\",\"\")","v":{"$error":"#REF!"}}]
["DWB/6/OD","Odsetki od dotacji pobranych w nadmiernej wysokości",801,80120,"0900","GMMW",null,null,{"$error":"#DIV/0!"},null,null,{"$error":"#DIV/0!"},{"$error":"#DIV/0!"},{"$f":"IF(SUM(#REF!)>0,\"Tak\",\"\")","v":{"$error":"#REF!"}},{"$f":"IF(OR(G543<0,J543<0,#REF!<0,#REF!<0),\"ujemny plan\",\"\")","v":{"$error":"#REF!"}}]
["DWB/6/OD","Odsetki od dotacji pobranych w nadmiernej wysokości",801,80121,"0900","GMMW",null,null,{"$error":"#DIV/0!"},null,null,{"$error":"#DIV/0!"},{"$error":"#DIV/0!"},{"$f":"IF(SUM(#REF!)>0,\"Tak\",\"\")","v":{"$error":"#REF!"}},{"$f":"IF(OR(G544<0,J544<0,#REF!<0,#REF!<0),\"ujemny plan\",\"\")","v":{"$error":"#REF!"}}]
["DWB/6/OD","Odsetki od dotacji pobranych w nadmiernej wysokości",801,80132,"0900","GMMW",null,null,{"$error":"#DIV/0!"},null,null,{"$error":"#DIV/0!"},{"$error":"#DIV/0!"},{"$f":"IF(SUM(#REF!)>0,\"Tak\",\"\")","v":{"$error":"#REF!"}},{"$f":"IF(OR(G545<0,J545<0,#REF!<0,#REF!<0),\"ujemny plan\",\"\")","v":{"$error":"#REF!"}}]
["DWB/6/OD","Odsetki od dotacji pobranych w nadmiernej wysokości",801,80150,"0900","GMMW",null,null,{"$error":"#DIV/0!"},null,null,{"$error":"#DIV/0!"},{"$error":"#DIV/0!"},{"$f":"IF(SUM(#REF!)>0,\"Tak\",\"\")","v":{"$error":"#REF!"}},{"$f":"IF(OR(G546<0,J546<0,#REF!<0,#REF!<0),\"ujemny plan\",\"\")","v":{"$error":"#REF!"}}]
["DWB/6/OD","Odsetki od dotacji pobranych w nadmiernej wysokości",851,85156,"0900","GMMW",null,null,{"$error":"#DIV/0!"},null,null,{"$error":"#DIV/0!"},{"$error":"#DIV/0!"},{"$f":"IF(SUM(#REF!)>0,\"Tak\",\"\")","v":{"$error":"#REF!"}},{"$f":"IF(OR(G547<0,J547<0,#REF!<0,#REF!<0),\"ujemny plan\",\"\")","v":{"$error":"#REF!"}}]
["DWB/6/OD","Odsetki od dotacji pobranych w nadmiernej wysokości",851,85195,"0900","GMMW",null,null,{"$error":"#DIV/0!"},null,null,{"$error":"#DIV/0!"},{"$error":"#DIV/0!"},{"$f":"IF(SUM(#REF!)>0,\"Tak\",\"\")","v":{"$error":"#REF!"}},{"$f":"IF(OR(G548<0,J548<0,#REF!<0,#REF!<0),\"ujemny plan\",\"\")","v":{"$error":"#REF!"}}]
["DWB/6/OD","Odsetki od dotacji pobranych w nadmiernej wysokości",852,85202,"0900","GMMW",null,null,{"$error":"#DIV/0!"},null,null,{"$error":"#DIV/0!"},{"$error":"#DIV/0!"},{"$f":"IF(SUM(#REF!)>0,\"Tak\",\"\")","v":{"$error":"#REF!"}},{"$f":"IF(OR(G549<0,J549<0,#REF!<0,#REF!<0),\"ujemny plan\",\"\")","v":{"$error":"#REF!"}}]
["DWB/6/OD","Odsetki od dotacji pobranych w nadmiernej wysokości",852,85203,"0900","PWMW",null,null,{"$error":"#DIV/0!"},null,null,{"$error":"#DIV/0!"},{"$error":"#DIV/0!"},{"$f":"IF(SUM(#REF!)>0,\"Tak\",\"\")","v":{"$error":"#REF!"}},{"$f":"IF(OR(G550<0,J550<0,#REF!<0,#REF!<0),\"ujemny plan\",\"\")","v":{"$error":"#REF!"}}]
["DWB/6/OD","Odsetki od dotacji pobranych w nadmiernej wysokości",852,85204,"0900","GMMW",null,null,{"$error":"#DIV/0!"},null,null,{"$error":"#DIV/0!"},{"$error":"#DIV/0!"},{"$f":"IF(SUM(#REF!)>0,\"Tak\",\"\")","v":{"$error":"#REF!"}},{"$f":"IF(OR(G551<0,J551<0,#REF!<0,#REF!<0),\"ujemny plan\",\"\")","v":{"$error":"#REF!"}}]
["DWB/6/OD","Odsetki od dotacji pobranych w nadmiernej wysokości",852,85205,"0900","PWMW",null,null,{"$error":"#DIV/0!"},null,null,{"$error":"#DIV/0!"},{"$error":"#DIV/0!"},{"$f":"IF(SUM(#REF!)>0,\"Tak\",\"\")","v":{"$error":"#REF!"}},{"$f":"IF(OR(G552<0,J552<0,#REF!<0,#REF!<0),\"ujemny plan\",\"\")","v":{"$error":"#REF!"}}]
["DWB/6/OD","Odsetki od dotacji pobranych w nadmiernej wysokości",852,85213,"0900","GMMW",null,null,{"$error":"#DIV/0!"},null,null,{"$error":"#DIV/0!"},{"$error":"#DIV/0!"},{"$f":"IF(SUM(#REF!)>0,\"Tak\",\"\")","v":{"$error":"#REF!"}},{"$f":"IF(OR(G553<0,J553<0,#REF!<0,#REF!<0),\"ujemny plan\",\"\")","v":{"$error":"#REF!"}}]
["DWB/6/OD","Odsetki od dotacji pobranych w nadmiernej wysokości",852,85214,"0900","GMMW",null,null,{"$error":"#DIV/0!"},null,null,{"$error":"#DIV/0!"},{"$error":"#DIV/0!"},{"$f":"IF(SUM(#REF!)>0,\"Tak\",\"\")","v":{"$error":"#REF!"}},{"$f":"IF(OR(G554<0,J554<0,#REF!<0,#REF!<0),\"ujemny plan\",\"\")","v":{"$error":"#REF!"}}]
["DWB/6/OD","Odsetki od dotacji pobranych w nadmiernej wysokości",852,85215,"0900","GMMW",null,null,{"$error":"#DIV/0!"},null,null,{"$error":"#DIV/0!"},{"$error":"#DIV/0!"},{"$f":"IF(SUM(#REF!)>0,\"Tak\",\"\")","v":{"$error":"#REF!"}},{"$f":"IF(OR(G555<0,J555<0,#REF!<0,#REF!<0),\"ujemny plan\",\"\")","v":{"$error":"#REF!"}}]
["DWB/6/OD","Odsetki od dotacji pobranych w nadmiernej wysokości",852,85216,"0900","GMMW",null,null,{"$error":"#DIV/0!"},null,null,{"$error":"#DIV/0!"},{"$error":"#DIV/0!"},{"$f":"IF(SUM(#REF!)>0,\"Tak\",\"\")","v":{"$error":"#REF!"}},{"$f":"IF(OR(G556<0,J556<0,#REF!<0,#REF!<0),\"ujemny plan\",\"\")","v":{"$error":"#REF!"}}]
["DWB/6/OD","Odsetki od dotacji pobranych w nadmiernej wysokości",852,85218,"0900","GMMW",null,null,{"$error":"#DIV/0!"},null,null,{"$error":"#DIV/0!"},{"$error":"#DIV/0!"},{"$f":"IF(SUM(#REF!)>0,\"Tak\",\"\")","v":{"$error":"#REF!"}},{"$f":"IF(OR(G557<0,J557<0,#REF!<0,#REF!<0),\"ujemny plan\",\"\")","v":{"$error":"#REF!"}}]
["DWB/6/OD","Odsetki od dotacji pobranych w nadmiernej wysokości",852,85219,"0900","GMMW",null,null,{"$error":"#DIV/0!"},null,null,{"$error":"#DIV/0!"},{"$error":"#DIV/0!"},{"$f":"IF(SUM(#REF!)>0,\"Tak\",\"\")","v":{"$error":"#REF!"}},{"$f":"IF(OR(G558<0,J558<0,#REF!<0,#REF!<0),\"ujemny plan\",\"\")","v":{"$error":"#REF!"}}]
["DWB/6/OD","Odsetki od dotacji pobranych w nadmiernej wysokości",852,85228,"0900","GMMW",null,null,{"$error":"#DIV/0!"},null,null,{"$error":"#DIV/0!"},{"$error":"#DIV/0!"},{"$f":"IF(SUM(#REF!)>0,\"Tak\",\"\")","v":{"$error":"#REF!"}},{"$f":"IF(OR(G559<0,J559<0,#REF!<0,#REF!<0),\"ujemny plan\",\"\")","v":{"$error":"#REF!"}}]
["DWB/6/OD","Odsetki od dotacji pobranych w nadmiernej wysokości",852,85231,"0900","GMMW",null,null,{"$error":"#DIV/0!"},null,null,{"$error":"#DIV/0!"},{"$error":"#DIV/0!"},{"$f":"IF(SUM(#REF!)>0,\"Tak\",\"\")","v":{"$error":"#REF!"}},{"$f":"IF(OR(G560<0,J560<0,#REF!<0,#REF!<0),\"ujemny plan\",\"\")","v":{"$error":"#REF!"}}]
["DWB/6/OD","Odsetki od dotacji pobranych w nadmiernej wysokości",852,85231,"0900","PWMW",null,null,{"$error":"#DIV/0!"},null,null,{"$error":"#DIV/0!"},{"$error":"#DIV/0!"},{"$f":"IF(SUM(#REF!)>0,\"Tak\",\"\")","v":{"$error":"#REF!"}},{"$f":"IF(OR(G561<0,J561<0,#REF!<0,#REF!<0),\"ujemny plan\",\"\")","v":{"$error":"#REF!"}}]
["DWB/6/OD","Odsetki od dotacji pobranych w nadmiernej wysokości",852,85278,"0900","GMMW",null,null,{"$error":"#DIV/0!"},null,null,{"$error":"#DIV/0!"},{"$error":"#DIV/0!"},{"$f":"IF(SUM(#REF!)>0,\"Tak\",\"\")","v":{"$error":"#REF!"}},{"$f":"IF(OR(G562<0,J562<0,#REF!<0,#REF!<0),\"ujemny plan\",\"\")","v":{"$error":"#REF!"}}]
["DWB/6/OD","Odsetki od dotacji pobranych w nadmiernej wysokości",852,85295,"0900","GMMW",null,null,{"$error":"#DIV/0!"},null,null,{"$error":"#DIV/0!"},{"$error":"#DIV/0!"},{"$f":"IF(SUM(#REF!)>0,\"Tak\",\"\")","v":{"$error":"#REF!"}},{"$f":"IF(OR(G563<0,J563<0,#REF!<0,#REF!<0),\"ujemny plan\",\"\")","v":{"$error":"#REF!"}}]
["DWB/6/OD","Odsetki od dotacji pobranych w nadmiernej wysokości",853,85321,"0900","PWMW",null,null,{"$error":"#DIV/0!"},null,null,{"$error":"#DIV/0!"},{"$error":"#DIV/0!"},{"$f":"IF(SUM(#REF!)>0,\"Tak\",\"\")","v":{"$error":"#REF!"}},{"$f":"IF(OR(G564<0,J564<0,#REF!<0,#REF!<0),\"ujemny plan\",\"\")","v":{"$error":"#REF!"}}]
["DWB/6/OD","Odsetki od dotacji pobranych w nadmiernej wysokości","853","85334","0900","GMMW",null,null,{"$error":"#DIV/0!"},null,null,{"$error":"#DIV/0!"},{"$error":"#DIV/0!"},{"$f":"IF(SUM(#REF!)>0,\"Tak\",\"\")","v":{"$error":"#REF!"}},{"$f":"IF(OR(G565<0,J565<0,#REF!<0,#REF!<0),\"ujemny plan\",\"\")","v":{"$error":"#REF!"}}]
["DWB/6/OD","Odsetki od dotacji pobranych w nadmiernej wysokości","853","85395","0900","GMMW",0,61.2,null,0,61.2,null,"Tak",{"$f":"IF(SUM(#REF!)>0,\"Tak\",\"\")","v":{"$error":"#REF!"}},{"$f":"IF(OR(G566<0,J566<0,#REF!<0,#REF!<0),\"ujemny plan\",\"\")","v":{"$error":"#REF!"}}]
["DWB/6/OD","Odsetki od dotacji pobranych w nadmiernej wysokości","854","85415","0900","GMMW",null,null,{"$error":"#DIV/0!"},null,null,{"$error":"#DIV/0!"},{"$error":"#DIV/0!"},{"$f":"IF(SUM(#REF!)>0,\"Tak\",\"\")","v":{"$error":"#REF!"}},{"$f":"IF(OR(G567<0,J567<0,#REF!<0,#REF!<0),\"ujemny plan\",\"\")","v":{"$error":"#REF!"}}]
["DWB/6/OD","Odsetki od dotacji pobranych w nadmiernej wysokości","855","85501","0900","GMMW",null,null,{"$error":"#DIV/0!"},null,null,{"$error":"#DIV/0!"},{"$error":"#DIV/0!"},{"$f":"IF(SUM(#REF!)>0,\"Tak\",\"\")","v":{"$error":"#REF!"}},{"$f":"IF(OR(G568<0,J568<0,#REF!<0,#REF!<0),\"ujemny plan\",\"\")","v":{"$error":"#REF!"}}]
["DWB/6/OD","Odsetki od dotacji pobranych w nadmiernej wysokości","855","85202","0900","GMMW",null,null,{"$error":"#DIV/0!"},null,null,{"$error":"#DIV/0!"},{"$error":"#DIV/0!"},{"$f":"IF(SUM(#REF!)>0,\"Tak\",\"\")","v":{"$error":"#REF!"}},{"$f":"IF(OR(G569<0,J569<0,#REF!<0,#REF!<0),\"ujemny plan\",\"\")","v":{"$error":"#REF!"}}]
["DWB/6/OD","Odsetki od dotacji pobranych w nadmiernej wysokości","855","85508","0900","PWMW",null,null,{"$error":"#DIV/0!"},null,null,{"$error":"#DIV/0!"},{"$error":"#DIV/0!"},{"$f":"IF(SUM(#REF!)>0,\"Tak\",\"\")","v":{"$error":"#REF!"}},{"$f":"IF(OR(G570<0,J570<0,#REF!<0,#REF!<0),\"ujemny plan\",\"\")","v":{"$error":"#REF!"}}]
["DWB/6/OD","Odsetki od dotacji pobranych w nadmiernej wysokości","855","85510","0900","PWMW",null,null,{"$error":"#DIV/0!"},null,null,{"$error":"#DIV/0!"},{"$error":"#DIV/0!"},{"$f":"IF(SUM(#REF!)>0,\"Tak\",\"\")","v":{"$error":"#REF!"}},{"$f":"IF(OR(G571<0,J571<0,#REF!<0,#REF!<0),\"ujemny plan\",\"\")","v":{"$error":"#REF!"}}]
["DWB/6/OD","Odsetki od dotacji pobranych w nadmiernej wysokości",926,92605,"0900",null,null,null,{"$error":"#DIV/0!"},null,null,{"$error":"#DIV/0!"},{"$error":"#DIV/0!"},{"$f":"IF(SUM(#REF!)>0,\"Tak\",\"\")","v":{"$error":"#REF!"}},{"$f":"IF(OR(G572<0,J572<0,#REF!<0,#REF!<0),\"ujemny plan\",\"\")","v":{"$error":"#REF!"}}]
["DWB/6/OP","Odsetki od nieterminowych płatności podatków",null,null,"0910",null,{"$f":"SUM(G574:G581)","v":6500},7369.68,1.1337969230769231,6500,7369.68,1.1337969230769231,"Tak",{"$f":"IF(SUM(#REF!)>0,\"Tak\",\"\")","v":{"$error":"#REF!"}},{"$f":"IF(OR(G573<0,J573<0,#REF!<0,#REF!<0),\"ujemny plan\",\"\")","v":{"$error":"#REF!"}}]
["DWB/6/OP","Odsetki od nieterminowych płatności podatków","600","60095","0910","PWMW",null,null,{"$error":"#DIV/0!"},null,null,{"$error":"#DIV/0!"},{"$error":"#DIV/0!"},{"$f":"IF(SUM(#REF!)>0,\"Tak\",\"\")","v":{"$error":"#REF!"}},{"$f":"IF(OR(G574<0,J574<0,#REF!<0,#REF!<0),\"ujemny plan\",\"\")","v":{"$error":"#REF!"}}]
["DWB/6/OP","Odsetki od nieterminowych płatności podatków",756,75601,"0910",null,null,null,{"$error":"#DIV/0!"},null,null,{"$error":"#DIV/0!"},{"$error":"#DIV/0!"},{"$f":"IF(SUM(#REF!)>0,\"Tak\",\"\")","v":{"$error":"#REF!"}},{"$f":"IF(OR(G575<0,J575<0,#REF!<0,#REF!<0),\"ujemny plan\",\"\")","v":{"$error":"#REF!"}}]
["DWB/6/OP","Odsetki od nieterminowych płatności podatków",756,75615,"0910","GMMW",null,null,{"$error":"#DIV/0!"},null,null,{"$error":"#DIV/0!"},{"$error":"#DIV/0!"},{"$f":"IF(SUM(#REF!)>0,\"Tak\",\"\")","v":{"$error":"#REF!"}},{"$f":"IF(OR(G576<0,J576<0,#REF!<0,#REF!<0),\"ujemny plan\",\"\")","v":{"$error":"#REF!"}}]
["DWB/6/OP","Odsetki od nieterminowych płatności podatków",756,75616,"0910","GMMW",null,null,{"$error":"#DIV/0!"},null,null,{"$error":"#DIV/0!"},{"$error":"#DIV/0!"},{"$f":"IF(SUM(#REF!)>0,\"Tak\",\"\")","v":{"$error":"#REF!"}},{"$f":"IF(OR(G577<0,J577<0,#REF!<0,#REF!<0),\"ujemny plan\",\"\")","v":{"$error":"#REF!"}}]
["DWB/6/OP","Odsetki od nieterminowych płatności podatków",756,75618,"0910","GMMW",6500,7369.68,1.1337969230769231,6500,7369.68,1.1337969230769231,"Tak",{"$f":"IF(SUM(#REF!)>0,\"Tak\",\"\")","v":{"$error":"#REF!"}},{"$f":"IF(OR(G578<0,J578<0,#REF!<0,#REF!<0),\"ujemny plan\",\"\")","v":{"$error":"#REF!"}}]
["DWB/6/OP","Odsetki od nieterminowych płatności podatków",756,75618,"0910","GODK",null,null,{"$error":"#DIV/0!"},null,null,{"$error":"#DIV/0!"},{"$error":"#DIV/0!"},{"$f":"IF(SUM(#REF!)>0,\"Tak\",\"\")","v":{"$error":"#REF!"}},{"$f":"IF(OR(G579<0,J579<0,#REF!<0,#REF!<0),\"ujemny plan\",\"\")","v":{"$error":"#REF!"}}]
["DWB/6/OP","Odsetki od nieterminowych płatności podatków","900","90002","0910","GODK",null,null,{"$error":"#DIV/0!"},null,null,{"$error":"#DIV/0!"},{"$error":"#DIV/0!"},{"$f":"IF(SUM(#REF!)>0,\"Tak\",\"\")","v":{"$error":"#REF!"}},{"$f":"IF(OR(G580<0,J580<0,#REF!<0,#REF!<0),\"ujemny plan\",\"\")","v":{"$error":"#REF!"}}]
["DWB/6/OP","Odsetki od nieterminowych płatności podatków","900","90019","0910","GPOS",null,null,{"$error":"#DIV/0!"},null,null,{"$error":"#DIV/0!"},{"$error":"#DIV/0!"},{"$f":"IF(SUM(#REF!)>0,\"Tak\",\"\")","v":{"$error":"#REF!"}},{"$f":"IF(OR(G581<0,J581<0,#REF!<0,#REF!<0),\"ujemny plan\",\"\")","v":{"$error":"#REF!"}}]
["DWB/6/PO","Pozostałe odsetki",null,null,null,null,{"$f":"SUM(G583,G652,G655)","v":192312},{"$f":"SUM(H583,H652,H655)","v":244492.90999999997},1.271334654103748,172812,{"$f":"SUM(K583,K652,K655)","v":198615.34},1.149314515195704,"Tak",{"$f":"IF(SUM(#REF!)>0,\"Tak\",\"\")","v":{"$error":"#REF!"}},{"$f":"IF(OR(G582<0,J582<0,#REF!<0,#REF!<0),\"ujemny plan\",\"\")","v":{"$error":"#REF!"}}]
["DWB/6/PO","Pozostałe odsetki",null,null,"0920",null,{"$f":"SUM(G584:G651)","v":192312},{"$f":"SUM(H584:H651)","v":244492.90999999997},1.271334654103748,172812,{"$f":"SUM(K584:K651)","v":198615.34},1.149314515195704,"Tak",{"$f":"IF(SUM(#REF!)>0,\"Tak\",\"\")","v":{"$error":"#REF!"}},{"$f":"IF(OR(G583<0,J583<0,#REF!<0,#REF!<0),\"ujemny plan\",\"\")","v":{"$error":"#REF!"}}]
["DWB/6/PO","Pozostałe odsetki","020","02001","0920",null,null,null,{"$error":"#DIV/0!"},null,null,{"$error":"#DIV/0!"},{"$f":"IF(SUM(G584:L584)>0,\"Tak\",\"\")","v":{"$error":"#DIV/0!"}},{"$f":"IF(SUM(#REF!)>0,\"Tak\",\"\")","v":{"$error":"#REF!"}},{"$f":"IF(OR(G584<0,J584<0,#REF!<0,#REF!<0),\"ujemny plan\",\"\")","v":{"$error":"#REF!"}}]
["DWB/6/PO","Pozostałe odsetki",400,40002,"0920","GMMW",null,null,{"$f":"H585/G585","v":{"$error":"#DIV/0!"}},null,null,{"$f":"K585/J585","v":{"$error":"#DIV/0!"}},{"$error":"#DIV/0!"},{"$f":"IF(SUM(#REF!)>0,\"Tak\",\"\")","v":{"$error":"#REF!"}},{"$f":"IF(OR(G585<0,J585<0,#REF!<0,#REF!<0),\"ujemny plan\",\"\")","v":{"$error":"#REF!"}}]
["DWB/6/PO","Pozostałe odsetki",600,60004,"0920","GMMW",null,null,{"$error":"#DIV/0!"},null,null,{"$error":"#DIV/0!"},{"$error":"#DIV/0!"},{"$f":"IF(SUM(#REF!)>0,\"Tak\",\"\")","v":{"$error":"#REF!"}},{"$f":"IF(OR(G586<0,J586<0,#REF!<0,#REF!<0),\"ujemny plan\",\"\")","v":{"$error":"#REF!"}}]
["DWB/6/PO","Pozostałe odsetki",600,60013,"0920",null,null,null,{"$error":"#DIV/0!"},null,null,{"$error":"#DIV/0!"},{"$error":"#DIV/0!"},{"$f":"IF(SUM(#REF!)>0,\"Tak\",\"\")","v":{"$error":"#REF!"}},{"$f":"IF(OR(G587<0,J587<0,#REF!<0,#REF!<0),\"ujemny plan\",\"\")","v":{"$error":"#REF!"}}]
["DWB/6/PO","Pozostałe odsetki",600,60014,"0920","GMMW",null,null,{"$error":"#DIV/0!"},null,null,{"$error":"#DIV/0!"},{"$error":"#DIV/0!"},{"$f":"IF(SUM(#REF!)>0,\"Tak\",\"\")","v":{"$error":"#REF!"}},{"$f":"IF(OR(G588<0,J588<0,#REF!<0,#REF!<0),\"ujemny plan\",\"\")","v":{"$error":"#REF!"}}]
["DWB/6/PO","Pozostałe odsetki",600,60015,"0920","GMMW",null,null,{"$error":"#DIV/0!"},null,null,{"$error":"#DIV/0!"},{"$error":"#DIV/0!"},{"$f":"IF(SUM(#REF!)>0,\"Tak\",\"\")","v":{"$error":"#REF!"}},{"$f":"IF(OR(G589<0,J589<0,#REF!<0,#REF!<0),\"ujemny plan\",\"\")","v":{"$error":"#REF!"}}]
["DWB/6/PO","Pozostałe odsetki",600,60016,"0920","GMMW",3957,4284.9799999999996,1.0828860247662369,3957,4284.9799999999996,1.0828860247662369,"Tak",{"$f":"IF(SUM(#REF!)>0,\"Tak\",\"\")","v":{"$error":"#REF!"}},{"$f":"IF(OR(G590<0,J590<0,#REF!<0,#REF!<0),\"ujemny plan\",\"\")","v":{"$error":"#REF!"}}]
["DWB/6/PO","Pozostałe odsetki",600,"60019","0920",null,null,null,{"$error":"#DIV/0!"},null,null,{"$error":"#DIV/0!"},{"$error":"#DIV/0!"},{"$f":"IF(SUM(#REF!)>0,\"Tak\",\"\")","v":{"$error":"#REF!"}},{"$f":"IF(OR(G591<0,J591<0,#REF!<0,#REF!<0),\"ujemny plan\",\"\")","v":{"$error":"#REF!"}}]
["DWB/6/PO","Pozostałe odsetki","600","60020","0920",null,null,null,{"$error":"#DIV/0!"},null,null,{"$error":"#DIV/0!"},{"$error":"#DIV/0!"},{"$f":"IF(SUM(#REF!)>0,\"Tak\",\"\")","v":{"$error":"#REF!"}},{"$f":"IF(OR(G592<0,J592<0,#REF!<0,#REF!<0),\"ujemny plan\",\"\")","v":{"$error":"#REF!"}}]
["DWB/6/PO","Pozostałe odsetki","600","60021","0920",null,null,null,{"$error":"#DIV/0!"},null,null,{"$error":"#DIV/0!"},{"$error":"#DIV/0!"},{"$f":"IF(SUM(#REF!)>0,\"Tak\",\"\")","v":{"$error":"#REF!"}},{"$f":"IF(OR(G593<0,J593<0,#REF!<0,#REF!<0),\"ujemny plan\",\"\")","v":{"$error":"#REF!"}}]
["DWB/6/PO","Pozostałe odsetki","600","60022","0920",null,null,null,{"$error":"#DIV/0!"},null,null,{"$error":"#DIV/0!"},{"$error":"#DIV/0!"},{"$f":"IF(SUM(#REF!)>0,\"Tak\",\"\")","v":{"$error":"#REF!"}},{"$f":"IF(OR(G594<0,J594<0,#REF!<0,#REF!<0),\"ujemny plan\",\"\")","v":{"$error":"#REF!"}}]
["DWB/6/PO","Pozostałe odsetki",600,60095,"0920","PWMW",null,null,{"$error":"#DIV/0!"},null,null,{"$error":"#DIV/0!"},{"$error":"#DIV/0!"},{"$f":"IF(SUM(#REF!)>0,\"Tak\",\"\")","v":{"$error":"#REF!"}},{"$f":"IF(OR(G595<0,J595<0,#REF!<0,#REF!<0),\"ujemny plan\",\"\")","v":{"$error":"#REF!"}}]
["DWB/6/PO","Pozostałe odsetki",630,63001,"0920",null,null,null,{"$error":"#DIV/0!"},null,null,{"$error":"#DIV/0!"},{"$error":"#DIV/0!"},{"$f":"IF(SUM(#REF!)>0,\"Tak\",\"\")","v":{"$error":"#REF!"}},{"$f":"IF(OR(G596<0,J596<0,#REF!<0,#REF!<0),\"ujemny plan\",\"\")","v":{"$error":"#REF!"}}]
["DWB/6/PO","Pozostałe odsetki",700,70004,"0920",null,null,null,{"$error":"#DIV/0!"},null,null,{"$error":"#DIV/0!"},{"$error":"#DIV/0!"},{"$f":"IF(SUM(#REF!)>0,\"Tak\",\"\")","v":{"$error":"#REF!"}},{"$f":"IF(OR(G597<0,J597<0,#REF!<0,#REF!<0),\"ujemny plan\",\"\")","v":{"$error":"#REF!"}}]
["DWB/6/PO","Pozostałe odsetki",700,70005,"0920","GMMW",168555,{"$f":"4700.99+189184.19","v":193885.18},1.1502784254397673,164555,189184.19,1.149671477621464,"Tak",{"$f":"IF(SUM(#REF!)>0,\"Tak\",\"\")","v":{"$error":"#REF!"}},{"$f":"IF(OR(G598<0,J598<0,#REF!<0,#REF!<0),\"ujemny plan\",\"\")","v":{"$error":"#REF!"}}]
["DWB/6/PO","Pozostałe odsetki","700","70007","0920","GMMW",14500,40179.519999999997,2.7710013793103445,0,10.5,null,"Tak",{"$f":"IF(SUM(#REF!)>0,\"Tak\",\"\")","v":{"$error":"#REF!"}},{"$f":"IF(OR(G599<0,J599<0,#REF!<0,#REF!<0),\"ujemny plan\",\"\")","v":{"$error":"#REF!"}}]
["DWB/6/PO","Pozostałe odsetki",710,"71002","0920","GMMW",null,null,{"$error":"#DIV/0!"},null,null,{"$error":"#DIV/0!"},{"$error":"#DIV/0!"},{"$f":"IF(SUM(#REF!)>0,\"Tak\",\"\")","v":{"$error":"#REF!"}},{"$f":"IF(OR(G600<0,J600<0,#REF!<0,#REF!<0),\"ujemny plan\",\"\")","v":{"$error":"#REF!"}}]
["DWB/6/PO","Pozostałe odsetki",710,71020,"0920","GMMW",null,null,{"$error":"#DIV/0!"},null,null,{"$error":"#DIV/0!"},{"$error":"#DIV/0!"},{"$f":"IF(SUM(#REF!)>0,\"Tak\",\"\")","v":{"$error":"#REF!"}},{"$f":"IF(OR(G601<0,J601<0,#REF!<0,#REF!<0),\"ujemny plan\",\"\")","v":{"$error":"#REF!"}}]
["DWB/6/PO","Pozostałe odsetki",710,"71035","0920",null,null,null,{"$error":"#DIV/0!"},null,null,{"$error":"#DIV/0!"},{"$error":"#DIV/0!"},{"$f":"IF(SUM(#REF!)>0,\"Tak\",\"\")","v":{"$error":"#REF!"}},{"$f":"IF(OR(G602<0,J602<0,#REF!<0,#REF!<0),\"ujemny plan\",\"\")","v":{"$error":"#REF!"}}]
["DWB/6/PO","Pozostałe odsetki",750,75023,"0920","GMMW",1300,1306.49,1.0049923076923077,1300,1306.49,1.0049923076923077,"Tak",{"$f":"IF(SUM(#REF!)>0,\"Tak\",\"\")","v":{"$error":"#REF!"}},{"$f":"IF(OR(G603<0,J603<0,#REF!<0,#REF!<0),\"ujemny plan\",\"\")","v":{"$error":"#REF!"}}]
["DWB/6/PO","Pozostałe odsetki",750,75095,"0920",null,null,null,{"$error":"#DIV/0!"},null,null,{"$error":"#DIV/0!"},{"$error":"#DIV/0!"},{"$f":"IF(SUM(#REF!)>0,\"Tak\",\"\")","v":{"$error":"#REF!"}},{"$f":"IF(OR(G604<0,J604<0,#REF!<0,#REF!<0),\"ujemny plan\",\"\")","v":{"$error":"#REF!"}}]
["DWB/6/PO","Pozostałe odsetki",756,75618,"0920",null,null,null,{"$error":"#DIV/0!"},null,null,{"$error":"#DIV/0!"},{"$error":"#DIV/0!"},{"$f":"IF(SUM(#REF!)>0,\"Tak\",\"\")","v":{"$error":"#REF!"}},{"$f":"IF(OR(G605<0,J605<0,#REF!<0,#REF!<0),\"ujemny plan\",\"\")","v":{"$error":"#REF!"}}]
["DWB/6/PO","Pozostałe odsetki",756,75619,"0920",null,null,null,{"$error":"#DIV/0!"},null,null,{"$error":"#DIV/0!"},{"$error":"#DIV/0!"},{"$f":"IF(SUM(#REF!)>0,\"Tak\",\"\")","v":{"$error":"#REF!"}},{"$f":"IF(OR(G606<0,J606<0,#REF!<0,#REF!<0),\"ujemny plan\",\"\")","v":{"$error":"#REF!"}}]
["DWB/6/PO","Pozostałe odsetki",757,75704,"0920",null,null,null,{"$error":"#DIV/0!"},null,null,{"$error":"#DIV/0!"},{"$error":"#DIV/0!"},{"$f":"IF(SUM(#REF!)>0,\"Tak\",\"\")","v":{"$error":"#REF!"}},{"$f":"IF(OR(G607<0,J607<0,#REF!<0,#REF!<0),\"ujemny plan\",\"\")","v":{"$error":"#REF!"}}]
["DWB/6/PO","Pozostałe odsetki",758,75814,"0920","GMMW",null,null,{"$error":"#DIV/0!"},null,null,{"$error":"#DIV/0!"},{"$error":"#DIV/0!"},{"$f":"IF(SUM(#REF!)>0,\"Tak\",\"\")","v":{"$error":"#REF!"}},{"$f":"IF(OR(G608<0,J608<0,#REF!<0,#REF!<0),\"ujemny plan\",\"\")","v":{"$error":"#REF!"}}]
["DWB/6/PO","Pozostałe odsetki",801,80101,"0920","GMMW",null,null,{"$error":"#DIV/0!"},null,null,{"$error":"#DIV/0!"},{"$error":"#DIV/0!"},{"$f":"IF(SUM(#REF!)>0,\"Tak\",\"\")","v":{"$error":"#REF!"}},{"$f":"IF(OR(G609<0,J609<0,#REF!<0,#REF!<0),\"ujemny plan\",\"\")","v":{"$error":"#REF!"}}]
["DWB/6/PO","Pozostałe odsetki",801,80102,"0920",null,null,null,{"$error":"#DIV/0!"},null,null,{"$error":"#DIV/0!"},{"$error":"#DIV/0!"},{"$f":"IF(SUM(#REF!)>0,\"Tak\",\"\")","v":{"$error":"#REF!"}},{"$f":"IF(OR(G610<0,J610<0,#REF!<0,#REF!<0),\"ujemny plan\",\"\")","v":{"$error":"#REF!"}}]
["DWB/6/PO","Pozostałe odsetki",801,80104,"0920","GMMW",0,422.79,null,0,422.79,null,"Tak",{"$f":"IF(SUM(#REF!)>0,\"Tak\",\"\")","v":{"$error":"#REF!"}},{"$f":"IF(OR(G611<0,J611<0,#REF!<0,#REF!<0),\"ujemny plan\",\"\")","v":{"$error":"#REF!"}}]
["DWB/6/PO","Pozostałe odsetki",801,"80106","0920","GMMW",0,154.43,null,0,154.43,null,"Tak",{"$f":"IF(SUM(#REF!)>0,\"Tak\",\"\")","v":{"$error":"#REF!"}},{"$f":"IF(OR(G612<0,J612<0,#REF!<0,#REF!<0),\"ujemny plan\",\"\")","v":{"$error":"#REF!"}}]
["DWB/6/PO","Pozostałe odsetki",801,"80115","0920","GMMW",null,null,{"$error":"#DIV/0!"},null,null,{"$error":"#DIV/0!"},{"$error":"#DIV/0!"},{"$f":"IF(SUM(#REF!)>0,\"Tak\",\"\")","v":{"$error":"#REF!"}},{"$f":"IF(OR(G613<0,J613<0,#REF!<0,#REF!<0),\"ujemny plan\",\"\")","v":{"$error":"#REF!"}}]
["DWB/6/PO","Pozostałe odsetki",801,"80116","0920","GMMW",null,null,{"$error":"#DIV/0!"},null,null,{"$error":"#DIV/0!"},{"$error":"#DIV/0!"},{"$f":"IF(SUM(#REF!)>0,\"Tak\",\"\")","v":{"$error":"#REF!"}},{"$f":"IF(OR(G614<0,J614<0,#REF!<0,#REF!<0),\"ujemny plan\",\"\")","v":{"$error":"#REF!"}}]
["DWB/6/PO","Pozostałe odsetki",801,"80117","0920","GMMW",null,null,{"$error":"#DIV/0!"},null,null,{"$error":"#DIV/0!"},{"$error":"#DIV/0!"},{"$f":"IF(SUM(#REF!)>0,\"Tak\",\"\")","v":{"$error":"#REF!"}},{"$f":"IF(OR(G615<0,J615<0,#REF!<0,#REF!<0),\"ujemny plan\",\"\")","v":{"$error":"#REF!"}}]
["DWB/6/PO","Pozostałe odsetki",801,80120,"0920","GMMW",null,null,{"$error":"#DIV/0!"},null,null,{"$error":"#DIV/0!"},{"$error":"#DIV/0!"},{"$f":"IF(SUM(#REF!)>0,\"Tak\",\"\")","v":{"$error":"#REF!"}},{"$f":"IF(OR(G616<0,J616<0,#REF!<0,#REF!<0),\"ujemny plan\",\"\")","v":{"$error":"#REF!"}}]
["DWB/6/PO","Pozostałe odsetki",801,"80121","0920","GMMW",null,null,{"$error":"#DIV/0!"},null,null,{"$error":"#DIV/0!"},{"$error":"#DIV/0!"},{"$f":"IF(SUM(#REF!)>0,\"Tak\",\"\")","v":{"$error":"#REF!"}},{"$f":"IF(OR(G617<0,J617<0,#REF!<0,#REF!<0),\"ujemny plan\",\"\")","v":{"$error":"#REF!"}}]
["DWB/6/PO","Pozostałe odsetki",801,80140,"0920","GMMW",null,null,{"$error":"#DIV/0!"},null,null,{"$error":"#DIV/0!"},{"$error":"#DIV/0!"},{"$f":"IF(SUM(#REF!)>0,\"Tak\",\"\")","v":{"$error":"#REF!"}},{"$f":"IF(OR(G618<0,J618<0,#REF!<0,#REF!<0),\"ujemny plan\",\"\")","v":{"$error":"#REF!"}}]
["DWB/6/PO","Pozostałe odsetki",801,80146,"0920",null,null,null,{"$error":"#DIV/0!"},null,null,{"$error":"#DIV/0!"},{"$error":"#DIV/0!"},{"$f":"IF(SUM(#REF!)>0,\"Tak\",\"\")","v":{"$error":"#REF!"}},{"$f":"IF(OR(G619<0,J619<0,#REF!<0,#REF!<0),\"ujemny plan\",\"\")","v":{"$error":"#REF!"}}]
["DWB/6/PO","Pozostałe odsetki",801,"80149","0920","GMMW",3000,2531.2800000000002,0.84376000000000007,3000,2531.2800000000002,0.84376000000000007,"Tak",{"$f":"IF(SUM(#REF!)>0,\"Tak\",\"\")","v":{"$error":"#REF!"}},{"$f":"IF(OR(G620<0,J620<0,#REF!<0,#REF!<0),\"ujemny plan\",\"\")","v":{"$error":"#REF!"}}]
["DWB/6/PO","Pozostałe odsetki",801,80195,"0920","GMMW",null,null,{"$error":"#DIV/0!"},null,null,{"$error":"#DIV/0!"},{"$error":"#DIV/0!"},{"$f":"IF(SUM(#REF!)>0,\"Tak\",\"\")","v":{"$error":"#REF!"}},{"$f":"IF(OR(G621<0,J621<0,#REF!<0,#REF!<0),\"ujemny plan\",\"\")","v":{"$error":"#REF!"}}]
["DWB/6/PO","Pozostałe odsetki",801,80197,"0920",null,null,null,{"$error":"#DIV/0!"},null,null,{"$error":"#DIV/0!"},{"$error":"#DIV/0!"},{"$f":"IF(SUM(#REF!)>0,\"Tak\",\"\")","v":{"$error":"#REF!"}},{"$f":"IF(OR(G622<0,J622<0,#REF!<0,#REF!<0),\"ujemny plan\",\"\")","v":{"$error":"#REF!"}}]
["DWB/6/PO","Pozostałe odsetki",851,"85153","0920","GMMW",null,null,{"$error":"#DIV/0!"},null,null,{"$error":"#DIV/0!"},{"$error":"#DIV/0!"},{"$f":"IF(SUM(#REF!)>0,\"Tak\",\"\")","v":{"$error":"#REF!"}},{"$f":"IF(OR(G623<0,J623<0,#REF!<0,#REF!<0),\"ujemny plan\",\"\")","v":{"$error":"#REF!"}}]
["DWB/6/PO","Pozostałe odsetki",851,"85154","0920","GMMW",0,474.56,null,0,474.56,null,"Tak",{"$f":"IF(SUM(#REF!)>0,\"Tak\",\"\")","v":{"$error":"#REF!"}},{"$f":"IF(OR(G624<0,J624<0,#REF!<0,#REF!<0),\"ujemny plan\",\"\")","v":{"$error":"#REF!"}}]
["DWB/6/PO","Pozostałe odsetki",851,85158,"0920","GMMW",null,null,{"$error":"#DIV/0!"},null,null,{"$error":"#DIV/0!"},{"$error":"#DIV/0!"},{"$f":"IF(SUM(#REF!)>0,\"Tak\",\"\")","v":{"$error":"#REF!"}},{"$f":"IF(OR(G625<0,J625<0,#REF!<0,#REF!<0),\"ujemny plan\",\"\")","v":{"$error":"#REF!"}}]
["DWB/6/PO","Pozostałe odsetki",852,"85202","0920",null,null,null,{"$error":"#DIV/0!"},null,null,{"$error":"#DIV/0!"},{"$error":"#DIV/0!"},{"$f":"IF(SUM(#REF!)>0,\"Tak\",\"\")","v":{"$error":"#REF!"}},{"$f":"IF(OR(G626<0,J626<0,#REF!<0,#REF!<0),\"ujemny plan\",\"\")","v":{"$error":"#REF!"}}]
["DWB/6/PO","Pozostałe odsetki",852,85203,"0920","GMMW",null,null,{"$error":"#DIV/0!"},null,null,{"$error":"#DIV/0!"},{"$error":"#DIV/0!"},{"$f":"IF(SUM(#REF!)>0,\"Tak\",\"\")","v":{"$error":"#REF!"}},{"$f":"IF(OR(G627<0,J627<0,#REF!<0,#REF!<0),\"ujemny plan\",\"\")","v":{"$error":"#REF!"}}]
["DWB/6/PO","Pozostałe odsetki",852,"85204","0920","GMMW",null,null,{"$error":"#DIV/0!"},null,null,{"$error":"#DIV/0!"},{"$error":"#DIV/0!"},{"$f":"IF(SUM(#REF!)>0,\"Tak\",\"\")","v":{"$error":"#REF!"}},{"$f":"IF(OR(G628<0,J628<0,#REF!<0,#REF!<0),\"ujemny plan\",\"\")","v":{"$error":"#REF!"}}]
["DWB/6/PO","Pozostałe odsetki",852,85214,"0920","GMMW",null,null,{"$error":"#DIV/0!"},null,null,{"$error":"#DIV/0!"},{"$error":"#DIV/0!"},{"$f":"IF(SUM(#REF!)>0,\"Tak\",\"\")","v":{"$error":"#REF!"}},{"$f":"IF(OR(G629<0,J629<0,#REF!<0,#REF!<0),\"ujemny plan\",\"\")","v":{"$error":"#REF!"}}]
["DWB/6/PO","Pozostałe odsetki",852,85215,"0920",null,null,null,{"$error":"#DIV/0!"},null,null,{"$error":"#DIV/0!"},{"$error":"#DIV/0!"},{"$f":"IF(SUM(#REF!)>0,\"Tak\",\"\")","v":{"$error":"#REF!"}},{"$f":"IF(OR(G630<0,J630<0,#REF!<0,#REF!<0),\"ujemny plan\",\"\")","v":{"$error":"#REF!"}}]
["DWB/6/PO","Pozostałe odsetki",852,85219,"0920","GMMW",null,null,{"$error":"#DIV/0!"},null,null,{"$error":"#DIV/0!"},{"$error":"#DIV/0!"},{"$f":"IF(SUM(#REF!)>0,\"Tak\",\"\")","v":{"$error":"#REF!"}},{"$f":"IF(OR(G631<0,J631<0,#REF!<0,#REF!<0),\"ujemny plan\",\"\")","v":{"$error":"#REF!"}}]
["DWB/6/PO","Pozostałe odsetki",852,"85295","0920","GMMW",null,null,{"$error":"#DIV/0!"},null,null,{"$error":"#DIV/0!"},{"$error":"#DIV/0!"},{"$f":"IF(SUM(#REF!)>0,\"Tak\",\"\")","v":{"$error":"#REF!"}},{"$f":"IF(OR(G632<0,J632<0,#REF!<0,#REF!<0),\"ujemny plan\",\"\")","v":{"$error":"#REF!"}}]
["DWB/6/PO","Pozostałe odsetki",853,85333,"0920",null,null,null,{"$error":"#DIV/0!"},null,null,{"$error":"#DIV/0!"},{"$error":"#DIV/0!"},{"$f":"IF(SUM(#REF!)>0,\"Tak\",\"\")","v":{"$error":"#REF!"}},{"$f":"IF(OR(G633<0,J633<0,#REF!<0,#REF!<0),\"ujemny plan\",\"\")","v":{"$error":"#REF!"}}]
["DWB/6/PO","Pozostałe odsetki",853,85395,"0920","GMMW",0,146,null,0,146,null,"Tak",{"$f":"IF(SUM(#REF!)>0,\"Tak\",\"\")","v":{"$error":"#REF!"}},{"$f":"IF(OR(G634<0,J634<0,#REF!<0,#REF!<0),\"ujemny plan\",\"\")","v":{"$error":"#REF!"}}]
["DWB/6/PO","Pozostałe odsetki",854,85407,"0920",null,null,null,{"$error":"#DIV/0!"},null,null,{"$error":"#DIV/0!"},{"$error":"#DIV/0!"},{"$f":"IF(SUM(#REF!)>0,\"Tak\",\"\")","v":{"$error":"#REF!"}},{"$f":"IF(OR(G635<0,J635<0,#REF!<0,#REF!<0),\"ujemny plan\",\"\")","v":{"$error":"#REF!"}}]
["DWB/6/PO","Pozostałe odsetki",854,85415,"0920",null,null,null,{"$error":"#DIV/0!"},null,null,{"$error":"#DIV/0!"},{"$error":"#DIV/0!"},{"$f":"IF(SUM(#REF!)>0,\"Tak\",\"\")","v":{"$error":"#REF!"}},{"$f":"IF(OR(G636<0,J636<0,#REF!<0,#REF!<0),\"ujemny plan\",\"\")","v":{"$error":"#REF!"}}]
["DWB/6/PO","Pozostałe odsetki",854,85421,"0920",null,null,null,{"$error":"#DIV/0!"},null,null,{"$error":"#DIV/0!"},{"$error":"#DIV/0!"},{"$f":"IF(SUM(#REF!)>0,\"Tak\",\"\")","v":{"$error":"#REF!"}},{"$f":"IF(OR(G637<0,J637<0,#REF!<0,#REF!<0),\"ujemny plan\",\"\")","v":{"$error":"#REF!"}}]
["DWB/6/PO","Pozostałe odsetki","855","85508","0920","GMMW",null,null,{"$error":"#DIV/0!"},null,null,{"$error":"#DIV/0!"},{"$error":"#DIV/0!"},{"$f":"IF(SUM(#REF!)>0,\"Tak\",\"\")","v":{"$error":"#REF!"}},{"$f":"IF(OR(G638<0,J638<0,#REF!<0,#REF!<0),\"ujemny plan\",\"\")","v":{"$error":"#REF!"}}]
["DWB/6/PO","Pozostałe odsetki","855","85516","0920","GMMW",0,7.05,null,0,7.05,null,"Tak",{"$f":"IF(SUM(#REF!)>0,\"Tak\",\"\")","v":{"$error":"#REF!"}},{"$f":"IF(OR(G639<0,J639<0,#REF!<0,#REF!<0),\"ujemny plan\",\"\")","v":{"$error":"#REF!"}}]
["DWB/6/PO","Pozostałe odsetki",900,90001,"0920","GMMW",null,null,{"$error":"#DIV/0!"},null,null,{"$error":"#DIV/0!"},{"$error":"#DIV/0!"},{"$f":"IF(SUM(#REF!)>0,\"Tak\",\"\")","v":{"$error":"#REF!"}},{"$f":"IF(OR(G640<0,J640<0,#REF!<0,#REF!<0),\"ujemny plan\",\"\")","v":{"$error":"#REF!"}}]
["DWB/6/PO","Pozostałe odsetki",900,90002,"0920","GMMW",null,null,{"$error":"#DIV/0!"},null,null,{"$error":"#DIV/0!"},{"$error":"#DIV/0!"},{"$f":"IF(SUM(#REF!)>0,\"Tak\",\"\")","v":{"$error":"#REF!"}},{"$f":"IF(OR(G641<0,J641<0,#REF!<0,#REF!<0),\"ujemny plan\",\"\")","v":{"$error":"#REF!"}}]
["DWB/6/PO","Pozostałe odsetki",900,90003,"0920",null,null,null,{"$error":"#DIV/0!"},null,null,{"$error":"#DIV/0!"},{"$error":"#DIV/0!"},{"$f":"IF(SUM(#REF!)>0,\"Tak\",\"\")","v":{"$error":"#REF!"}},{"$f":"IF(OR(G642<0,J642<0,#REF!<0,#REF!<0),\"ujemny plan\",\"\")","v":{"$error":"#REF!"}}]
["DWB/6/PO","Pozostałe odsetki",900,"90019","0920","GPOS",null,null,{"$error":"#DIV/0!"},null,null,{"$error":"#DIV/0!"},{"$error":"#DIV/0!"},{"$f":"IF(SUM(#REF!)>0,\"Tak\",\"\")","v":{"$error":"#REF!"}},{"$f":"IF(OR(G643<0,J643<0,#REF!<0,#REF!<0),\"ujemny plan\",\"\")","v":{"$error":"#REF!"}}]
["DWB/6/PO","Pozostałe odsetki",900,90095,"0920","GMMW",null,null,{"$error":"#DIV/0!"},null,null,{"$error":"#DIV/0!"},{"$error":"#DIV/0!"},{"$f":"IF(SUM(#REF!)>0,\"Tak\",\"\")","v":{"$error":"#REF!"}},{"$f":"IF(OR(G644<0,J644<0,#REF!<0,#REF!<0),\"ujemny plan\",\"\")","v":{"$error":"#REF!"}}]
["DWB/6/PO","Pozostałe odsetki",900,90095,"0920","GPOS",null,null,{"$error":"#DIV/0!"},null,null,{"$error":"#DIV/0!"},{"$error":"#DIV/0!"},{"$f":"IF(SUM(#REF!)>0,\"Tak\",\"\")","v":{"$error":"#REF!"}},{"$f":"IF(OR(G645<0,J645<0,#REF!<0,#REF!<0),\"ujemny plan\",\"\")","v":{"$error":"#REF!"}}]
["DWB/6/PO","Pozostałe odsetki",921,92105,"0920",null,null,null,{"$error":"#DIV/0!"},null,null,{"$error":"#DIV/0!"},{"$error":"#DIV/0!"},{"$f":"IF(SUM(#REF!)>0,\"Tak\",\"\")","v":{"$error":"#REF!"}},{"$f":"IF(OR(G646<0,J646<0,#REF!<0,#REF!<0),\"ujemny plan\",\"\")","v":{"$error":"#REF!"}}]
["DWB/6/PO","Pozostałe odsetki",921,92109,"0920","GMMW",null,null,{"$error":"#DIV/0!"},null,null,{"$error":"#DIV/0!"},{"$error":"#DIV/0!"},{"$f":"IF(SUM(#REF!)>0,\"Tak\",\"\")","v":{"$error":"#REF!"}},{"$f":"IF(OR(G647<0,J647<0,#REF!<0,#REF!<0),\"ujemny plan\",\"\")","v":{"$error":"#REF!"}}]
["DWB/6/PO","Pozostałe odsetki","926","92601","0920","GMMW",null,null,{"$error":"#DIV/0!"},null,null,{"$error":"#DIV/0!"},{"$f":"IF(SUM(G648:L648)>0,\"Tak\",\"\")","v":{"$error":"#DIV/0!"}},{"$f":"IF(SUM(#REF!)>0,\"Tak\",\"\")","v":{"$error":"#REF!"}},{"$f":"IF(OR(G648<0,J648<0,#REF!<0,#REF!<0),\"ujemny plan\",\"\")","v":{"$error":"#REF!"}}]
["DWB/6/PO","Pozostałe odsetki","925",92504,"0920","GMMW",null,null,{"$f":"H649/G649","v":{"$error":"#DIV/0!"}},null,null,{"$f":"K649/J649","v":{"$error":"#DIV/0!"}},{"$error":"#DIV/0!"},{"$f":"IF(SUM(#REF!)>0,\"Tak\",\"\")","v":{"$error":"#REF!"}},{"$f":"IF(OR(G649<0,J649<0,#REF!<0,#REF!<0),\"ujemny plan\",\"\")","v":{"$error":"#REF!"}}]
["DWB/6/PO","Pozostałe odsetki",926,92604,"0920","GMMW",1000,1007.56,1.00756,0,0,null,"Tak",{"$f":"IF(SUM(#REF!)>0,\"Tak\",\"\")","v":{"$error":"#REF!"}},{"$f":"IF(OR(G650<0,J650<0,#REF!<0,#REF!<0),\"ujemny plan\",\"\")","v":{"$error":"#REF!"}}]
["DWB/6/PO","Pozostałe odsetki",926,92605,"0920","GMMW",0,93.07,null,0,93.07,null,"Tak",{"$f":"IF(SUM(#REF!)>0,\"Tak\",\"\")","v":{"$error":"#REF!"}},{"$f":"IF(OR(G651<0,J651<0,#REF!<0,#REF!<0),\"ujemny plan\",\"\")","v":{"$error":"#REF!"}}]
["DWB/6/PO","Pozostałe odsetki",null,null,"0927",null,{"$f":"SUM(G653:G654)","v":0},null,{"$error":"#DIV/0!"},0,null,{"$error":"#DIV/0!"},{"$error":"#DIV/0!"},{"$f":"IF(SUM(#REF!)>0,\"Tak\",\"\")","v":{"$error":"#REF!"}},{"$f":"IF(OR(G652<0,J652<0,#REF!<0,#REF!<0),\"ujemny plan\",\"\")","v":{"$error":"#REF!"}}]
["DWB/6/PO","Pozostałe odsetki",801,80195,"0927",null,null,null,{"$error":"#DIV/0!"},null,null,{"$error":"#DIV/0!"},{"$error":"#DIV/0!"},{"$f":"IF(SUM(#REF!)>0,\"Tak\",\"\")","v":{"$error":"#REF!"}},{"$f":"IF(OR(G653<0,J653<0,#REF!<0,#REF!<0),\"ujemny plan\",\"\")","v":{"$error":"#REF!"}}]
["DWB/6/PO","Pozostałe odsetki",853,85395,"0927",null,null,null,{"$error":"#DIV/0!"},null,null,{"$error":"#DIV/0!"},{"$error":"#DIV/0!"},{"$f":"IF(SUM(#REF!)>0,\"Tak\",\"\")","v":{"$error":"#REF!"}},{"$f":"IF(OR(G654<0,J654<0,#REF!<0,#REF!<0),\"ujemny plan\",\"\")","v":{"$error":"#REF!"}}]
["DWB/6/PO","Pozostałe odsetki",null,null,"0928",null,{"$f":"SUM(G656:G657)","v":0},null,{"$error":"#DIV/0!"},0,null,{"$error":"#DIV/0!"},{"$error":"#DIV/0!"},{"$f":"IF(SUM(#REF!)>0,\"Tak\",\"\")","v":{"$error":"#REF!"}},{"$f":"IF(OR(G655<0,J655<0,#REF!<0,#REF!<0),\"ujemny plan\",\"\")","v":{"$error":"#REF!"}}]
["DWB/6/PO","Pozostałe odsetki",801,80195,"0928",null,null,null,{"$error":"#DIV/0!"},null,null,{"$error":"#DIV/0!"},{"$error":"#DIV/0!"},{"$f":"IF(SUM(#REF!)>0,\"Tak\",\"\")","v":{"$error":"#REF!"}},{"$f":"IF(OR(G656<0,J656<0,#REF!<0,#REF!<0),\"ujemny plan\",\"\")","v":{"$error":"#REF!"}}]
["DWB/6/PO","Pozostałe odsetki",853,85395,"0928",null,null,null,{"$error":"#DIV/0!"},null,null,{"$error":"#DIV/0!"},{"$error":"#DIV/0!"},{"$f":"IF(SUM(#REF!)>0,\"Tak\",\"\")","v":{"$error":"#REF!"}},{"$f":"IF(OR(G657<0,J657<0,#REF!<0,#REF!<0),\"ujemny plan\",\"\")","v":{"$error":"#REF!"}}]
["DWB/6/DP","Darowizny i spadki pieniężne",null,null,"0960",null,{"$f":"SUM(G659:G670)","v":47966},47966,1,23966,23966,1,"Tak",{"$f":"IF(SUM(#REF!)>0,\"Tak\",\"\")","v":{"$error":"#REF!"}},{"$f":"IF(OR(G658<0,J658<0,#REF!<0,#REF!<0),\"ujemny plan\",\"\")","v":{"$error":"#REF!"}}]
["DWB/6/DP","Darowizny i spadki pieniężne",600,60016,"0960",null,null,null,{"$error":"#DIV/0!"},null,null,{"$error":"#DIV/0!"},{"$error":"#DIV/0!"},{"$f":"IF(SUM(#REF!)>0,\"Tak\",\"\")","v":{"$error":"#REF!"}},{"$f":"IF(OR(G659<0,J659<0,#REF!<0,#REF!<0),\"ujemny plan\",\"\")","v":{"$error":"#REF!"}}]
["DWB/6/DP","Darowizny i spadki pieniężne",700,70095,"0960",null,null,null,{"$error":"#DIV/0!"},null,null,{"$error":"#DIV/0!"},{"$error":"#DIV/0!"},{"$f":"IF(SUM(#REF!)>0,\"Tak\",\"\")","v":{"$error":"#REF!"}},{"$f":"IF(OR(G660<0,J660<0,#REF!<0,#REF!<0),\"ujemny plan\",\"\")","v":{"$error":"#REF!"}}]
["DWB/6/DP","Darowizny i spadki pieniężne","758","75814","0960","GMMW",null,null,{"$error":"#DIV/0!"},null,null,{"$error":"#DIV/0!"},{"$error":"#DIV/0!"},{"$f":"IF(SUM(#REF!)>0,\"Tak\",\"\")","v":{"$error":"#REF!"}},{"$f":"IF(OR(G661<0,J661<0,#REF!<0,#REF!<0),\"ujemny plan\",\"\")","v":{"$error":"#REF!"}}]
["DWB/6/DP","Darowizny i spadki pieniężne","801","80195","0960","GMMW",23966,23966,1,23966,23966,1,"Tak",{"$f":"IF(SUM(#REF!)>0,\"Tak\",\"\")","v":{"$error":"#REF!"}},{"$f":"IF(OR(G662<0,J662<0,#REF!<0,#REF!<0),\"ujemny plan\",\"\")","v":{"$error":"#REF!"}}]
["DWB/6/DP","Darowizny i spadki pieniężne","852","85202","0960","PWMW",null,null,{"$error":"#DIV/0!"},null,null,{"$error":"#DIV/0!"},{"$error":"#DIV/0!"},{"$f":"IF(SUM(#REF!)>0,\"Tak\",\"\")","v":{"$error":"#REF!"}},{"$f":"IF(OR(G663<0,J663<0,#REF!<0,#REF!<0),\"ujemny plan\",\"\")","v":{"$error":"#REF!"}}]
["DWB/6/DP","Darowizny i spadki pieniężne","852","85203","0960","GMMW",null,null,{"$error":"#DIV/0!"},null,null,{"$error":"#DIV/0!"},{"$error":"#DIV/0!"},{"$f":"IF(SUM(#REF!)>0,\"Tak\",\"\")","v":{"$error":"#REF!"}},{"$f":"IF(OR(G664<0,J664<0,#REF!<0,#REF!<0),\"ujemny plan\",\"\")","v":{"$error":"#REF!"}}]
["DWB/6/DP","Darowizny i spadki pieniężne","853","85395","0960","GMMW",24000,24000,1,0,0,null,"Tak",{"$f":"IF(SUM(#REF!)>0,\"Tak\",\"\")","v":{"$error":"#REF!"}},{"$f":"IF(OR(G665<0,J665<0,#REF!<0,#REF!<0),\"ujemny plan\",\"\")","v":{"$error":"#REF!"}}]
["DWB/6/DP","Darowizny i spadki pieniężne","855","85510","0960","PWMW",null,null,{"$error":"#DIV/0!"},null,null,{"$error":"#DIV/0!"},{"$error":"#DIV/0!"},{"$f":"IF(SUM(#REF!)>0,\"Tak\",\"\")","v":{"$error":"#REF!"}},{"$f":"IF(OR(G666<0,J666<0,#REF!<0,#REF!<0),\"ujemny plan\",\"\")","v":{"$error":"#REF!"}}]
["DWB/6/DP","Darowizny i spadki pieniężne","900","90004","0960","PWMW",null,null,{"$error":"#DIV/0!"},null,null,{"$error":"#DIV/0!"},{"$error":"#DIV/0!"},{"$f":"IF(SUM(#REF!)>0,\"Tak\",\"\")","v":{"$error":"#REF!"}},{"$f":"IF(OR(G667<0,J667<0,#REF!<0,#REF!<0),\"ujemny plan\",\"\")","v":{"$error":"#REF!"}}]
["DWB/6/DP","Darowizny i spadki pieniężne","900","90013","0960","GMMW",null,null,{"$error":"#DIV/0!"},null,null,{"$error":"#DIV/0!"},{"$error":"#DIV/0!"},{"$f":"IF(SUM(#REF!)>0,\"Tak\",\"\")","v":{"$error":"#REF!"}},{"$f":"IF(OR(G668<0,J668<0,#REF!<0,#REF!<0),\"ujemny plan\",\"\")","v":{"$error":"#REF!"}}]
["DWB/6/DP","Darowizny i spadki pieniężne","900","90095","0960","GMMW",null,null,{"$error":"#DIV/0!"},null,null,{"$error":"#DIV/0!"},{"$error":"#DIV/0!"},{"$f":"IF(SUM(#REF!)>0,\"Tak\",\"\")","v":{"$error":"#REF!"}},{"$f":"IF(OR(G669<0,J669<0,#REF!<0,#REF!<0),\"ujemny plan\",\"\")","v":{"$error":"#REF!"}}]
["DWB/6/DP","Darowizny i spadki pieniężne","921","92195","0960",null,null,null,{"$error":"#DIV/0!"},null,null,{"$error":"#DIV/0!"},{"$error":"#DIV/0!"},{"$f":"IF(SUM(#REF!)>0,\"Tak\",\"\")","v":{"$error":"#REF!"}},{"$f":"IF(OR(G670<0,J670<0,#REF!<0,#REF!<0),\"ujemny plan\",\"\")","v":{"$error":"#REF!"}}]
["DWB/6/RD","Wpływy z różnych dochodów ",null,null,null,null,{"$f":"SUM(G672,G702,G704)","v":617565},{"$f":"SUM(H672,H702,H704)","v":637142.17999999993},1.031700598317586,292966,{"$f":"SUM(K672,K702,K704)","v":252159.40999999997},0.86071219868517157,"Tak",{"$f":"IF(SUM(#REF!)>0,\"Tak\",\"\")","v":{"$error":"#REF!"}},{"$f":"IF(OR(G671<0,J671<0,#REF!<0,#REF!<0),\"ujemny plan\",\"\")","v":{"$error":"#REF!"}}]
["DWB/6/RD","Wpływy z różnych dochodów ",null,null,"0940",null,{"$f":"SUM(G673:G701)","v":425307},{"$f":"SUM(H673:H701)","v":453698.57},1.0667554731053099,173307,{"$f":"SUM(K673:K701)","v":164013.36999999997},0.94637475693422635,"Tak",{"$f":"IF(SUM(#REF!)>0,\"Tak\",\"\")","v":{"$error":"#REF!"}},{"$f":"IF(OR(G672<0,J672<0,#REF!<0,#REF!<0),\"ujemny plan\",\"\")","v":{"$error":"#REF!"}}]
["DWB/6/RD","Wpływy z różnych dochodów ",600,"60016","0940","GMMW",156807,156807.74,1.0000047191770776,156807,156807.74,1.0000047191770776,"Tak",{"$f":"IF(SUM(#REF!)>0,\"Tak\",\"\")","v":{"$error":"#REF!"}},{"$f":"IF(OR(G673<0,J673<0,#REF!<0,#REF!<0),\"ujemny plan\",\"\")","v":{"$error":"#REF!"}}]
["DWB/6/RD","Wpływy z różnych dochodów ",630,63001,"0940","GMMW",null,null,{"$error":"#DIV/0!"},null,null,{"$error":"#DIV/0!"},{"$error":"#DIV/0!"},{"$f":"IF(SUM(#REF!)>0,\"Tak\",\"\")","v":{"$error":"#REF!"}},{"$f":"IF(OR(G674<0,J674<0,#REF!<0,#REF!<0),\"ujemny plan\",\"\")","v":{"$error":"#REF!"}}]
["DWB/6/RD","Wpływy z różnych dochodów ",700,70005,"0940","GMMW",236000,{"$f":"234894.88+K675","v":235929.88},0.99970288135593222,1000,1035,1.0349999999999999,"Tak",{"$f":"IF(SUM(#REF!)>0,\"Tak\",\"\")","v":{"$error":"#REF!"}},{"$f":"IF(OR(G675<0,J675<0,#REF!<0,#REF!<0),\"ujemny plan\",\"\")","v":{"$error":"#REF!"}}]
["DWB/6/RD","Wpływy z różnych dochodów ",700,"70007","0940","GMMW",6500,0,0,6500,0,0,"Tak",{"$f":"IF(SUM(#REF!)>0,\"Tak\",\"\")","v":{"$error":"#REF!"}},{"$f":"IF(OR(G676<0,J676<0,#REF!<0,#REF!<0),\"ujemny plan\",\"\")","v":{"$error":"#REF!"}}]
["DWB/6/RD","Wpływy z różnych dochodów ",750,75023,"0940","GMMW",9000,6002.83,0.66698111111111114,9000,6002.83,0.66698111111111114,"Tak",{"$f":"IF(SUM(#REF!)>0,\"Tak\",\"\")","v":{"$error":"#REF!"}},{"$f":"IF(OR(G677<0,J677<0,#REF!<0,#REF!<0),\"ujemny plan\",\"\")","v":{"$error":"#REF!"}}]
["DWB/6/RD","Wpływy z różnych dochodów ",754,75416,"0940","GMMW",null,null,{"$error":"#DIV/0!"},null,null,{"$error":"#DIV/0!"},{"$error":"#DIV/0!"},{"$f":"IF(SUM(#REF!)>0,\"Tak\",\"\")","v":{"$error":"#REF!"}},{"$f":"IF(OR(G678<0,J678<0,#REF!<0,#REF!<0),\"ujemny plan\",\"\")","v":{"$error":"#REF!"}}]
["DWB/6/RD","Wpływy z różnych dochodów ",756,75605,"0940","GMMW",null,null,{"$error":"#DIV/0!"},null,null,{"$error":"#DIV/0!"},{"$error":"#DIV/0!"},{"$f":"IF(SUM(#REF!)>0,\"Tak\",\"\")","v":{"$error":"#REF!"}},{"$f":"IF(OR(G679<0,J679<0,#REF!<0,#REF!<0),\"ujemny plan\",\"\")","v":{"$error":"#REF!"}}]
["DWB/6/RD","Wpływy z różnych dochodów ","758","75814","0940","GMMW",null,null,{"$error":"#DIV/0!"},null,null,{"$error":"#DIV/0!"},{"$error":"#DIV/0!"},{"$f":"IF(SUM(#REF!)>0,\"Tak\",\"\")","v":{"$error":"#REF!"}},{"$f":"IF(OR(G680<0,J680<0,#REF!<0,#REF!<0),\"ujemny plan\",\"\")","v":{"$error":"#REF!"}}]
["DWB/6/RD","Wpływy z różnych dochodów ",801,80101,"0940","GMMW",0,0.93,null,0,0,null,"Tak",{"$f":"IF(SUM(#REF!)>0,\"Tak\",\"\")","v":{"$error":"#REF!"}},{"$f":"IF(OR(G681<0,J681<0,#REF!<0,#REF!<0),\"ujemny plan\",\"\")","v":{"$error":"#REF!"}}]
["DWB/6/RD","Wpływy z różnych dochodów ",801,80103,"0940","GMMW",null,null,{"$error":"#DIV/0!"},null,null,{"$error":"#DIV/0!"},{"$error":"#DIV/0!"},{"$f":"IF(SUM(#REF!)>0,\"Tak\",\"\")","v":{"$error":"#REF!"}},{"$f":"IF(OR(G682<0,J682<0,#REF!<0,#REF!<0),\"ujemny plan\",\"\")","v":{"$error":"#REF!"}}]
["DWB/6/RD","Wpływy z różnych dochodów ",801,80104,"0940","GMMW",null,null,{"$error":"#DIV/0!"},null,null,{"$error":"#DIV/0!"},{"$error":"#DIV/0!"},{"$f":"IF(SUM(#REF!)>0,\"Tak\",\"\")","v":{"$error":"#REF!"}},{"$f":"IF(OR(G683<0,J683<0,#REF!<0,#REF!<0),\"ujemny plan\",\"\")","v":{"$error":"#REF!"}}]
["DWB/6/RD","Wpływy z różnych dochodów ",801,80105,"0940","GMMW",null,null,{"$error":"#DIV/0!"},null,null,{"$error":"#DIV/0!"},{"$error":"#DIV/0!"},{"$f":"IF(SUM(#REF!)>0,\"Tak\",\"\")","v":{"$error":"#REF!"}},{"$f":"IF(OR(G684<0,J684<0,#REF!<0,#REF!<0),\"ujemny plan\",\"\")","v":{"$error":"#REF!"}}]
["DWB/6/RD","Wpływy z różnych dochodów ",801,"80106","0940","GMMW",null,null,{"$error":"#DIV/0!"},null,null,{"$error":"#DIV/0!"},{"$error":"#DIV/0!"},{"$f":"IF(SUM(#REF!)>0,\"Tak\",\"\")","v":{"$error":"#REF!"}},{"$f":"IF(OR(G685<0,J685<0,#REF!<0,#REF!<0),\"ujemny plan\",\"\")","v":{"$error":"#REF!"}}]
["DWB/6/RD","Wpływy z różnych dochodów ","801","80115","0940","GMMW",null,null,{"$error":"#DIV/0!"},null,null,{"$error":"#DIV/0!"},{"$error":"#DIV/0!"},{"$f":"IF(SUM(#REF!)>0,\"Tak\",\"\")","v":{"$error":"#REF!"}},{"$f":"IF(OR(G686<0,J686<0,#REF!<0,#REF!<0),\"ujemny plan\",\"\")","v":{"$error":"#REF!"}}]
["DWB/6/RD","Wpływy z różnych dochodów ","801","80116","0940","GMMW",null,null,{"$error":"#DIV/0!"},null,null,{"$error":"#DIV/0!"},{"$error":"#DIV/0!"},{"$f":"IF(SUM(#REF!)>0,\"Tak\",\"\")","v":{"$error":"#REF!"}},{"$f":"IF(OR(G687<0,J687<0,#REF!<0,#REF!<0),\"ujemny plan\",\"\")","v":{"$error":"#REF!"}}]
["DWB/6/RD","Wpływy z różnych dochodów ","801","80117","0940","GMMW",null,null,{"$error":"#DIV/0!"},null,null,{"$error":"#DIV/0!"},{"$error":"#DIV/0!"},{"$f":"IF(SUM(#REF!)>0,\"Tak\",\"\")","v":{"$error":"#REF!"}},{"$f":"IF(OR(G688<0,J688<0,#REF!<0,#REF!<0),\"ujemny plan\",\"\")","v":{"$error":"#REF!"}}]
["DWB/6/RD","Wpływy z różnych dochodów ","801","80120","0940","GMMW",null,null,{"$error":"#DIV/0!"},null,null,{"$error":"#DIV/0!"},{"$error":"#DIV/0!"},{"$f":"IF(SUM(#REF!)>0,\"Tak\",\"\")","v":{"$error":"#REF!"}},{"$f":"IF(OR(G689<0,J689<0,#REF!<0,#REF!<0),\"ujemny plan\",\"\")","v":{"$error":"#REF!"}}]
["DWB/6/RD","Wpływy z różnych dochodów ","801","80121","0940","GMMW",null,null,{"$error":"#DIV/0!"},null,null,{"$error":"#DIV/0!"},{"$error":"#DIV/0!"},{"$f":"IF(SUM(#REF!)>0,\"Tak\",\"\")","v":{"$error":"#REF!"}},{"$f":"IF(OR(G690<0,J690<0,#REF!<0,#REF!<0),\"ujemny plan\",\"\")","v":{"$error":"#REF!"}}]
["DWB/6/RD","Wpływy z różnych dochodów ",851,85158,"0940","GMMW",null,null,{"$error":"#DIV/0!"},null,null,{"$error":"#DIV/0!"},{"$error":"#DIV/0!"},{"$f":"IF(SUM(#REF!)>0,\"Tak\",\"\")","v":{"$error":"#REF!"}},{"$f":"IF(OR(G691<0,J691<0,#REF!<0,#REF!<0),\"ujemny plan\",\"\")","v":{"$error":"#REF!"}}]
["DWB/6/RD","Wpływy z różnych dochodów ",852,"85213","0940","GMMW",0,1627.43,null,0,0,null,"Tak",{"$f":"IF(SUM(#REF!)>0,\"Tak\",\"\")","v":{"$error":"#REF!"}},{"$f":"IF(OR(G692<0,J692<0,#REF!<0,#REF!<0),\"ujemny plan\",\"\")","v":{"$error":"#REF!"}}]
["DWB/6/RD","Wpływy z różnych dochodów ",852,85214,"0940","GMMW",12000,11968.62,0.99738500000000008,0,0,null,"Tak",{"$f":"IF(SUM(#REF!)>0,\"Tak\",\"\")","v":{"$error":"#REF!"}},{"$f":"IF(OR(G693<0,J693<0,#REF!<0,#REF!<0),\"ujemny plan\",\"\")","v":{"$error":"#REF!"}}]
["DWB/6/RD","Wpływy z różnych dochodów ",852,85215,"0940","GMMW",null,null,{"$error":"#DIV/0!"},null,null,{"$error":"#DIV/0!"},{"$error":"#DIV/0!"},{"$f":"IF(SUM(#REF!)>0,\"Tak\",\"\")","v":{"$error":"#REF!"}},{"$f":"IF(OR(G694<0,J694<0,#REF!<0,#REF!<0),\"ujemny plan\",\"\")","v":{"$error":"#REF!"}}]
["DWB/6/RD","Wpływy z różnych dochodów ",852,"85216","0940","GMMW",5000,27927.5,5.5854999999999997,0,0,null,"Tak",{"$f":"IF(SUM(#REF!)>0,\"Tak\",\"\")","v":{"$error":"#REF!"}},{"$f":"IF(OR(G695<0,J695<0,#REF!<0,#REF!<0),\"ujemny plan\",\"\")","v":{"$error":"#REF!"}}]
["DWB/6/RD","Wpływy z różnych dochodów ",852,85219,"0940","GMMW",0,13265.84,null,0,0,null,"Tak",{"$f":"IF(SUM(#REF!)>0,\"Tak\",\"\")","v":{"$error":"#REF!"}},{"$f":"IF(OR(G696<0,J696<0,#REF!<0,#REF!<0),\"ujemny plan\",\"\")","v":{"$error":"#REF!"}}]
["DWB/6/RD","Wpływy z różnych dochodów ",852,85228,"0940","GMMW",null,null,{"$error":"#DIV/0!"},null,null,{"$error":"#DIV/0!"},{"$error":"#DIV/0!"},{"$f":"IF(SUM(#REF!)>0,\"Tak\",\"\")","v":{"$error":"#REF!"}},{"$f":"IF(OR(G697<0,J697<0,#REF!<0,#REF!<0),\"ujemny plan\",\"\")","v":{"$error":"#REF!"}}]
["DWB/6/RD","Wpływy z różnych dochodów ",853,85395,"0940","GMMW",0,167.8,null,0,167.8,null,"Tak",{"$f":"IF(SUM(#REF!)>0,\"Tak\",\"\")","v":{"$error":"#REF!"}},{"$f":"IF(OR(G698<0,J698<0,#REF!<0,#REF!<0),\"ujemny plan\",\"\")","v":{"$error":"#REF!"}}]
["DWB/6/RD","Wpływy z różnych dochodów ","855","85510","0940","PWMW",null,null,{"$error":"#DIV/0!"},null,null,{"$error":"#DIV/0!"},{"$error":"#DIV/0!"},{"$f":"IF(SUM(#REF!)>0,\"Tak\",\"\")","v":{"$error":"#REF!"}},{"$f":"IF(OR(G699<0,J699<0,#REF!<0,#REF!<0),\"ujemny plan\",\"\")","v":{"$error":"#REF!"}}]
["DWB/6/RD","Wpływy z różnych dochodów ",900,90095,"0940","GMMW",null,null,{"$error":"#DIV/0!"},null,null,{"$error":"#DIV/0!"},{"$error":"#DIV/0!"},{"$f":"IF(SUM(#REF!)>0,\"Tak\",\"\")","v":{"$error":"#REF!"}},{"$f":"IF(OR(G700<0,J700<0,#REF!<0,#REF!<0),\"ujemny plan\",\"\")","v":{"$error":"#REF!"}}]
["DWB/6/RD","Wpływy z różnych dochodów ",926,92604,"0940","GMMW",null,null,{"$error":"#DIV/0!"},null,null,{"$error":"#DIV/0!"},{"$error":"#DIV/0!"},{"$f":"IF(SUM(#REF!)>0,\"Tak\",\"\")","v":{"$error":"#REF!"}},{"$f":"IF(OR(G701<0,J701<0,#REF!<0,#REF!<0),\"ujemny plan\",\"\")","v":{"$error":"#REF!"}}]
["DWB/6/RD","Wpływy z różnych dochodów ",null,null,"0950",null,{"$f":"SUM(G703)","v":0},null,{"$error":"#DIV/0!"},0,null,{"$error":"#DIV/0!"},{"$error":"#DIV/0!"},{"$f":"IF(SUM(#REF!)>0,\"Tak\",\"\")","v":{"$error":"#REF!"}},{"$f":"IF(OR(G702<0,J702<0,#REF!<0,#REF!<0),\"ujemny plan\",\"\")","v":{"$error":"#REF!"}}]
["DWB/6/RD","Wpływy z różnych dochodów ",750,75023,"0950","GMMW",null,null,{"$error":"#DIV/0!"},null,null,{"$error":"#DIV/0!"},{"$error":"#DIV/0!"},{"$f":"IF(SUM(#REF!)>0,\"Tak\",\"\")","v":{"$error":"#REF!"}},{"$f":"IF(OR(G703<0,J703<0,#REF!<0,#REF!<0),\"ujemny plan\",\"\")","v":{"$error":"#REF!"}}]
["DWB/6/RD","Wpływy z różnych dochodów ",null,null,"0970",null,{"$f":"SUM(G705:G801)","v":192258},183443.61,0.95415332521923657,119659,88146.040000000008,0.73664362897901547,"Tak",{"$f":"IF(SUM(#REF!)>0,\"Tak\",\"\")","v":{"$error":"#REF!"}},{"$f":"IF(OR(G704<0,J704<0,#REF!<0,#REF!<0),\"ujemny plan\",\"\")","v":{"$error":"#REF!"}}]
["DWB/6/RD","Wpływy z różnych dochodów ","020","02001","0970",null,null,null,{"$error":"#DIV/0!"},null,null,{"$error":"#DIV/0!"},{"$error":"#DIV/0!"},{"$f":"IF(SUM(#REF!)>0,\"Tak\",\"\")","v":{"$error":"#REF!"}},{"$f":"IF(OR(G705<0,J705<0,#REF!<0,#REF!<0),\"ujemny plan\",\"\")","v":{"$error":"#REF!"}}]
["DWB/6/RD","Wpływy z różnych dochodów ",400,40002,"0970","GMMW",2753,2752.28,0.99973846712677084,2753,2752.28,0.99973846712677084,"Tak",{"$f":"IF(SUM(#REF!)>0,\"Tak\",\"\")","v":{"$error":"#REF!"}},{"$f":"IF(OR(G706<0,J706<0,#REF!<0,#REF!<0),\"ujemny plan\",\"\")","v":{"$error":"#REF!"}}]
["DWB/6/RD","Wpływy z różnych dochodów ",500,50095,"0970","GMMW",null,null,{"$error":"#DIV/0!"},null,null,{"$error":"#DIV/0!"},{"$error":"#DIV/0!"},{"$f":"IF(SUM(#REF!)>0,\"Tak\",\"\")","v":{"$error":"#REF!"}},{"$f":"IF(OR(G707<0,J707<0,#REF!<0,#REF!<0),\"ujemny plan\",\"\")","v":{"$error":"#REF!"}}]
["DWB/6/RD","Wpływy z różnych dochodów ",600,60004,"0970","GMMW",null,null,{"$error":"#DIV/0!"},null,null,{"$error":"#DIV/0!"},{"$error":"#DIV/0!"},{"$f":"IF(SUM(#REF!)>0,\"Tak\",\"\")","v":{"$error":"#REF!"}},{"$f":"IF(OR(G708<0,J708<0,#REF!<0,#REF!<0),\"ujemny plan\",\"\")","v":{"$error":"#REF!"}}]
["DWB/6/RD","Wpływy z różnych dochodów ",600,"60011","0970",null,null,null,{"$error":"#DIV/0!"},null,null,{"$error":"#DIV/0!"},{"$error":"#DIV/0!"},{"$f":"IF(SUM(#REF!)>0,\"Tak\",\"\")","v":{"$error":"#REF!"}},{"$f":"IF(OR(G709<0,J709<0,#REF!<0,#REF!<0),\"ujemny plan\",\"\")","v":{"$error":"#REF!"}}]
["DWB/6/RD","Wpływy z różnych dochodów ",600,"60013","0970",null,null,null,{"$error":"#DIV/0!"},null,null,{"$error":"#DIV/0!"},{"$error":"#DIV/0!"},{"$f":"IF(SUM(#REF!)>0,\"Tak\",\"\")","v":{"$error":"#REF!"}},{"$f":"IF(OR(G710<0,J710<0,#REF!<0,#REF!<0),\"ujemny plan\",\"\")","v":{"$error":"#REF!"}}]
["DWB/6/RD","Wpływy z różnych dochodów ",600,"60014","0970","GMMW",null,null,{"$error":"#DIV/0!"},null,null,{"$error":"#DIV/0!"},{"$error":"#DIV/0!"},{"$f":"IF(SUM(#REF!)>0,\"Tak\",\"\")","v":{"$error":"#REF!"}},{"$f":"IF(OR(G711<0,J711<0,#REF!<0,#REF!<0),\"ujemny plan\",\"\")","v":{"$error":"#REF!"}}]
["DWB/6/RD","Wpływy z różnych dochodów ",600,60015,"0970","GMMW",null,null,{"$error":"#DIV/0!"},null,null,{"$error":"#DIV/0!"},{"$f":"IF(SUM(G712:L712)>0,\"Tak\",\"\")","v":{"$error":"#DIV/0!"}},{"$f":"IF(SUM(#REF!)>0,\"Tak\",\"\")","v":{"$error":"#REF!"}},{"$f":"IF(OR(G712<0,J712<0,#REF!<0,#REF!<0),\"ujemny plan\",\"\")","v":{"$error":"#REF!"}}]
["DWB/6/RD","Wpływy z różnych dochodów ",600,60016,"0970","GMMW",0,13193.04,null,0,13193.04,null,"Tak",{"$f":"IF(SUM(#REF!)>0,\"Tak\",\"\")","v":{"$error":"#REF!"}},{"$f":"IF(OR(G713<0,J713<0,#REF!<0,#REF!<0),\"ujemny plan\",\"\")","v":{"$error":"#REF!"}}]
["DWB/6/RD","Wpływy z różnych dochodów ",600,60095,"0970","GMMW",null,null,{"$f":"H714/G714","v":{"$error":"#DIV/0!"}},null,null,{"$f":"K714/J714","v":{"$error":"#DIV/0!"}},{"$error":"#DIV/0!"},{"$f":"IF(SUM(#REF!)>0,\"Tak\",\"\")","v":{"$error":"#REF!"}},{"$f":"IF(OR(G714<0,J714<0,#REF!<0,#REF!<0),\"ujemny plan\",\"\")","v":{"$error":"#REF!"}}]
["DWB/6/RD","Wpływy z różnych dochodów ",630,63001,"0970","GMMW",null,null,{"$error":"#DIV/0!"},null,null,{"$error":"#DIV/0!"},{"$error":"#DIV/0!"},{"$f":"IF(SUM(#REF!)>0,\"Tak\",\"\")","v":{"$error":"#REF!"}},{"$f":"IF(OR(G715<0,J715<0,#REF!<0,#REF!<0),\"ujemny plan\",\"\")","v":{"$error":"#REF!"}}]
["DWB/6/RD","Wpływy z różnych dochodów ",700,70004,"0970",null,null,null,{"$error":"#DIV/0!"},null,null,{"$error":"#DIV/0!"},{"$error":"#DIV/0!"},{"$f":"IF(SUM(#REF!)>0,\"Tak\",\"\")","v":{"$error":"#REF!"}},{"$f":"IF(OR(G716<0,J716<0,#REF!<0,#REF!<0),\"ujemny plan\",\"\")","v":{"$error":"#REF!"}}]
["DWB/6/RD","Wpływy z różnych dochodów ",700,70005,"0970","GMMW",17200,{"$f":"6868.24+K717","v":26388.909999999996},1.5342389534883718,16700,19520.669999999998,1.1689023952095807,"Tak",{"$f":"IF(SUM(#REF!)>0,\"Tak\",\"\")","v":{"$error":"#REF!"}},{"$f":"IF(OR(G717<0,J717<0,#REF!<0,#REF!<0),\"ujemny plan\",\"\")","v":{"$error":"#REF!"}}]
["DWB/6/RD","Wpływy z różnych dochodów ",700,70005,"0970","SPDR",null,null,{"$error":"#DIV/0!"},null,null,{"$error":"#DIV/0!"},{"$error":"#DIV/0!"},{"$f":"IF(SUM(#REF!)>0,\"Tak\",\"\")","v":{"$error":"#REF!"}},{"$f":"IF(OR(G718<0,J718<0,#REF!<0,#REF!<0),\"ujemny plan\",\"\")","v":{"$error":"#REF!"}}]
["DWB/6/RD","Wpływy z różnych dochodów ",700,"70007","0970",null,null,null,{"$error":"#DIV/0!"},null,null,{"$error":"#DIV/0!"},{"$error":"#DIV/0!"},{"$f":"IF(SUM(#REF!)>0,\"Tak\",\"\")","v":{"$error":"#REF!"}},{"$f":"IF(OR(G719<0,J719<0,#REF!<0,#REF!<0),\"ujemny plan\",\"\")","v":{"$error":"#REF!"}}]
["DWB/6/RD","Wpływy z różnych dochodów ",700,70095,"0970",null,null,null,{"$error":"#DIV/0!"},null,null,{"$error":"#DIV/0!"},{"$error":"#DIV/0!"},{"$f":"IF(SUM(#REF!)>0,\"Tak\",\"\")","v":{"$error":"#REF!"}},{"$f":"IF(OR(G720<0,J720<0,#REF!<0,#REF!<0),\"ujemny plan\",\"\")","v":{"$error":"#REF!"}}]
["DWB/6/RD","Wpływy z różnych dochodów ",710,71002,"0970","GMMW",null,null,{"$error":"#DIV/0!"},null,null,{"$error":"#DIV/0!"},{"$error":"#DIV/0!"},{"$f":"IF(SUM(#REF!)>0,\"Tak\",\"\")","v":{"$error":"#REF!"}},{"$f":"IF(OR(G721<0,J721<0,#REF!<0,#REF!<0),\"ujemny plan\",\"\")","v":{"$error":"#REF!"}}]
["DWB/6/RD","Wpływy z różnych dochodów ",710,"71014","0970","PWMW",null,null,{"$error":"#DIV/0!"},null,null,{"$error":"#DIV/0!"},{"$error":"#DIV/0!"},{"$f":"IF(SUM(#REF!)>0,\"Tak\",\"\")","v":{"$error":"#REF!"}},{"$f":"IF(OR(G722<0,J722<0,#REF!<0,#REF!<0),\"ujemny plan\",\"\")","v":{"$error":"#REF!"}}]
["DWB/6/RD","Wpływy z różnych dochodów ",750,75023,"0970","GKZP",0,332.36,null,0,332.36,null,"Tak",{"$f":"IF(SUM(#REF!)>0,\"Tak\",\"\")","v":{"$error":"#REF!"}},{"$f":"IF(OR(G723<0,J723<0,#REF!<0,#REF!<0),\"ujemny plan\",\"\")","v":{"$error":"#REF!"}}]
["DWB/6/RD","Wpływy z różnych dochodów ",750,75023,"0970","GMMW",100000,44101.9,0.44101899999999999,100000,44101.9,0.44101899999999999,"Tak",{"$f":"IF(SUM(#REF!)>0,\"Tak\",\"\")","v":{"$error":"#REF!"}},{"$f":"IF(OR(G724<0,J724<0,#REF!<0,#REF!<0),\"ujemny plan\",\"\")","v":{"$error":"#REF!"}}]
["DWB/6/RD","Wpływy z różnych dochodów ",750,75023,"0970","EURO",null,null,{"$error":"#DIV/0!"},null,null,{"$error":"#DIV/0!"},{"$error":"#DIV/0!"},{"$f":"IF(SUM(#REF!)>0,\"Tak\",\"\")","v":{"$error":"#REF!"}},{"$f":"IF(OR(G725<0,J725<0,#REF!<0,#REF!<0),\"ujemny plan\",\"\")","v":{"$error":"#REF!"}}]
["DWB/6/RD","Wpływy z różnych dochodów ",750,"75023","0970","PWMW",null,null,{"$error":"#DIV/0!"},null,null,{"$error":"#DIV/0!"},{"$error":"#DIV/0!"},{"$f":"IF(SUM(#REF!)>0,\"Tak\",\"\")","v":{"$error":"#REF!"}},{"$f":"IF(OR(G726<0,J726<0,#REF!<0,#REF!<0),\"ujemny plan\",\"\")","v":{"$error":"#REF!"}}]
["DWB/6/RD","Wpływy z różnych dochodów ",750,"75085","0970","GMMW",1194,1438,1.204355108877722,0,0,null,"Tak",{"$f":"IF(SUM(#REF!)>0,\"Tak\",\"\")","v":{"$error":"#REF!"}},{"$f":"IF(OR(G727<0,J727<0,#REF!<0,#REF!<0),\"ujemny plan\",\"\")","v":{"$error":"#REF!"}}]
["DWB/6/RD","Wpływy z różnych dochodów ",754,75416,"0970","GMMW",null,null,{"$error":"#DIV/0!"},null,null,{"$error":"#DIV/0!"},{"$error":"#DIV/0!"},{"$f":"IF(SUM(#REF!)>0,\"Tak\",\"\")","v":{"$error":"#REF!"}},{"$f":"IF(OR(G728<0,J728<0,#REF!<0,#REF!<0),\"ujemny plan\",\"\")","v":{"$error":"#REF!"}}]
["DWB/6/RD","Wpływy z różnych dochodów ",754,75495,"0970","GMMW",null,null,{"$error":"#DIV/0!"},null,null,{"$error":"#DIV/0!"},{"$error":"#DIV/0!"},{"$f":"IF(SUM(#REF!)>0,\"Tak\",\"\")","v":{"$error":"#REF!"}},{"$f":"IF(OR(G729<0,J729<0,#REF!<0,#REF!<0),\"ujemny plan\",\"\")","v":{"$error":"#REF!"}}]
["DWB/6/RD","Wpływy z różnych dochodów ",756,75605,"0970","GMMW",null,null,{"$error":"#DIV/0!"},null,null,{"$error":"#DIV/0!"},{"$error":"#DIV/0!"},{"$f":"IF(SUM(#REF!)>0,\"Tak\",\"\")","v":{"$error":"#REF!"}},{"$f":"IF(OR(G730<0,J730<0,#REF!<0,#REF!<0),\"ujemny plan\",\"\")","v":{"$error":"#REF!"}}]
["DWB/6/RD","Wpływy z różnych dochodów ",756,75618,"0970","GMMW",null,null,{"$error":"#DIV/0!"},null,null,{"$error":"#DIV/0!"},{"$error":"#DIV/0!"},{"$f":"IF(SUM(#REF!)>0,\"Tak\",\"\")","v":{"$error":"#REF!"}},{"$f":"IF(OR(G731<0,J731<0,#REF!<0,#REF!<0),\"ujemny plan\",\"\")","v":{"$error":"#REF!"}}]
["DWB/6/RD","Wpływy z różnych dochodów ",756,"75619","0970","GMMW",null,null,{"$error":"#DIV/0!"},null,null,{"$error":"#DIV/0!"},{"$error":"#DIV/0!"},{"$f":"IF(SUM(#REF!)>0,\"Tak\",\"\")","v":{"$error":"#REF!"}},{"$f":"IF(OR(G732<0,J732<0,#REF!<0,#REF!<0),\"ujemny plan\",\"\")","v":{"$error":"#REF!"}}]
["DWB/6/RD","Wpływy z różnych dochodów ",758,75802,"0970",null,null,null,{"$error":"#DIV/0!"},null,null,{"$error":"#DIV/0!"},{"$error":"#DIV/0!"},{"$f":"IF(SUM(#REF!)>0,\"Tak\",\"\")","v":{"$error":"#REF!"}},{"$f":"IF(OR(G733<0,J733<0,#REF!<0,#REF!<0),\"ujemny plan\",\"\")","v":{"$error":"#REF!"}}]
["DWB/6/RD","Wpływy z różnych dochodów ",758,75814,"0970","GMMW",null,null,{"$error":"#DIV/0!"},null,null,{"$error":"#DIV/0!"},{"$error":"#DIV/0!"},{"$f":"IF(SUM(#REF!)>0,\"Tak\",\"\")","v":{"$error":"#REF!"}},{"$f":"IF(OR(G734<0,J734<0,#REF!<0,#REF!<0),\"ujemny plan\",\"\")","v":{"$error":"#REF!"}}]
["DWB/6/RD","Wpływy z różnych dochodów ",801,80101,"0970","GMMW",48277,{"$f":"58704.4+K735","v":58910.53},1.2202607867100275,206,206.13,1.000631067961165,"Tak",{"$f":"IF(SUM(#REF!)>0,\"Tak\",\"\")","v":{"$error":"#REF!"}},{"$f":"IF(OR(G735<0,J735<0,#REF!<0,#REF!<0),\"ujemny plan\",\"\")","v":{"$error":"#REF!"}}]
["DWB/6/RD","Wpływy z różnych dochodów ",801,80102,"0970",null,null,null,{"$error":"#DIV/0!"},null,null,{"$error":"#DIV/0!"},{"$error":"#DIV/0!"},{"$f":"IF(SUM(#REF!)>0,\"Tak\",\"\")","v":{"$error":"#REF!"}},{"$f":"IF(OR(G736<0,J736<0,#REF!<0,#REF!<0),\"ujemny plan\",\"\")","v":{"$error":"#REF!"}}]
["DWB/6/RD","Wpływy z różnych dochodów ",801,80103,"0970","GMMW",null,null,{"$error":"#DIV/0!"},null,null,{"$error":"#DIV/0!"},{"$error":"#DIV/0!"},{"$f":"IF(SUM(#REF!)>0,\"Tak\",\"\")","v":{"$error":"#REF!"}},{"$f":"IF(OR(G737<0,J737<0,#REF!<0,#REF!<0),\"ujemny plan\",\"\")","v":{"$error":"#REF!"}}]
["DWB/6/RD","Wpływy z różnych dochodów ",801,80104,"0970","GMMW",8729,10628,1.2175506930919922,0,0,null,"Tak",{"$f":"IF(SUM(#REF!)>0,\"Tak\",\"\")","v":{"$error":"#REF!"}},{"$f":"IF(OR(G738<0,J738<0,#REF!<0,#REF!<0),\"ujemny plan\",\"\")","v":{"$error":"#REF!"}}]
["DWB/6/RD","Wpływy z różnych dochodów ",801,80105,"0970","GMMW",null,null,{"$error":"#DIV/0!"},null,null,{"$error":"#DIV/0!"},{"$error":"#DIV/0!"},{"$f":"IF(SUM(#REF!)>0,\"Tak\",\"\")","v":{"$error":"#REF!"}},{"$f":"IF(OR(G739<0,J739<0,#REF!<0,#REF!<0),\"ujemny plan\",\"\")","v":{"$error":"#REF!"}}]
["DWB/6/RD","Wpływy z różnych dochodów ",801,"80106","0970","GMMW",null,null,{"$error":"#DIV/0!"},null,null,{"$error":"#DIV/0!"},{"$error":"#DIV/0!"},{"$f":"IF(SUM(#REF!)>0,\"Tak\",\"\")","v":{"$error":"#REF!"}},{"$f":"IF(OR(G740<0,J740<0,#REF!<0,#REF!<0),\"ujemny plan\",\"\")","v":{"$error":"#REF!"}}]
["DWB/6/RD","Wpływy z różnych dochodów ","801","80115","0970","GMMW",null,null,{"$error":"#DIV/0!"},null,null,{"$error":"#DIV/0!"},{"$error":"#DIV/0!"},{"$f":"IF(SUM(#REF!)>0,\"Tak\",\"\")","v":{"$error":"#REF!"}},{"$f":"IF(OR(G741<0,J741<0,#REF!<0,#REF!<0),\"ujemny plan\",\"\")","v":{"$error":"#REF!"}}]
["DWB/6/RD","Wpływy z różnych dochodów ","801","80116","0970","GMMW",null,null,{"$error":"#DIV/0!"},null,null,{"$error":"#DIV/0!"},{"$error":"#DIV/0!"},{"$f":"IF(SUM(#REF!)>0,\"Tak\",\"\")","v":{"$error":"#REF!"}},{"$f":"IF(OR(G742<0,J742<0,#REF!<0,#REF!<0),\"ujemny plan\",\"\")","v":{"$error":"#REF!"}}]
["DWB/6/RD","Wpływy z różnych dochodów ","801","80117","0970","GMMW",null,null,{"$error":"#DIV/0!"},null,null,{"$error":"#DIV/0!"},{"$error":"#DIV/0!"},{"$f":"IF(SUM(#REF!)>0,\"Tak\",\"\")","v":{"$error":"#REF!"}},{"$f":"IF(OR(G743<0,J743<0,#REF!<0,#REF!<0),\"ujemny plan\",\"\")","v":{"$error":"#REF!"}}]
["DWB/6/RD","Wpływy z różnych dochodów ","801","80120","0970","GMMW",3586,4367,1.2177914110429449,0,0,null,"Tak",{"$f":"IF(SUM(#REF!)>0,\"Tak\",\"\")","v":{"$error":"#REF!"}},{"$f":"IF(OR(G744<0,J744<0,#REF!<0,#REF!<0),\"ujemny plan\",\"\")","v":{"$error":"#REF!"}}]
["DWB/6/RD","Wpływy z różnych dochodów ","801","80121","0970","GMMW",null,null,{"$error":"#DIV/0!"},null,null,{"$error":"#DIV/0!"},{"$error":"#DIV/0!"},{"$f":"IF(SUM(#REF!)>0,\"Tak\",\"\")","v":{"$error":"#REF!"}},{"$f":"IF(OR(G745<0,J745<0,#REF!<0,#REF!<0),\"ujemny plan\",\"\")","v":{"$error":"#REF!"}}]
["DWB/6/RD","Wpływy z różnych dochodów ",801,80140,"0970","GMMW",null,null,{"$error":"#DIV/0!"},null,null,{"$error":"#DIV/0!"},{"$error":"#DIV/0!"},{"$f":"IF(SUM(#REF!)>0,\"Tak\",\"\")","v":{"$error":"#REF!"}},{"$f":"IF(OR(G746<0,J746<0,#REF!<0,#REF!<0),\"ujemny plan\",\"\")","v":{"$error":"#REF!"}}]
["DWB/6/RD","Wpływy z różnych dochodów ",801,80148,"0970","GMMW",null,null,{"$error":"#DIV/0!"},null,null,{"$error":"#DIV/0!"},{"$error":"#DIV/0!"},{"$f":"IF(SUM(#REF!)>0,\"Tak\",\"\")","v":{"$error":"#REF!"}},{"$f":"IF(OR(G747<0,J747<0,#REF!<0,#REF!<0),\"ujemny plan\",\"\")","v":{"$error":"#REF!"}}]
["DWB/6/RD","Wpływy z różnych dochodów ",801,"80149","0970","GMMW",null,null,{"$error":"#DIV/0!"},null,null,{"$error":"#DIV/0!"},{"$error":"#DIV/0!"},{"$f":"IF(SUM(#REF!)>0,\"Tak\",\"\")","v":{"$error":"#REF!"}},{"$f":"IF(OR(G748<0,J748<0,#REF!<0,#REF!<0),\"ujemny plan\",\"\")","v":{"$error":"#REF!"}}]
["DWB/6/RD","Wpływy z różnych dochodów ",801,"80150","0970","GMMW",null,null,{"$error":"#DIV/0!"},null,null,{"$error":"#DIV/0!"},{"$error":"#DIV/0!"},{"$f":"IF(SUM(#REF!)>0,\"Tak\",\"\")","v":{"$error":"#REF!"}},{"$f":"IF(OR(G749<0,J749<0,#REF!<0,#REF!<0),\"ujemny plan\",\"\")","v":{"$error":"#REF!"}}]
["DWB/6/RD","Wpływy z różnych dochodów ",801,80195,"0970","GMMW",0,1125.9100000000001,null,0,1125.9100000000001,null,"Tak",{"$f":"IF(SUM(#REF!)>0,\"Tak\",\"\")","v":{"$error":"#REF!"}},{"$f":"IF(OR(G750<0,J750<0,#REF!<0,#REF!<0),\"ujemny plan\",\"\")","v":{"$error":"#REF!"}}]
["DWB/6/RD","Wpływy z różnych dochodów ",851,85111,"0970","GMMW",null,null,{"$error":"#DIV/0!"},null,null,{"$error":"#DIV/0!"},{"$error":"#DIV/0!"},{"$f":"IF(SUM(#REF!)>0,\"Tak\",\"\")","v":{"$error":"#REF!"}},{"$f":"IF(OR(G751<0,J751<0,#REF!<0,#REF!<0),\"ujemny plan\",\"\")","v":{"$error":"#REF!"}}]
["DWB/6/RD","Wpływy z różnych dochodów ",851,85121,"0970",null,null,null,{"$error":"#DIV/0!"},null,null,{"$error":"#DIV/0!"},{"$error":"#DIV/0!"},{"$f":"IF(SUM(#REF!)>0,\"Tak\",\"\")","v":{"$error":"#REF!"}},{"$f":"IF(OR(G752<0,J752<0,#REF!<0,#REF!<0),\"ujemny plan\",\"\")","v":{"$error":"#REF!"}}]
["DWB/6/RD","Wpływy z różnych dochodów ",851,85154,"0970","GMMW",null,null,{"$error":"#DIV/0!"},null,null,{"$error":"#DIV/0!"},{"$error":"#DIV/0!"},{"$f":"IF(SUM(#REF!)>0,\"Tak\",\"\")","v":{"$error":"#REF!"}},{"$f":"IF(OR(G753<0,J753<0,#REF!<0,#REF!<0),\"ujemny plan\",\"\")","v":{"$error":"#REF!"}}]
["DWB/6/RD","Wpływy z różnych dochodów ",851,85158,"0970","GMMW",null,null,{"$error":"#DIV/0!"},null,null,{"$error":"#DIV/0!"},{"$error":"#DIV/0!"},{"$f":"IF(SUM(#REF!)>0,\"Tak\",\"\")","v":{"$error":"#REF!"}},{"$f":"IF(OR(G754<0,J754<0,#REF!<0,#REF!<0),\"ujemny plan\",\"\")","v":{"$error":"#REF!"}}]
["DWB/6/RD","Wpływy z różnych dochodów ",852,85202,"0970","PWMW",null,null,{"$error":"#DIV/0!"},null,null,{"$error":"#DIV/0!"},{"$error":"#DIV/0!"},{"$f":"IF(SUM(#REF!)>0,\"Tak\",\"\")","v":{"$error":"#REF!"}},{"$f":"IF(OR(G755<0,J755<0,#REF!<0,#REF!<0),\"ujemny plan\",\"\")","v":{"$error":"#REF!"}}]
["DWB/6/RD","Wpływy z różnych dochodów ",852,85203,"0970","GMMW",null,null,{"$error":"#DIV/0!"},null,null,{"$error":"#DIV/0!"},{"$error":"#DIV/0!"},{"$f":"IF(SUM(#REF!)>0,\"Tak\",\"\")","v":{"$error":"#REF!"}},{"$f":"IF(OR(G756<0,J756<0,#REF!<0,#REF!<0),\"ujemny plan\",\"\")","v":{"$error":"#REF!"}}]
["DWB/6/RD","Wpływy z różnych dochodów ",852,85204,"0970","PWMW",null,null,{"$error":"#DIV/0!"},null,null,{"$error":"#DIV/0!"},{"$error":"#DIV/0!"},{"$f":"IF(SUM(#REF!)>0,\"Tak\",\"\")","v":{"$error":"#REF!"}},{"$f":"IF(OR(G757<0,J757<0,#REF!<0,#REF!<0),\"ujemny plan\",\"\")","v":{"$error":"#REF!"}}]
["DWB/6/RD","Wpływy z różnych dochodów ",852,85213,"0970","GMMW",null,null,{"$error":"#DIV/0!"},null,null,{"$error":"#DIV/0!"},{"$error":"#DIV/0!"},{"$f":"IF(SUM(#REF!)>0,\"Tak\",\"\")","v":{"$error":"#REF!"}},{"$f":"IF(OR(G758<0,J758<0,#REF!<0,#REF!<0),\"ujemny plan\",\"\")","v":{"$error":"#REF!"}}]
["DWB/6/RD","Wpływy z różnych dochodów ",852,85214,"0970","GMMW",null,null,{"$error":"#DIV/0!"},null,null,{"$error":"#DIV/0!"},{"$error":"#DIV/0!"},{"$f":"IF(SUM(#REF!)>0,\"Tak\",\"\")","v":{"$error":"#REF!"}},{"$f":"IF(OR(G759<0,J759<0,#REF!<0,#REF!<0),\"ujemny plan\",\"\")","v":{"$error":"#REF!"}}]
["DWB/6/RD","Wpływy z różnych dochodów ",852,85215,"0970","GMMW",0,6822.88,null,0,6822.88,null,"Tak",{"$f":"IF(SUM(#REF!)>0,\"Tak\",\"\")","v":{"$error":"#REF!"}},{"$f":"IF(OR(G760<0,J760<0,#REF!<0,#REF!<0),\"ujemny plan\",\"\")","v":{"$error":"#REF!"}}]
["DWB/6/RD","Wpływy z różnych dochodów ",852,"85216","0970","GMMW",null,null,{"$error":"#DIV/0!"},null,null,{"$error":"#DIV/0!"},{"$error":"#DIV/0!"},{"$f":"IF(SUM(#REF!)>0,\"Tak\",\"\")","v":{"$error":"#REF!"}},{"$f":"IF(OR(G761<0,J761<0,#REF!<0,#REF!<0),\"ujemny plan\",\"\")","v":{"$error":"#REF!"}}]
["DWB/6/RD","Wpływy z różnych dochodów ",852,"85218","0970","PWMW",null,null,{"$error":"#DIV/0!"},null,null,{"$error":"#DIV/0!"},{"$error":"#DIV/0!"},{"$f":"IF(SUM(#REF!)>0,\"Tak\",\"\")","v":{"$error":"#REF!"}},{"$f":"IF(OR(G762<0,J762<0,#REF!<0,#REF!<0),\"ujemny plan\",\"\")","v":{"$error":"#REF!"}}]
["DWB/6/RD","Wpływy z różnych dochodów ",852,85219,"0970","GMMW",1000,2390,2.39,0,0,null,"Tak",{"$f":"IF(SUM(#REF!)>0,\"Tak\",\"\")","v":{"$error":"#REF!"}},{"$f":"IF(OR(G763<0,J763<0,#REF!<0,#REF!<0),\"ujemny plan\",\"\")","v":{"$error":"#REF!"}}]
["DWB/6/RD","Wpływy z różnych dochodów ",852,85228,"0970","GMMW",null,null,{"$error":"#DIV/0!"},null,null,{"$error":"#DIV/0!"},{"$error":"#DIV/0!"},{"$f":"IF(SUM(#REF!)>0,\"Tak\",\"\")","v":{"$error":"#REF!"}},{"$f":"IF(OR(G764<0,J764<0,#REF!<0,#REF!<0),\"ujemny plan\",\"\")","v":{"$error":"#REF!"}}]
["DWB/6/RD","Wpływy z różnych dochodów ",852,85228,"0970","PWMW",null,null,{"$error":"#DIV/0!"},null,null,{"$error":"#DIV/0!"},{"$error":"#DIV/0!"},{"$f":"IF(SUM(#REF!)>0,\"Tak\",\"\")","v":{"$error":"#REF!"}},{"$f":"IF(OR(G765<0,J765<0,#REF!<0,#REF!<0),\"ujemny plan\",\"\")","v":{"$error":"#REF!"}}]
["DWB/6/RD","Wpływy z różnych dochodów ",852,85231,"0970",null,null,null,{"$error":"#DIV/0!"},null,null,{"$error":"#DIV/0!"},{"$error":"#DIV/0!"},{"$f":"IF(SUM(#REF!)>0,\"Tak\",\"\")","v":{"$error":"#REF!"}},{"$f":"IF(OR(G766<0,J766<0,#REF!<0,#REF!<0),\"ujemny plan\",\"\")","v":{"$error":"#REF!"}}]
["DWB/6/RD","Wpływy z różnych dochodów ",852,"85295","0970","PWMW",null,null,{"$error":"#DIV/0!"},null,null,{"$error":"#DIV/0!"},{"$error":"#DIV/0!"},{"$f":"IF(SUM(#REF!)>0,\"Tak\",\"\")","v":{"$error":"#REF!"}},{"$f":"IF(OR(G767<0,J767<0,#REF!<0,#REF!<0),\"ujemny plan\",\"\")","v":{"$error":"#REF!"}}]
["DWB/6/RD","Wpływy z różnych dochodów ",853,85324,"0970",null,null,null,{"$error":"#DIV/0!"},null,null,{"$error":"#DIV/0!"},{"$error":"#DIV/0!"},{"$f":"IF(SUM(#REF!)>0,\"Tak\",\"\")","v":{"$error":"#REF!"}},{"$f":"IF(OR(G768<0,J768<0,#REF!<0,#REF!<0),\"ujemny plan\",\"\")","v":{"$error":"#REF!"}}]
["DWB/6/RD","Wpływy z różnych dochodów ",853,85333,"0970","PWMW",null,null,{"$error":"#DIV/0!"},null,null,{"$error":"#DIV/0!"},{"$error":"#DIV/0!"},{"$f":"IF(SUM(#REF!)>0,\"Tak\",\"\")","v":{"$error":"#REF!"}},{"$f":"IF(OR(G769<0,J769<0,#REF!<0,#REF!<0),\"ujemny plan\",\"\")","v":{"$error":"#REF!"}}]
["DWB/6/RD","Wpływy z różnych dochodów ",853,85395,"0970","GMMW",null,null,{"$error":"#DIV/0!"},null,null,{"$error":"#DIV/0!"},{"$error":"#DIV/0!"},{"$f":"IF(SUM(#REF!)>0,\"Tak\",\"\")","v":{"$error":"#REF!"}},{"$f":"IF(OR(G770<0,J770<0,#REF!<0,#REF!<0),\"ujemny plan\",\"\")","v":{"$error":"#REF!"}}]
["DWB/6/RD","Wpływy z różnych dochodów ",854,85401,"0970","GMMW",null,null,{"$error":"#DIV/0!"},null,null,{"$error":"#DIV/0!"},{"$error":"#DIV/0!"},{"$f":"IF(SUM(#REF!)>0,\"Tak\",\"\")","v":{"$error":"#REF!"}},{"$f":"IF(OR(G771<0,J771<0,#REF!<0,#REF!<0),\"ujemny plan\",\"\")","v":{"$error":"#REF!"}}]
["DWB/6/RD","Wpływy z różnych dochodów ",854,85403,"0970",null,null,null,{"$error":"#DIV/0!"},null,null,{"$error":"#DIV/0!"},{"$error":"#DIV/0!"},{"$f":"IF(SUM(#REF!)>0,\"Tak\",\"\")","v":{"$error":"#REF!"}},{"$f":"IF(OR(G772<0,J772<0,#REF!<0,#REF!<0),\"ujemny plan\",\"\")","v":{"$error":"#REF!"}}]
["DWB/6/RD","Wpływy z różnych dochodów ",854,85406,"0970","GMMW",1919,2302,1.1995831162063575,0,0,null,"Tak",{"$f":"IF(SUM(#REF!)>0,\"Tak\",\"\")","v":{"$error":"#REF!"}},{"$f":"IF(OR(G773<0,J773<0,#REF!<0,#REF!<0),\"ujemny plan\",\"\")","v":{"$error":"#REF!"}}]
["DWB/6/RD","Wpływy z różnych dochodów ",854,85407,"0970","GMMW",null,null,{"$error":"#DIV/0!"},null,null,{"$error":"#DIV/0!"},{"$error":"#DIV/0!"},{"$f":"IF(SUM(#REF!)>0,\"Tak\",\"\")","v":{"$error":"#REF!"}},{"$f":"IF(OR(G774<0,J774<0,#REF!<0,#REF!<0),\"ujemny plan\",\"\")","v":{"$error":"#REF!"}}]
["DWB/6/RD","Wpływy z różnych dochodów ",854,85407,"0970","PWMW",null,null,{"$error":"#DIV/0!"},null,null,{"$error":"#DIV/0!"},{"$error":"#DIV/0!"},{"$f":"IF(SUM(#REF!)>0,\"Tak\",\"\")","v":{"$error":"#REF!"}},{"$f":"IF(OR(G775<0,J775<0,#REF!<0,#REF!<0),\"ujemny plan\",\"\")","v":{"$error":"#REF!"}}]
["DWB/6/RD","Wpływy z różnych dochodów ",854,85410,"0970",null,null,null,{"$error":"#DIV/0!"},null,null,{"$error":"#DIV/0!"},{"$f":"IF(SUM(G776:L776)>0,\"Tak\",\"\")","v":{"$error":"#DIV/0!"}},{"$f":"IF(SUM(#REF!)>0,\"Tak\",\"\")","v":{"$error":"#REF!"}},{"$f":"IF(OR(G776<0,J776<0,#REF!<0,#REF!<0),\"ujemny plan\",\"\")","v":{"$error":"#REF!"}}]
["DWB/6/RD","Wpływy z różnych dochodów ",854,85415,"0970",null,null,null,{"$f":"H777/G777","v":{"$error":"#DIV/0!"}},null,null,{"$f":"K777/J777","v":{"$error":"#DIV/0!"}},{"$error":"#DIV/0!"},{"$f":"IF(SUM(#REF!)>0,\"Tak\",\"\")","v":{"$error":"#REF!"}},{"$f":"IF(OR(G777<0,J777<0,#REF!<0,#REF!<0),\"ujemny plan\",\"\")","v":{"$error":"#REF!"}}]
["DWB/6/RD","Wpływy z różnych dochodów ",854,"85417","0970","PWMW",null,null,{"$error":"#DIV/0!"},null,null,{"$error":"#DIV/0!"},{"$error":"#DIV/0!"},{"$f":"IF(SUM(#REF!)>0,\"Tak\",\"\")","v":{"$error":"#REF!"}},{"$f":"IF(OR(G778<0,J778<0,#REF!<0,#REF!<0),\"ujemny plan\",\"\")","v":{"$error":"#REF!"}}]
["DWB/6/RD","Wpływy z różnych dochodów ","855","85504","0970","GMMW",0,99,null,0,0,null,"Tak",{"$f":"IF(SUM(#REF!)>0,\"Tak\",\"\")","v":{"$error":"#REF!"}},{"$f":"IF(OR(G779<0,J779<0,#REF!<0,#REF!<0),\"ujemny plan\",\"\")","v":{"$error":"#REF!"}}]
["DWB/6/RD","Wpływy z różnych dochodów ","855","85510","0970","PWMW",null,null,{"$error":"#DIV/0!"},null,null,{"$error":"#DIV/0!"},{"$error":"#DIV/0!"},{"$f":"IF(SUM(#REF!)>0,\"Tak\",\"\")","v":{"$error":"#REF!"}},{"$f":"IF(OR(G780<0,J780<0,#REF!<0,#REF!<0),\"ujemny plan\",\"\")","v":{"$error":"#REF!"}}]
["DWB/6/RD","Wpływy z różnych dochodów ","855","85516","0970","GMMW",0,90.87,null,0,90.87,null,"Tak",{"$f":"IF(SUM(#REF!)>0,\"Tak\",\"\")","v":{"$error":"#REF!"}},{"$f":"IF(OR(G781<0,J781<0,#REF!<0,#REF!<0),\"ujemny plan\",\"\")","v":{"$error":"#REF!"}}]
["DWB/6/RD","Wpływy z różnych dochodów ",900,90001,"0970","GMMW",null,null,{"$error":"#DIV/0!"},null,null,{"$error":"#DIV/0!"},{"$error":"#DIV/0!"},{"$f":"IF(SUM(#REF!)>0,\"Tak\",\"\")","v":{"$error":"#REF!"}},{"$f":"IF(OR(G782<0,J782<0,#REF!<0,#REF!<0),\"ujemny plan\",\"\")","v":{"$error":"#REF!"}}]
["DWB/6/RD","Wpływy z różnych dochodów ",900,90002,"0970","GMMW",null,null,{"$error":"#DIV/0!"},null,null,{"$error":"#DIV/0!"},{"$error":"#DIV/0!"},{"$f":"IF(SUM(#REF!)>0,\"Tak\",\"\")","v":{"$error":"#REF!"}},{"$f":"IF(OR(G783<0,J783<0,#REF!<0,#REF!<0),\"ujemny plan\",\"\")","v":{"$error":"#REF!"}}]
["DWB/6/RD","Wpływy z różnych dochodów ",900,90003,"0970","GMMW",null,null,{"$error":"#DIV/0!"},null,null,{"$error":"#DIV/0!"},{"$error":"#DIV/0!"},{"$f":"IF(SUM(#REF!)>0,\"Tak\",\"\")","v":{"$error":"#REF!"}},{"$f":"IF(OR(G784<0,J784<0,#REF!<0,#REF!<0),\"ujemny plan\",\"\")","v":{"$error":"#REF!"}}]
["DWB/6/RD","Wpływy z różnych dochodów ",900,90004,"0970","GMMW",null,null,{"$error":"#DIV/0!"},null,null,{"$error":"#DIV/0!"},{"$error":"#DIV/0!"},{"$f":"IF(SUM(#REF!)>0,\"Tak\",\"\")","v":{"$error":"#REF!"}},{"$f":"IF(OR(G785<0,J785<0,#REF!<0,#REF!<0),\"ujemny plan\",\"\")","v":{"$error":"#REF!"}}]
["DWB/6/RD","Wpływy z różnych dochodów ",900,90005,"0970",null,null,null,{"$error":"#DIV/0!"},null,null,{"$error":"#DIV/0!"},{"$error":"#DIV/0!"},{"$f":"IF(SUM(#REF!)>0,\"Tak\",\"\")","v":{"$error":"#REF!"}},{"$f":"IF(OR(G786<0,J786<0,#REF!<0,#REF!<0),\"ujemny plan\",\"\")","v":{"$error":"#REF!"}}]
["DWB/6/RD","Wpływy z różnych dochodów ",900,90013,"0970","GMMW",null,null,{"$error":"#DIV/0!"},null,null,{"$error":"#DIV/0!"},{"$error":"#DIV/0!"},{"$f":"IF(SUM(#REF!)>0,\"Tak\",\"\")","v":{"$error":"#REF!"}},{"$f":"IF(OR(G787<0,J787<0,#REF!<0,#REF!<0),\"ujemny plan\",\"\")","v":{"$error":"#REF!"}}]
["DWB/6/RD","Wpływy z różnych dochodów ",900,90095,"0970","GMMW",null,null,{"$error":"#DIV/0!"},null,null,{"$error":"#DIV/0!"},{"$error":"#DIV/0!"},{"$f":"IF(SUM(#REF!)>0,\"Tak\",\"\")","v":{"$error":"#REF!"}},{"$f":"IF(OR(G788<0,J788<0,#REF!<0,#REF!<0),\"ujemny plan\",\"\")","v":{"$error":"#REF!"}}]
["DWB/6/RD","Wpływy z różnych dochodów ",921,92105,"0970",null,null,null,{"$error":"#DIV/0!"},null,null,{"$error":"#DIV/0!"},{"$error":"#DIV/0!"},{"$f":"IF(SUM(#REF!)>0,\"Tak\",\"\")","v":{"$error":"#REF!"}},{"$f":"IF(OR(G789<0,J789<0,#REF!<0,#REF!<0),\"ujemny plan\",\"\")","v":{"$error":"#REF!"}}]
["DWB/6/RD","Wpływy z różnych dochodów ",921,92106,"0970",null,null,null,{"$error":"#DIV/0!"},null,null,{"$error":"#DIV/0!"},{"$error":"#DIV/0!"},{"$f":"IF(SUM(#REF!)>0,\"Tak\",\"\")","v":{"$error":"#REF!"}},{"$f":"IF(OR(G790<0,J790<0,#REF!<0,#REF!<0),\"ujemny plan\",\"\")","v":{"$error":"#REF!"}}]
["DWB/6/RD","Wpływy z różnych dochodów ",921,92109,"0970","GMMW",null,null,{"$error":"#DIV/0!"},null,null,{"$error":"#DIV/0!"},{"$error":"#DIV/0!"},{"$f":"IF(SUM(#REF!)>0,\"Tak\",\"\")","v":{"$error":"#REF!"}},{"$f":"IF(OR(G791<0,J791<0,#REF!<0,#REF!<0),\"ujemny plan\",\"\")","v":{"$error":"#REF!"}}]
["DWB/6/RD","Wpływy z różnych dochodów ",921,92114,"0970",null,null,null,{"$error":"#DIV/0!"},null,null,{"$error":"#DIV/0!"},{"$error":"#DIV/0!"},{"$f":"IF(SUM(#REF!)>0,\"Tak\",\"\")","v":{"$error":"#REF!"}},{"$f":"IF(OR(G792<0,J792<0,#REF!<0,#REF!<0),\"ujemny plan\",\"\")","v":{"$error":"#REF!"}}]
["DWB/6/RD","Wpływy z różnych dochodów ",921,"92116","0970","GMMW",null,null,{"$error":"#DIV/0!"},null,null,{"$error":"#DIV/0!"},{"$error":"#DIV/0!"},{"$f":"IF(SUM(#REF!)>0,\"Tak\",\"\")","v":{"$error":"#REF!"}},{"$f":"IF(OR(G793<0,J793<0,#REF!<0,#REF!<0),\"ujemny plan\",\"\")","v":{"$error":"#REF!"}}]
["DWB/6/RD","Wpływy z różnych dochodów ",921,92120,"0970",null,null,null,{"$error":"#DIV/0!"},null,null,{"$error":"#DIV/0!"},{"$error":"#DIV/0!"},{"$f":"IF(SUM(#REF!)>0,\"Tak\",\"\")","v":{"$error":"#REF!"}},{"$f":"IF(OR(G794<0,J794<0,#REF!<0,#REF!<0),\"ujemny plan\",\"\")","v":{"$error":"#REF!"}}]
["DWB/6/RD","Wpływy z różnych dochodów ",921,"92195","0970","GMMW",null,null,{"$error":"#DIV/0!"},null,null,{"$error":"#DIV/0!"},{"$error":"#DIV/0!"},{"$f":"IF(SUM(#REF!)>0,\"Tak\",\"\")","v":{"$error":"#REF!"}},{"$f":"IF(OR(G795<0,J795<0,#REF!<0,#REF!<0),\"ujemny plan\",\"\")","v":{"$error":"#REF!"}}]
["DWB/6/RD","Wpływy z różnych dochodów ",925,92504,"0970","GMMW",null,null,{"$error":"#DIV/0!"},null,null,{"$error":"#DIV/0!"},{"$error":"#DIV/0!"},{"$f":"IF(SUM(#REF!)>0,\"Tak\",\"\")","v":{"$error":"#REF!"}},{"$f":"IF(OR(G796<0,J796<0,#REF!<0,#REF!<0),\"ujemny plan\",\"\")","v":{"$error":"#REF!"}}]
["DWB/6/RD","Wpływy z różnych dochodów ",925,"92595","0970","GMMW",null,null,{"$error":"#DIV/0!"},null,null,{"$error":"#DIV/0!"},{"$error":"#DIV/0!"},{"$f":"IF(SUM(#REF!)>0,\"Tak\",\"\")","v":{"$error":"#REF!"}},{"$f":"IF(OR(G797<0,J797<0,#REF!<0,#REF!<0),\"ujemny plan\",\"\")","v":{"$error":"#REF!"}}]
["DWB/6/RD","Wpływy z różnych dochodów ",926,92601,"0970","GMMW",null,null,{"$error":"#DIV/0!"},null,null,{"$error":"#DIV/0!"},{"$error":"#DIV/0!"},{"$f":"IF(SUM(#REF!)>0,\"Tak\",\"\")","v":{"$error":"#REF!"}},{"$f":"IF(OR(G798<0,J798<0,#REF!<0,#REF!<0),\"ujemny plan\",\"\")","v":{"$error":"#REF!"}}]
["DWB/6/RD","Wpływy z różnych dochodów ",926,92604,"0970","GMMW",7600,8500.93,1.1185434210526317,0,0,null,"Tak",{"$f":"IF(SUM(#REF!)>0,\"Tak\",\"\")","v":{"$error":"#REF!"}},{"$f":"IF(OR(G799<0,J799<0,#REF!<0,#REF!<0),\"ujemny plan\",\"\")","v":{"$error":"#REF!"}}]
["DWB/6/RD","Wpływy z różnych dochodów ",926,92605,"0970","GMMW",null,null,{"$error":"#DIV/0!"},null,null,{"$error":"#DIV/0!"},{"$error":"#DIV/0!"},{"$f":"IF(SUM(#REF!)>0,\"Tak\",\"\")","v":{"$error":"#REF!"}},{"$f":"IF(OR(G800<0,J800<0,#REF!<0,#REF!<0),\"ujemny plan\",\"\")","v":{"$error":"#REF!"}}]
["DWB/6/RD","Wpływy z różnych dochodów ",926,"92695","0970","GMMW",null,null,{"$error":"#DIV/0!"},null,null,{"$error":"#DIV/0!"},{"$error":"#DIV/0!"},{"$f":"IF(SUM(#REF!)>0,\"Tak\",\"\")","v":{"$error":"#REF!"}},{"$f":"IF(OR(G801<0,J801<0,#REF!<0,#REF!<0),\"ujemny plan\",\"\")","v":{"$error":"#REF!"}}]
["DWB/6/WA","Wpływy z tytułu zwrotu podatku VAT",null,null,null,null,{"$f":"SUM(G803,G815)","v":147213},{"$f":"SUM(H803,H815)","v":197351.05},1.3405816741727972,75000,{"$f":"SUM(K803,K815)","v":125092.17000000001},1.6678956000000003,"Tak",{"$f":"IF(SUM(#REF!)>0,\"Tak\",\"\")","v":{"$error":"#REF!"}},{"$f":"IF(OR(G802<0,J802<0,#REF!<0,#REF!<0),\"ujemny plan\",\"\")","v":{"$error":"#REF!"}}]
["DWB/6/WA","Wpływy z tytułu zwrotu podatku VAT",null,null,"0940",null,{"$f":"SUM(G804:G814)","v":147213},{"$f":"SUM(H804:H814)","v":147737.9},1.0035655818439948,75000,{"$f":"SUM(K804:K814)","v":75479.02},1.0063869333333333,"Tak",{"$f":"IF(SUM(#REF!)>0,\"Tak\",\"\")","v":{"$error":"#REF!"}},{"$f":"IF(OR(G803<0,J803<0,#REF!<0,#REF!<0),\"ujemny plan\",\"\")","v":{"$error":"#REF!"}}]
["DWB/6/WA","Wpływy z tytułu zwrotu podatku VAT",600,60004,"0940","GMMW",null,null,{"$error":"#DIV/0!"},null,null,{"$error":"#DIV/0!"},{"$error":"#DIV/0!"},{"$f":"IF(SUM(#REF!)>0,\"Tak\",\"\")","v":{"$error":"#REF!"}},{"$f":"IF(OR(G804<0,J804<0,#REF!<0,#REF!<0),\"ujemny plan\",\"\")","v":{"$error":"#REF!"}}]
["DWB/6/WA","Wpływy z tytułu zwrotu podatku VAT",600,60016,"0940","GMMW",null,null,{"$error":"#DIV/0!"},null,null,{"$error":"#DIV/0!"},{"$error":"#DIV/0!"},{"$f":"IF(SUM(#REF!)>0,\"Tak\",\"\")","v":{"$error":"#REF!"}},{"$f":"IF(OR(G805<0,J805<0,#REF!<0,#REF!<0),\"ujemny plan\",\"\")","v":{"$error":"#REF!"}}]
["DWB/6/WA","Wpływy z tytułu zwrotu podatku VAT",700,70005,"0940","GMMW",0,270,null,0,270,null,"Tak",{"$f":"IF(SUM(#REF!)>0,\"Tak\",\"\")","v":{"$error":"#REF!"}},{"$f":"IF(OR(G806<0,J806<0,#REF!<0,#REF!<0),\"ujemny plan\",\"\")","v":{"$error":"#REF!"}}]
["DWB/6/WA","Wpływy z tytułu zwrotu podatku VAT",750,75023,"0940","GMMW",75000,75209.02,1.0027869333333335,75000,75209.02,1.0027869333333335,"Tak",{"$f":"IF(SUM(#REF!)>0,\"Tak\",\"\")","v":{"$error":"#REF!"}},{"$f":"IF(OR(G807<0,J807<0,#REF!<0,#REF!<0),\"ujemny plan\",\"\")","v":{"$error":"#REF!"}}]
["DWB/6/WA","Wpływy z tytułu zwrotu podatku VAT",801,80101,"0940","GMMW",28664,28706.33,1.0014767652804912,0,0,null,"Tak",{"$f":"IF(SUM(#REF!)>0,\"Tak\",\"\")","v":{"$error":"#REF!"}},{"$f":"IF(OR(G808<0,J808<0,#REF!<0,#REF!<0),\"ujemny plan\",\"\")","v":{"$error":"#REF!"}}]
["DWB/6/WA","Wpływy z tytułu zwrotu podatku VAT",801,80104,"0940","GMMW",1287,1289.53,1.0019658119658119,0,0,null,"Tak",{"$f":"IF(SUM(#REF!)>0,\"Tak\",\"\")","v":{"$error":"#REF!"}},{"$f":"IF(OR(G809<0,J809<0,#REF!<0,#REF!<0),\"ujemny plan\",\"\")","v":{"$error":"#REF!"}}]
["DWB/6/WA","Wpływy z tytułu zwrotu podatku VAT",801,80120,"0940","GMMW",11040,11040.46,1.0000416666666665,0,0,null,"Tak",{"$f":"IF(SUM(#REF!)>0,\"Tak\",\"\")","v":{"$error":"#REF!"}},{"$f":"IF(OR(G810<0,J810<0,#REF!<0,#REF!<0),\"ujemny plan\",\"\")","v":{"$error":"#REF!"}}]
["DWB/6/WA","Wpływy z tytułu zwrotu podatku VAT",852,85219,"0940","GMMW",null,null,{"$error":"#DIV/0!"},null,null,{"$error":"#DIV/0!"},{"$error":"#DIV/0!"},{"$f":"IF(SUM(#REF!)>0,\"Tak\",\"\")","v":{"$error":"#REF!"}},{"$f":"IF(OR(G811<0,J811<0,#REF!<0,#REF!<0),\"ujemny plan\",\"\")","v":{"$error":"#REF!"}}]
["DWB/6/WA","Wpływy z tytułu zwrotu podatku VAT",854,85407,"0940","GMMW",null,null,{"$error":"#DIV/0!"},null,null,{"$error":"#DIV/0!"},{"$error":"#DIV/0!"},{"$f":"IF(SUM(#REF!)>0,\"Tak\",\"\")","v":{"$error":"#REF!"}},{"$f":"IF(OR(G812<0,J812<0,#REF!<0,#REF!<0),\"ujemny plan\",\"\")","v":{"$error":"#REF!"}}]
["DWB/6/WA","Wpływy z tytułu zwrotu podatku VAT",925,92504,"0940","GMMW",null,null,{"$error":"#DIV/0!"},null,null,{"$error":"#DIV/0!"},{"$error":"#DIV/0!"},{"$f":"IF(SUM(#REF!)>0,\"Tak\",\"\")","v":{"$error":"#REF!"}},{"$f":"IF(OR(G813<0,J813<0,#REF!<0,#REF!<0),\"ujemny plan\",\"\")","v":{"$error":"#REF!"}}]
["DWB/6/WA","Wpływy z tytułu zwrotu podatku VAT",926,92604,"0940","GMMW",31222,31222.560000000001,1.0000179360707193,0,0,null,"Tak",{"$f":"IF(SUM(#REF!)>0,\"Tak\",\"\")","v":{"$error":"#REF!"}},{"$f":"IF(OR(G814<0,J814<0,#REF!<0,#REF!<0),\"ujemny plan\",\"\")","v":{"$error":"#REF!"}}]
["DWB/6/WA","Wpływy z tytułu zwrotu podatku VAT",null,null,"0970",null,{"$f":"SUM(G816:G828)","v":0},49613.15,null,0,49613.15,null,"Tak",{"$f":"IF(SUM(#REF!)>0,\"Tak\",\"\")","v":{"$error":"#REF!"}},{"$f":"IF(OR(G815<0,J815<0,#REF!<0,#REF!<0),\"ujemny plan\",\"\")","v":{"$error":"#REF!"}}]
["DWB/6/WA","Wpływy z tytułu zwrotu podatku VAT",600,60004,"0970","GMMW",null,null,{"$error":"#DIV/0!"},null,null,{"$error":"#DIV/0!"},{"$error":"#DIV/0!"},{"$f":"IF(SUM(#REF!)>0,\"Tak\",\"\")","v":{"$error":"#REF!"}},{"$f":"IF(OR(G816<0,J816<0,#REF!<0,#REF!<0),\"ujemny plan\",\"\")","v":{"$error":"#REF!"}}]
["DWB/6/WA","Wpływy z tytułu zwrotu podatku VAT",600,60016,"0970","GMMW",null,null,{"$error":"#DIV/0!"},null,null,{"$error":"#DIV/0!"},{"$error":"#DIV/0!"},{"$f":"IF(SUM(#REF!)>0,\"Tak\",\"\")","v":{"$error":"#REF!"}},{"$f":"IF(OR(G817<0,J817<0,#REF!<0,#REF!<0),\"ujemny plan\",\"\")","v":{"$error":"#REF!"}}]
["DWB/6/WA","Wpływy z tytułu zwrotu podatku VAT",700,70005,"0970","GMMW",null,null,{"$error":"#DIV/0!"},null,null,{"$error":"#DIV/0!"},{"$error":"#DIV/0!"},{"$f":"IF(SUM(#REF!)>0,\"Tak\",\"\")","v":{"$error":"#REF!"}},{"$f":"IF(OR(G818<0,J818<0,#REF!<0,#REF!<0),\"ujemny plan\",\"\")","v":{"$error":"#REF!"}}]
["DWB/6/WA","Wpływy z tytułu zwrotu podatku VAT",710,71035,"0970","GMMW",null,null,{"$error":"#DIV/0!"},null,null,{"$error":"#DIV/0!"},{"$error":"#DIV/0!"},{"$f":"IF(SUM(#REF!)>0,\"Tak\",\"\")","v":{"$error":"#REF!"}},{"$f":"IF(OR(G819<0,J819<0,#REF!<0,#REF!<0),\"ujemny plan\",\"\")","v":{"$error":"#REF!"}}]
["DWB/6/WA","Wpływy z tytułu zwrotu podatku VAT",750,75023,"0970","GMMW",0,49613.15,null,0,{"$f":"H820","v":49613.15},null,"Tak",{"$f":"IF(SUM(#REF!)>0,\"Tak\",\"\")","v":{"$error":"#REF!"}},{"$f":"IF(OR(G820<0,J820<0,#REF!<0,#REF!<0),\"ujemny plan\",\"\")","v":{"$error":"#REF!"}}]
["DWB/6/WA","Wpływy z tytułu zwrotu podatku VAT",801,80101,"0970","GMMW",null,null,{"$error":"#DIV/0!"},null,null,{"$error":"#DIV/0!"},{"$error":"#DIV/0!"},{"$f":"IF(SUM(#REF!)>0,\"Tak\",\"\")","v":{"$error":"#REF!"}},{"$f":"IF(OR(G821<0,J821<0,#REF!<0,#REF!<0),\"ujemny plan\",\"\")","v":{"$error":"#REF!"}}]
["DWB/6/WA","Wpływy z tytułu zwrotu podatku VAT",854,85407,"0970","PWMW",null,null,{"$error":"#DIV/0!"},null,null,{"$error":"#DIV/0!"},{"$error":"#DIV/0!"},{"$f":"IF(SUM(#REF!)>0,\"Tak\",\"\")","v":{"$error":"#REF!"}},{"$f":"IF(OR(G822<0,J822<0,#REF!<0,#REF!<0),\"ujemny plan\",\"\")","v":{"$error":"#REF!"}}]
["DWB/6/WA","Wpływy z tytułu zwrotu podatku VAT",900,90001,"0970","GMMW",null,null,{"$error":"#DIV/0!"},null,null,{"$error":"#DIV/0!"},{"$error":"#DIV/0!"},{"$f":"IF(SUM(#REF!)>0,\"Tak\",\"\")","v":{"$error":"#REF!"}},{"$f":"IF(OR(G823<0,J823<0,#REF!<0,#REF!<0),\"ujemny plan\",\"\")","v":{"$error":"#REF!"}}]
["DWB/6/WA","Wpływy z tytułu zwrotu podatku VAT",921,92106,"0970","GMMW",null,null,{"$error":"#DIV/0!"},null,null,{"$error":"#DIV/0!"},{"$error":"#DIV/0!"},{"$f":"IF(SUM(#REF!)>0,\"Tak\",\"\")","v":{"$error":"#REF!"}},{"$f":"IF(OR(G824<0,J824<0,#REF!<0,#REF!<0),\"ujemny plan\",\"\")","v":{"$error":"#REF!"}}]
["DWB/6/WA","Wpływy z tytułu zwrotu podatku VAT",921,92118,"0970","GMMW",null,null,{"$error":"#DIV/0!"},null,null,{"$error":"#DIV/0!"},{"$error":"#DIV/0!"},{"$f":"IF(SUM(#REF!)>0,\"Tak\",\"\")","v":{"$error":"#REF!"}},{"$f":"IF(OR(G825<0,J825<0,#REF!<0,#REF!<0),\"ujemny plan\",\"\")","v":{"$error":"#REF!"}}]
["DWB/6/WA","Wpływy z tytułu zwrotu podatku VAT",925,92504,"0970","GMMW",null,null,{"$error":"#DIV/0!"},null,null,{"$error":"#DIV/0!"},{"$error":"#DIV/0!"},{"$f":"IF(SUM(#REF!)>0,\"Tak\",\"\")","v":{"$error":"#REF!"}},{"$f":"IF(OR(G826<0,J826<0,#REF!<0,#REF!<0),\"ujemny plan\",\"\")","v":{"$error":"#REF!"}}]
["DWB/6/WA","Wpływy z tytułu zwrotu podatku VAT",926,92604,"0970","GMMW",null,null,{"$error":"#DIV/0!"},null,null,{"$error":"#DIV/0!"},{"$error":"#DIV/0!"},{"$f":"IF(SUM(#REF!)>0,\"Tak\",\"\")","v":{"$error":"#REF!"}},{"$f":"IF(OR(G827<0,J827<0,#REF!<0,#REF!<0),\"ujemny plan\",\"\")","v":{"$error":"#REF!"}}]
["DWB/6/WA","Wpływy z tytułu zwrotu podatku VAT",926,92605,"0970","GMMW",null,null,{"$error":"#DIV/0!"},null,null,{"$error":"#DIV/0!"},{"$error":"#DIV/0!"},{"$f":"IF(SUM(#REF!)>0,\"Tak\",\"\")","v":{"$error":"#REF!"}},{"$f":"IF(OR(G828<0,J828<0,#REF!<0,#REF!<0),\"ujemny plan\",\"\")","v":{"$error":"#REF!"}}]
["DWB/6/AR","Dochody związane z realizacją zadań z zakresu administracji rządowej",null,null,2360,null,{"$f":"SUM(G830:G845)","v":0},null,{"$error":"#DIV/0!"},0,null,{"$error":"#DIV/0!"},{"$error":"#DIV/0!"},{"$f":"IF(SUM(#REF!)>0,\"Tak\",\"\")","v":{"$error":"#REF!"}},{"$f":"IF(OR(G829<0,J829<0,#REF!<0,#REF!<0),\"ujemny plan\",\"\")","v":{"$error":"#REF!"}}]
["DWB/6/AR","Dochody związane z realizacją zadań z zakresu administracji rządowej",700,70005,2360,"PWMW",null,null,{"$error":"#DIV/0!"},null,null,{"$error":"#DIV/0!"},{"$error":"#DIV/0!"},{"$f":"IF(SUM(#REF!)>0,\"Tak\",\"\")","v":{"$error":"#REF!"}},{"$f":"IF(OR(G830<0,J830<0,#REF!<0,#REF!<0),\"ujemny plan\",\"\")","v":{"$error":"#REF!"}}]
["DWB/6/AR","Dochody związane z realizacją zadań z zakresu administracji rządowej",710,71015,2360,"PWMW",null,null,{"$error":"#DIV/0!"},null,null,{"$error":"#DIV/0!"},{"$error":"#DIV/0!"},{"$f":"IF(SUM(#REF!)>0,\"Tak\",\"\")","v":{"$error":"#REF!"}},{"$f":"IF(OR(G831<0,J831<0,#REF!<0,#REF!<0),\"ujemny plan\",\"\")","v":{"$error":"#REF!"}}]
["DWB/6/AR","Dochody związane z realizacją zadań z zakresu administracji rządowej",750,75011,2360,"GMMW",null,null,{"$error":"#DIV/0!"},null,null,{"$error":"#DIV/0!"},{"$error":"#DIV/0!"},{"$f":"IF(SUM(#REF!)>0,\"Tak\",\"\")","v":{"$error":"#REF!"}},{"$f":"IF(OR(G832<0,J832<0,#REF!<0,#REF!<0),\"ujemny plan\",\"\")","v":{"$error":"#REF!"}}]
["DWB/6/AR","Dochody związane z realizacją zadań z zakresu administracji rządowej",754,75411,2360,"PWMW",null,null,{"$error":"#DIV/0!"},null,null,{"$error":"#DIV/0!"},{"$error":"#DIV/0!"},{"$f":"IF(SUM(#REF!)>0,\"Tak\",\"\")","v":{"$error":"#REF!"}},{"$f":"IF(OR(G833<0,J833<0,#REF!<0,#REF!<0),\"ujemny plan\",\"\")","v":{"$error":"#REF!"}}]
["DWB/6/AR","Dochody związane z realizacją zadań z zakresu administracji rządowej",852,"85202",2360,null,null,null,{"$error":"#DIV/0!"},null,null,{"$error":"#DIV/0!"},{"$error":"#DIV/0!"},{"$f":"IF(SUM(#REF!)>0,\"Tak\",\"\")","v":{"$error":"#REF!"}},{"$f":"IF(OR(G834<0,J834<0,#REF!<0,#REF!<0),\"ujemny plan\",\"\")","v":{"$error":"#REF!"}}]
["DWB/6/AR","Dochody związane z realizacją zadań z zakresu administracji rządowej",852,85203,2360,"GMMW",null,null,{"$error":"#DIV/0!"},null,null,{"$error":"#DIV/0!"},{"$error":"#DIV/0!"},{"$f":"IF(SUM(#REF!)>0,\"Tak\",\"\")","v":{"$error":"#REF!"}},{"$f":"IF(OR(G835<0,J835<0,#REF!<0,#REF!<0),\"ujemny plan\",\"\")","v":{"$error":"#REF!"}}]
["DWB/6/AR","Dochody związane z realizacją zadań z zakresu administracji rządowej",852,85228,2360,"GMMW",null,null,{"$error":"#DIV/0!"},null,null,{"$error":"#DIV/0!"},{"$error":"#DIV/0!"},{"$f":"IF(SUM(#REF!)>0,\"Tak\",\"\")","v":{"$error":"#REF!"}},{"$f":"IF(OR(G836<0,J836<0,#REF!<0,#REF!<0),\"ujemny plan\",\"\")","v":{"$error":"#REF!"}}]
["DWB/6/AR","Dochody związane z realizacją zadań z zakresu administracji rządowej","852","85295",2360,null,null,null,{"$error":"#DIV/0!"},null,null,{"$error":"#DIV/0!"},{"$error":"#DIV/0!"},{"$f":"IF(SUM(#REF!)>0,\"Tak\",\"\")","v":{"$error":"#REF!"}},{"$f":"IF(OR(G837<0,J837<0,#REF!<0,#REF!<0),\"ujemny plan\",\"\")","v":{"$error":"#REF!"}}]
["DWB/6/AR","Dochody związane z realizacją zadań z zakresu administracji rządowej","853","85321","2360","GMMW",null,null,{"$error":"#DIV/0!"},null,null,{"$error":"#DIV/0!"},{"$error":"#DIV/0!"},{"$f":"IF(SUM(#REF!)>0,\"Tak\",\"\")","v":{"$error":"#REF!"}},{"$f":"IF(OR(G838<0,J838<0,#REF!<0,#REF!<0),\"ujemny plan\",\"\")","v":{"$error":"#REF!"}}]
["DWB/6/AR","Dochody związane z realizacją zadań z zakresu administracji rządowej","853","85321",2360,"PWMW",null,null,{"$error":"#DIV/0!"},null,null,{"$error":"#DIV/0!"},{"$error":"#DIV/0!"},{"$f":"IF(SUM(#REF!)>0,\"Tak\",\"\")","v":{"$error":"#REF!"}},{"$f":"IF(OR(G839<0,J839<0,#REF!<0,#REF!<0),\"ujemny plan\",\"\")","v":{"$error":"#REF!"}}]
["DWB/6/AR","Dochody związane z realizacją zadań z zakresu administracji rządowej","855","85502",2360,"GMMW",null,null,{"$error":"#DIV/0!"},null,null,{"$error":"#DIV/0!"},{"$f":"IF(SUM(G840:L840)>0,\"Tak\",\"\")","v":{"$error":"#DIV/0!"}},{"$f":"IF(SUM(#REF!)>0,\"Tak\",\"\")","v":{"$error":"#REF!"}},{"$f":"IF(OR(G840<0,J840<0,#REF!<0,#REF!<0),\"ujemny plan\",\"\")","v":{"$error":"#REF!"}}]
["DWB/6/AR","Dochody związane z realizacją zadań z zakresu administracji rządowej","855","85503",2360,null,null,null,{"$f":"H841/G841","v":{"$error":"#DIV/0!"}},null,null,{"$f":"K841/J841","v":{"$error":"#DIV/0!"}},{"$error":"#DIV/0!"},{"$f":"IF(SUM(#REF!)>0,\"Tak\",\"\")","v":{"$error":"#REF!"}},{"$f":"IF(OR(G841<0,J841<0,#REF!<0,#REF!<0),\"ujemny plan\",\"\")","v":{"$error":"#REF!"}}]
["DWB/6/AR","Dochody związane z realizacją zadań z zakresu administracji rządowej","855","85595",2360,null,null,null,{"$error":"#DIV/0!"},null,null,{"$error":"#DIV/0!"},{"$error":"#DIV/0!"},{"$f":"IF(SUM(#REF!)>0,\"Tak\",\"\")","v":{"$error":"#REF!"}},{"$f":"IF(OR(G842<0,J842<0,#REF!<0,#REF!<0),\"ujemny plan\",\"\")","v":{"$error":"#REF!"}}]
["DWB/6/AR","Dochody związane z realizacją zadań z zakresu administracji rządowej",900,90006,2360,null,null,null,{"$error":"#DIV/0!"},null,null,{"$error":"#DIV/0!"},{"$error":"#DIV/0!"},{"$f":"IF(SUM(#REF!)>0,\"Tak\",\"\")","v":{"$error":"#REF!"}},{"$f":"IF(OR(G843<0,J843<0,#REF!<0,#REF!<0),\"ujemny plan\",\"\")","v":{"$error":"#REF!"}}]
["DWB/6/AR","Dochody związane z realizacją zadań z zakresu administracji rządowej",900,"90019",2360,null,null,null,{"$error":"#DIV/0!"},null,null,{"$error":"#DIV/0!"},{"$error":"#DIV/0!"},{"$f":"IF(SUM(#REF!)>0,\"Tak\",\"\")","v":{"$error":"#REF!"}},{"$f":"IF(OR(G844<0,J844<0,#REF!<0,#REF!<0),\"ujemny plan\",\"\")","v":{"$error":"#REF!"}}]
["DWB/6/AR","Dochody związane z realizacją zadań z zakresu administracji rządowej",900,"90095",2360,null,null,null,{"$error":"#DIV/0!"},null,null,{"$error":"#DIV/0!"},{"$error":"#DIV/0!"},{"$f":"IF(SUM(#REF!)>0,\"Tak\",\"\")","v":{"$error":"#REF!"}},{"$f":"IF(OR(G845<0,J845<0,#REF!<0,#REF!<0),\"ujemny plan\",\"\")","v":{"$error":"#REF!"}}]
["DWB/6/NA","Wpływy do budżetu nadwyżki środków obrotowych i pozostałości środków finansowych gromadzonych na wydzielonych rachunkach",null,null,null,null,{"$f":"SUM(G847,G855)","v":0},null,{"$error":"#DIV/0!"},0,null,{"$error":"#DIV/0!"},{"$error":"#DIV/0!"},{"$f":"IF(SUM(#REF!)>0,\"Tak\",\"\")","v":{"$error":"#REF!"}},{"$f":"IF(OR(G846<0,J846<0,#REF!<0,#REF!<0),\"ujemny plan\",\"\")","v":{"$error":"#REF!"}}]
["DWB/6/NA/ZB","wpływy do budżetu nadwyżki środków obrotowych zakładów budżetowych",null,null,2370,null,{"$f":"SUM(G848:G854)","v":0},null,{"$error":"#DIV/0!"},{"$f":"SUM(J848:J854)","v":0},null,{"$error":"#DIV/0!"},{"$error":"#DIV/0!"},{"$f":"IF(SUM(#REF!)>0,\"Tak\",\"\")","v":{"$error":"#REF!"}},{"$f":"IF(OR(G847<0,J847<0,#REF!<0,#REF!<0),\"ujemny plan\",\"\")","v":{"$error":"#REF!"}}]
["DWB/6/NA/ZB","wpływy do budżetu nadwyżki środków obrotowych zakładów budżetowych",600,60095,2370,"GMMW",null,null,{"$error":"#DIV/0!"},null,null,{"$error":"#DIV/0!"},{"$error":"#DIV/0!"},{"$f":"IF(SUM(#REF!)>0,\"Tak\",\"\")","v":{"$error":"#REF!"}},{"$f":"IF(OR(G848<0,J848<0,#REF!<0,#REF!<0),\"ujemny plan\",\"\")","v":{"$error":"#REF!"}}]
["DWB/6/NA/ZB","wpływy do budżetu nadwyżki środków obrotowych zakładów budżetowych",710,71035,2370,null,null,null,{"$error":"#DIV/0!"},null,null,{"$error":"#DIV/0!"},{"$error":"#DIV/0!"},{"$f":"IF(SUM(#REF!)>0,\"Tak\",\"\")","v":{"$error":"#REF!"}},{"$f":"IF(OR(G849<0,J849<0,#REF!<0,#REF!<0),\"ujemny plan\",\"\")","v":{"$error":"#REF!"}}]
["DWB/6/NA/ZB","wpływy do budżetu nadwyżki środków obrotowych zakładów budżetowych",854,85407,2370,null,null,null,{"$error":"#DIV/0!"},null,null,{"$error":"#DIV/0!"},{"$error":"#DIV/0!"},{"$f":"IF(SUM(#REF!)>0,\"Tak\",\"\")","v":{"$error":"#REF!"}},{"$f":"IF(OR(G850<0,J850<0,#REF!<0,#REF!<0),\"ujemny plan\",\"\")","v":{"$error":"#REF!"}}]
["DWB/6/NA/ZB","wpływy do budżetu nadwyżki środków obrotowych zakładów budżetowych",854,85417,2370,null,null,null,{"$error":"#DIV/0!"},null,null,{"$error":"#DIV/0!"},{"$error":"#DIV/0!"},{"$f":"IF(SUM(#REF!)>0,\"Tak\",\"\")","v":{"$error":"#REF!"}},{"$f":"IF(OR(G851<0,J851<0,#REF!<0,#REF!<0),\"ujemny plan\",\"\")","v":{"$error":"#REF!"}}]
["DWB/6/NA/ZB","wpływy do budżetu nadwyżki środków obrotowych zakładów budżetowych",854,85495,2370,null,null,null,{"$error":"#DIV/0!"},null,null,{"$error":"#DIV/0!"},{"$error":"#DIV/0!"},{"$f":"IF(SUM(#REF!)>0,\"Tak\",\"\")","v":{"$error":"#REF!"}},{"$f":"IF(OR(G852<0,J852<0,#REF!<0,#REF!<0),\"ujemny plan\",\"\")","v":{"$error":"#REF!"}}]
["DWB/6/NA/ZB","wpływy do budżetu nadwyżki środków obrotowych zakładów budżetowych",900,90095,2370,null,null,null,{"$error":"#DIV/0!"},null,null,{"$error":"#DIV/0!"},{"$error":"#DIV/0!"},{"$f":"IF(SUM(#REF!)>0,\"Tak\",\"\")","v":{"$error":"#REF!"}},{"$f":"IF(OR(G853<0,J853<0,#REF!<0,#REF!<0),\"ujemny plan\",\"\")","v":{"$error":"#REF!"}}]
["DWB/6/NA/ZB","wpływy do budżetu nadwyżki środków obrotowych zakładów budżetowych",926,92604,2370,"GMMW",null,null,{"$error":"#DIV/0!"},null,null,{"$error":"#DIV/0!"},{"$error":"#DIV/0!"},{"$f":"IF(SUM(#REF!)>0,\"Tak\",\"\")","v":{"$error":"#REF!"}},{"$f":"IF(OR(G854<0,J854<0,#REF!<0,#REF!<0),\"ujemny plan\",\"\")","v":{"$error":"#REF!"}}]
["DWB/6/NA/PO","wpływy do budżetu pozostałości środków finansowych gromadzonych na wydzielonych rachunkach jednostek budżetowych",null,null,2400,null,{"$f":"SUM(G856:G884)","v":0},null,{"$error":"#DIV/0!"},0,null,{"$error":"#DIV/0!"},{"$error":"#DIV/0!"},{"$f":"IF(SUM(#REF!)>0,\"Tak\",\"\")","v":{"$error":"#REF!"}},{"$f":"IF(OR(G855<0,J855<0,#REF!<0,#REF!<0),\"ujemny plan\",\"\")","v":{"$error":"#REF!"}}]
["DWB/6/NA/PO","wpływy do budżetu pozostałości środków finansowych gromadzonych na wydzielonych rachunkach jednostek budżetowych",801,80101,2400,"GMMW",null,null,{"$error":"#DIV/0!"},null,null,{"$error":"#DIV/0!"},{"$error":"#DIV/0!"},{"$f":"IF(SUM(#REF!)>0,\"Tak\",\"\")","v":{"$error":"#REF!"}},{"$f":"IF(OR(G856<0,J856<0,#REF!<0,#REF!<0),\"ujemny plan\",\"\")","v":{"$error":"#REF!"}}]
["DWB/6/NA/PO","wpływy do budżetu pozostałości środków finansowych gromadzonych na wydzielonych rachunkach jednostek budżetowych",801,80102,"2400","GMMW",null,null,{"$error":"#DIV/0!"},null,null,{"$error":"#DIV/0!"},{"$error":"#DIV/0!"},{"$f":"IF(SUM(#REF!)>0,\"Tak\",\"\")","v":{"$error":"#REF!"}},{"$f":"IF(OR(G857<0,J857<0,#REF!<0,#REF!<0),\"ujemny plan\",\"\")","v":{"$error":"#REF!"}}]
["DWB/6/NA/PO","wpływy do budżetu pozostałości środków finansowych gromadzonych na wydzielonych rachunkach jednostek budżetowych",801,80102,2400,"PWMW",null,null,{"$error":"#DIV/0!"},null,null,{"$error":"#DIV/0!"},{"$error":"#DIV/0!"},{"$f":"IF(SUM(#REF!)>0,\"Tak\",\"\")","v":{"$error":"#REF!"}},{"$f":"IF(OR(G858<0,J858<0,#REF!<0,#REF!<0),\"ujemny plan\",\"\")","v":{"$error":"#REF!"}}]
["DWB/6/NA/PO","wpływy do budżetu pozostałości środków finansowych gromadzonych na wydzielonych rachunkach jednostek budżetowych",801,80104,2400,"GMMW",null,null,{"$error":"#DIV/0!"},null,null,{"$error":"#DIV/0!"},{"$error":"#DIV/0!"},{"$f":"IF(SUM(#REF!)>0,\"Tak\",\"\")","v":{"$error":"#REF!"}},{"$f":"IF(OR(G859<0,J859<0,#REF!<0,#REF!<0),\"ujemny plan\",\"\")","v":{"$error":"#REF!"}}]
["DWB/6/NA/PO","wpływy do budżetu pozostałości środków finansowych gromadzonych na wydzielonych rachunkach jednostek budżetowych",801,80105,2400,"GMMW",null,null,{"$error":"#DIV/0!"},null,null,{"$error":"#DIV/0!"},{"$error":"#DIV/0!"},{"$f":"IF(SUM(#REF!)>0,\"Tak\",\"\")","v":{"$error":"#REF!"}},{"$f":"IF(OR(G860<0,J860<0,#REF!<0,#REF!<0),\"ujemny plan\",\"\")","v":{"$error":"#REF!"}}]
["DWB/6/NA/PO","wpływy do budżetu pozostałości środków finansowych gromadzonych na wydzielonych rachunkach jednostek budżetowych",801,80115,2400,"GMMW",null,null,{"$error":"#DIV/0!"},null,null,{"$error":"#DIV/0!"},{"$error":"#DIV/0!"},{"$f":"IF(SUM(#REF!)>0,\"Tak\",\"\")","v":{"$error":"#REF!"}},{"$f":"IF(OR(G861<0,J861<0,#REF!<0,#REF!<0),\"ujemny plan\",\"\")","v":{"$error":"#REF!"}}]
["DWB/6/NA/PO","wpływy do budżetu pozostałości środków finansowych gromadzonych na wydzielonych rachunkach jednostek budżetowych",801,80116,"2400","GMMW",null,null,{"$error":"#DIV/0!"},null,null,{"$error":"#DIV/0!"},{"$error":"#DIV/0!"},{"$f":"IF(SUM(#REF!)>0,\"Tak\",\"\")","v":{"$error":"#REF!"}},{"$f":"IF(OR(G862<0,J862<0,#REF!<0,#REF!<0),\"ujemny plan\",\"\")","v":{"$error":"#REF!"}}]
["DWB/6/NA/PO","wpływy do budżetu pozostałości środków finansowych gromadzonych na wydzielonych rachunkach jednostek budżetowych",801,80117,2400,"GMMW",null,null,{"$error":"#DIV/0!"},null,null,{"$error":"#DIV/0!"},{"$error":"#DIV/0!"},{"$f":"IF(SUM(#REF!)>0,\"Tak\",\"\")","v":{"$error":"#REF!"}},{"$f":"IF(OR(G863<0,J863<0,#REF!<0,#REF!<0),\"ujemny plan\",\"\")","v":{"$error":"#REF!"}}]
["DWB/6/NA/PO","wpływy do budżetu pozostałości środków finansowych gromadzonych na wydzielonych rachunkach jednostek budżetowych",801,80120,2400,"GMMW",null,null,{"$error":"#DIV/0!"},null,null,{"$error":"#DIV/0!"},{"$error":"#DIV/0!"},{"$f":"IF(SUM(#REF!)>0,\"Tak\",\"\")","v":{"$error":"#REF!"}},{"$f":"IF(OR(G864<0,J864<0,#REF!<0,#REF!<0),\"ujemny plan\",\"\")","v":{"$error":"#REF!"}}]
["DWB/6/NA/PO","wpływy do budżetu pozostałości środków finansowych gromadzonych na wydzielonych rachunkach jednostek budżetowych",801,80121,2400,"GMMW",null,null,{"$error":"#DIV/0!"},null,null,{"$error":"#DIV/0!"},{"$error":"#DIV/0!"},{"$f":"IF(SUM(#REF!)>0,\"Tak\",\"\")","v":{"$error":"#REF!"}},{"$f":"IF(OR(G865<0,J865<0,#REF!<0,#REF!<0),\"ujemny plan\",\"\")","v":{"$error":"#REF!"}}]
["DWB/6/NA/PO","wpływy do budżetu pozostałości środków finansowych gromadzonych na wydzielonych rachunkach jednostek budżetowych",801,80134,"2400","GMMW",null,null,{"$error":"#DIV/0!"},null,null,{"$error":"#DIV/0!"},{"$error":"#DIV/0!"},{"$f":"IF(SUM(#REF!)>0,\"Tak\",\"\")","v":{"$error":"#REF!"}},{"$f":"IF(OR(G866<0,J866<0,#REF!<0,#REF!<0),\"ujemny plan\",\"\")","v":{"$error":"#REF!"}}]
["DWB/6/NA/PO","wpływy do budżetu pozostałości środków finansowych gromadzonych na wydzielonych rachunkach jednostek budżetowych",801,80134,2400,"PWMW",null,null,{"$error":"#DIV/0!"},null,null,{"$error":"#DIV/0!"},{"$error":"#DIV/0!"},{"$f":"IF(SUM(#REF!)>0,\"Tak\",\"\")","v":{"$error":"#REF!"}},{"$f":"IF(OR(G867<0,J867<0,#REF!<0,#REF!<0),\"ujemny plan\",\"\")","v":{"$error":"#REF!"}}]
["DWB/6/NA/PO","wpływy do budżetu pozostałości środków finansowych gromadzonych na wydzielonych rachunkach jednostek budżetowych",801,80140,2400,"GMMW",null,null,{"$error":"#DIV/0!"},null,null,{"$error":"#DIV/0!"},{"$error":"#DIV/0!"},{"$f":"IF(SUM(#REF!)>0,\"Tak\",\"\")","v":{"$error":"#REF!"}},{"$f":"IF(OR(G868<0,J868<0,#REF!<0,#REF!<0),\"ujemny plan\",\"\")","v":{"$error":"#REF!"}}]
["DWB/6/NA/PO","wpływy do budżetu pozostałości środków finansowych gromadzonych na wydzielonych rachunkach jednostek budżetowych",801,80142,2400,"GMMW",null,null,{"$error":"#DIV/0!"},null,null,{"$error":"#DIV/0!"},{"$error":"#DIV/0!"},{"$f":"IF(SUM(#REF!)>0,\"Tak\",\"\")","v":{"$error":"#REF!"}},{"$f":"IF(OR(G869<0,J869<0,#REF!<0,#REF!<0),\"ujemny plan\",\"\")","v":{"$error":"#REF!"}}]
["DWB/6/NA/PO","wpływy do budżetu pozostałości środków finansowych gromadzonych na wydzielonych rachunkach jednostek budżetowych",801,80148,2400,"GMMW",null,null,{"$error":"#DIV/0!"},null,null,{"$error":"#DIV/0!"},{"$error":"#DIV/0!"},{"$f":"IF(SUM(#REF!)>0,\"Tak\",\"\")","v":{"$error":"#REF!"}},{"$f":"IF(OR(G870<0,J870<0,#REF!<0,#REF!<0),\"ujemny plan\",\"\")","v":{"$error":"#REF!"}}]
["DWB/6/NA/PO","wpływy do budżetu pozostałości środków finansowych gromadzonych na wydzielonych rachunkach jednostek budżetowych","854",85402,"2400","GMMW",null,null,{"$error":"#DIV/0!"},null,null,{"$error":"#DIV/0!"},{"$error":"#DIV/0!"},{"$f":"IF(SUM(#REF!)>0,\"Tak\",\"\")","v":{"$error":"#REF!"}},{"$f":"IF(OR(G871<0,J871<0,#REF!<0,#REF!<0),\"ujemny plan\",\"\")","v":{"$error":"#REF!"}}]
["DWB/6/NA/PO","wpływy do budżetu pozostałości środków finansowych gromadzonych na wydzielonych rachunkach jednostek budżetowych","854",85402,2400,"PWMW",null,null,{"$error":"#DIV/0!"},null,null,{"$error":"#DIV/0!"},{"$error":"#DIV/0!"},{"$f":"IF(SUM(#REF!)>0,\"Tak\",\"\")","v":{"$error":"#REF!"}},{"$f":"IF(OR(G872<0,J872<0,#REF!<0,#REF!<0),\"ujemny plan\",\"\")","v":{"$error":"#REF!"}}]
["DWB/6/NA/PO","wpływy do budżetu pozostałości środków finansowych gromadzonych na wydzielonych rachunkach jednostek budżetowych","854",85403,"2400","GMMW",null,null,{"$error":"#DIV/0!"},null,null,{"$error":"#DIV/0!"},{"$error":"#DIV/0!"},{"$f":"IF(SUM(#REF!)>0,\"Tak\",\"\")","v":{"$error":"#REF!"}},{"$f":"IF(OR(G873<0,J873<0,#REF!<0,#REF!<0),\"ujemny plan\",\"\")","v":{"$error":"#REF!"}}]
["DWB/6/NA/PO","wpływy do budżetu pozostałości środków finansowych gromadzonych na wydzielonych rachunkach jednostek budżetowych","854",85403,2400,"PWMW",null,null,{"$error":"#DIV/0!"},null,null,{"$error":"#DIV/0!"},{"$error":"#DIV/0!"},{"$f":"IF(SUM(#REF!)>0,\"Tak\",\"\")","v":{"$error":"#REF!"}},{"$f":"IF(OR(G874<0,J874<0,#REF!<0,#REF!<0),\"ujemny plan\",\"\")","v":{"$error":"#REF!"}}]
["DWB/6/NA/PO","wpływy do budżetu pozostałości środków finansowych gromadzonych na wydzielonych rachunkach jednostek budżetowych","854",85406,2400,"GMMW",null,null,{"$error":"#DIV/0!"},null,null,{"$error":"#DIV/0!"},{"$error":"#DIV/0!"},{"$f":"IF(SUM(#REF!)>0,\"Tak\",\"\")","v":{"$error":"#REF!"}},{"$f":"IF(OR(G875<0,J875<0,#REF!<0,#REF!<0),\"ujemny plan\",\"\")","v":{"$error":"#REF!"}}]
["DWB/6/NA/PO","wpływy do budżetu pozostałości środków finansowych gromadzonych na wydzielonych rachunkach jednostek budżetowych","854",85406,2400,"PWMW",null,null,{"$error":"#DIV/0!"},null,null,{"$error":"#DIV/0!"},{"$error":"#DIV/0!"},{"$f":"IF(SUM(#REF!)>0,\"Tak\",\"\")","v":{"$error":"#REF!"}},{"$f":"IF(OR(G876<0,J876<0,#REF!<0,#REF!<0),\"ujemny plan\",\"\")","v":{"$error":"#REF!"}}]
["DWB/6/NA/PO","wpływy do budżetu pozostałości środków finansowych gromadzonych na wydzielonych rachunkach jednostek budżetowych","854",85407,2400,"GMMW",null,null,{"$error":"#DIV/0!"},null,null,{"$error":"#DIV/0!"},{"$error":"#DIV/0!"},{"$f":"IF(SUM(#REF!)>0,\"Tak\",\"\")","v":{"$error":"#REF!"}},{"$f":"IF(OR(G877<0,J877<0,#REF!<0,#REF!<0),\"ujemny plan\",\"\")","v":{"$error":"#REF!"}}]
["DWB/6/NA/PO","wpływy do budżetu pozostałości środków finansowych gromadzonych na wydzielonych rachunkach jednostek budżetowych","854",85407,2400,"PWMW",null,null,{"$error":"#DIV/0!"},null,null,{"$error":"#DIV/0!"},{"$error":"#DIV/0!"},{"$f":"IF(SUM(#REF!)>0,\"Tak\",\"\")","v":{"$error":"#REF!"}},{"$f":"IF(OR(G878<0,J878<0,#REF!<0,#REF!<0),\"ujemny plan\",\"\")","v":{"$error":"#REF!"}}]
["DWB/6/NA/PO","wpływy do budżetu pozostałości środków finansowych gromadzonych na wydzielonych rachunkach jednostek budżetowych","854",85410,"2400","GMMW",null,null,{"$error":"#DIV/0!"},null,null,{"$error":"#DIV/0!"},{"$error":"#DIV/0!"},{"$f":"IF(SUM(#REF!)>0,\"Tak\",\"\")","v":{"$error":"#REF!"}},{"$f":"IF(OR(G879<0,J879<0,#REF!<0,#REF!<0),\"ujemny plan\",\"\")","v":{"$error":"#REF!"}}]
["DWB/6/NA/PO","wpływy do budżetu pozostałości środków finansowych gromadzonych na wydzielonych rachunkach jednostek budżetowych","854",85410,2400,"PWMW",null,null,{"$error":"#DIV/0!"},null,null,{"$error":"#DIV/0!"},{"$error":"#DIV/0!"},{"$f":"IF(SUM(#REF!)>0,\"Tak\",\"\")","v":{"$error":"#REF!"}},{"$f":"IF(OR(G880<0,J880<0,#REF!<0,#REF!<0),\"ujemny plan\",\"\")","v":{"$error":"#REF!"}}]
["DWB/6/NA/PO","wpływy do budżetu pozostałości środków finansowych gromadzonych na wydzielonych rachunkach jednostek budżetowych","854",85420,"2400","GMMW",null,null,{"$error":"#DIV/0!"},null,null,{"$error":"#DIV/0!"},{"$error":"#DIV/0!"},{"$f":"IF(SUM(#REF!)>0,\"Tak\",\"\")","v":{"$error":"#REF!"}},{"$f":"IF(OR(G881<0,J881<0,#REF!<0,#REF!<0),\"ujemny plan\",\"\")","v":{"$error":"#REF!"}}]
["DWB/6/NA/PO","wpływy do budżetu pozostałości środków finansowych gromadzonych na wydzielonych rachunkach jednostek budżetowych","854",85420,2400,"PWMW",null,null,{"$error":"#DIV/0!"},null,null,{"$error":"#DIV/0!"},{"$error":"#DIV/0!"},{"$f":"IF(SUM(#REF!)>0,\"Tak\",\"\")","v":{"$error":"#REF!"}},{"$f":"IF(OR(G882<0,J882<0,#REF!<0,#REF!<0),\"ujemny plan\",\"\")","v":{"$error":"#REF!"}}]
["DWB/6/NA/PO","wpływy do budżetu pozostałości środków finansowych gromadzonych na wydzielonych rachunkach jednostek budżetowych","854",85421,"2400","GMMW",null,null,{"$error":"#DIV/0!"},null,null,{"$error":"#DIV/0!"},{"$error":"#DIV/0!"},{"$f":"IF(SUM(#REF!)>0,\"Tak\",\"\")","v":{"$error":"#REF!"}},{"$f":"IF(OR(G883<0,J883<0,#REF!<0,#REF!<0),\"ujemny plan\",\"\")","v":{"$error":"#REF!"}}]
["DWB/6/NA/PO","wpływy do budżetu pozostałości środków finansowych gromadzonych na wydzielonych rachunkach jednostek budżetowych","854",85421,2400,"PWMW",null,null,{"$error":"#DIV/0!"},null,null,{"$error":"#DIV/0!"},{"$error":"#DIV/0!"},{"$f":"IF(SUM(#REF!)>0,\"Tak\",\"\")","v":{"$error":"#REF!"}},{"$f":"IF(OR(G884<0,J884<0,#REF!<0,#REF!<0),\"ujemny plan\",\"\")","v":{"$error":"#REF!"}}]
["DWB/6/RE","Rekomp.utraconych doch.w podatkach i opłat.lokal.",null,null,"2680",null,{"$f":"SUM(G886:G887)","v":0},null,{"$error":"#DIV/0!"},0,null,{"$error":"#DIV/0!"},{"$error":"#DIV/0!"},{"$f":"IF(SUM(#REF!)>0,\"Tak\",\"\")","v":{"$error":"#REF!"}},{"$f":"IF(OR(G885<0,J885<0,#REF!<0,#REF!<0),\"ujemny plan\",\"\")","v":{"$error":"#REF!"}}]
["DWB/6/RE","Rekomp.utraconych doch.","756","75615","2680","GMMW",null,null,{"$error":"#DIV/0!"},null,null,{"$error":"#DIV/0!"},{"$error":"#DIV/0!"},{"$f":"IF(SUM(#REF!)>0,\"Tak\",\"\")","v":{"$error":"#REF!"}},{"$f":"IF(OR(G886<0,J886<0,#REF!<0,#REF!<0),\"ujemny plan\",\"\")","v":{"$error":"#REF!"}}]
["DWB/6/RE","Rekomp.utraconych doch.","756","75619","2680","GMMW",null,null,{"$error":"#DIV/0!"},null,null,{"$error":"#DIV/0!"},{"$error":"#DIV/0!"},{"$f":"IF(SUM(#REF!)>0,\"Tak\",\"\")","v":{"$error":"#REF!"}},{"$f":"IF(OR(G887<0,J887<0,#REF!<0,#REF!<0),\"ujemny plan\",\"\")","v":{"$error":"#REF!"}}]
["DWB/6/ZB","Środki na dofinansowanie zadań bieżących",null,null,2700,null,{"$f":"SUM(G889:G903)","v":0},null,{"$error":"#DIV/0!"},0,null,{"$error":"#DIV/0!"},{"$error":"#DIV/0!"},{"$f":"IF(SUM(#REF!)>0,\"Tak\",\"\")","v":{"$error":"#REF!"}},{"$f":"IF(OR(G888<0,J888<0,#REF!<0,#REF!<0),\"ujemny plan\",\"\")","v":{"$error":"#REF!"}}]
["DWB/6/ZB","Środki na dofinansowanie zadań bieżących","020","02095",2700,"GMMW",null,null,{"$error":"#DIV/0!"},null,null,{"$error":"#DIV/0!"},{"$error":"#DIV/0!"},{"$f":"IF(SUM(#REF!)>0,\"Tak\",\"\")","v":{"$error":"#REF!"}},{"$f":"IF(OR(G889<0,J889<0,#REF!<0,#REF!<0),\"ujemny plan\",\"\")","v":{"$error":"#REF!"}}]
["DWB/6/ZB","Środki na dofinansowanie zadań bieżących","600","60016",2700,"GMMW",null,null,{"$error":"#DIV/0!"},null,null,{"$error":"#DIV/0!"},{"$error":"#DIV/0!"},{"$f":"IF(SUM(#REF!)>0,\"Tak\",\"\")","v":{"$error":"#REF!"}},{"$f":"IF(OR(G890<0,J890<0,#REF!<0,#REF!<0),\"ujemny plan\",\"\")","v":{"$error":"#REF!"}}]
["DWB/6/ZB","Środki na dofinansowanie zadań bieżących","710","71095",2700,"GMMW",null,null,{"$error":"#DIV/0!"},null,null,{"$error":"#DIV/0!"},{"$error":"#DIV/0!"},{"$f":"IF(SUM(#REF!)>0,\"Tak\",\"\")","v":{"$error":"#REF!"}},{"$f":"IF(OR(G891<0,J891<0,#REF!<0,#REF!<0),\"ujemny plan\",\"\")","v":{"$error":"#REF!"}}]
["DWB/6/ZB","Środki na dofinansowanie zadań bieżących","750","75023",2700,"GMOP",null,null,{"$error":"#DIV/0!"},null,null,{"$error":"#DIV/0!"},{"$error":"#DIV/0!"},{"$f":"IF(SUM(#REF!)>0,\"Tak\",\"\")","v":{"$error":"#REF!"}},{"$f":"IF(OR(G892<0,J892<0,#REF!<0,#REF!<0),\"ujemny plan\",\"\")","v":{"$error":"#REF!"}}]
["DWB/6/ZB","Środki na dofinansowanie zadań bieżących","750",75075,2700,"GMMW",null,null,{"$error":"#DIV/0!"},null,null,{"$error":"#DIV/0!"},{"$error":"#DIV/0!"},{"$f":"IF(SUM(#REF!)>0,\"Tak\",\"\")","v":{"$error":"#REF!"}},{"$f":"IF(OR(G893<0,J893<0,#REF!<0,#REF!<0),\"ujemny plan\",\"\")","v":{"$error":"#REF!"}}]
["DWB/6/ZB","Środki na dofinansowanie zadań bieżących",801,80120,2700,null,null,null,{"$error":"#DIV/0!"},null,null,{"$error":"#DIV/0!"},{"$error":"#DIV/0!"},{"$f":"IF(SUM(#REF!)>0,\"Tak\",\"\")","v":{"$error":"#REF!"}},{"$f":"IF(OR(G894<0,J894<0,#REF!<0,#REF!<0),\"ujemny plan\",\"\")","v":{"$error":"#REF!"}}]
["DWB/6/ZB","Środki na dofinansowanie zadań bieżących",801,80195,2700,"GMMW",null,null,{"$error":"#DIV/0!"},null,null,{"$error":"#DIV/0!"},{"$error":"#DIV/0!"},{"$f":"IF(SUM(#REF!)>0,\"Tak\",\"\")","v":{"$error":"#REF!"}},{"$f":"IF(OR(G895<0,J895<0,#REF!<0,#REF!<0),\"ujemny plan\",\"\")","v":{"$error":"#REF!"}}]
["DWB/6/ZB","Środki na dofinansowanie zadań bieżących",801,80195,2700,"GMZP",null,null,{"$error":"#DIV/0!"},null,null,{"$error":"#DIV/0!"},{"$error":"#DIV/0!"},{"$f":"IF(SUM(#REF!)>0,\"Tak\",\"\")","v":{"$error":"#REF!"}},{"$f":"IF(OR(G896<0,J896<0,#REF!<0,#REF!<0),\"ujemny plan\",\"\")","v":{"$error":"#REF!"}}]
["DWB/6/ZB","Środki na dofinansowanie zadań bieżących","852",85295,"2700","GMZP",null,null,{"$error":"#DIV/0!"},null,null,{"$error":"#DIV/0!"},{"$error":"#DIV/0!"},{"$f":"IF(SUM(#REF!)>0,\"Tak\",\"\")","v":{"$error":"#REF!"}},{"$f":"IF(OR(G897<0,J897<0,#REF!<0,#REF!<0),\"ujemny plan\",\"\")","v":{"$error":"#REF!"}}]
["DWB/6/ZB","Środki na dofinansowanie zadań bieżących","852",85295,2700,"GMMW",null,null,{"$error":"#DIV/0!"},null,null,{"$error":"#DIV/0!"},{"$error":"#DIV/0!"},{"$f":"IF(SUM(#REF!)>0,\"Tak\",\"\")","v":{"$error":"#REF!"}},{"$f":"IF(OR(G898<0,J898<0,#REF!<0,#REF!<0),\"ujemny plan\",\"\")","v":{"$error":"#REF!"}}]
["DWB/6/ZB","Środki na dofinansowanie zadań bieżących",900,90095,2700,"GMMW",null,null,{"$error":"#DIV/0!"},null,null,{"$error":"#DIV/0!"},{"$error":"#DIV/0!"},{"$f":"IF(SUM(#REF!)>0,\"Tak\",\"\")","v":{"$error":"#REF!"}},{"$f":"IF(OR(G899<0,J899<0,#REF!<0,#REF!<0),\"ujemny plan\",\"\")","v":{"$error":"#REF!"}}]
["DWB/6/ZB","Środki na dofinansowanie zadań bieżących",921,92105,2700,null,null,null,{"$error":"#DIV/0!"},null,null,{"$error":"#DIV/0!"},{"$error":"#DIV/0!"},{"$f":"IF(SUM(#REF!)>0,\"Tak\",\"\")","v":{"$error":"#REF!"}},{"$f":"IF(OR(G900<0,J900<0,#REF!<0,#REF!<0),\"ujemny plan\",\"\")","v":{"$error":"#REF!"}}]
["DWB/6/ZB","Środki na dofinansowanie zadań bieżących",925,92504,2700,"GMMW",null,null,{"$error":"#DIV/0!"},null,null,{"$error":"#DIV/0!"},{"$error":"#DIV/0!"},{"$f":"IF(SUM(#REF!)>0,\"Tak\",\"\")","v":{"$error":"#REF!"}},{"$f":"IF(OR(G901<0,J901<0,#REF!<0,#REF!<0),\"ujemny plan\",\"\")","v":{"$error":"#REF!"}}]
["DWB/6/ZB","Środki na dofinansowanie zadań bieżących",926,92604,2700,null,null,null,{"$error":"#DIV/0!"},null,null,{"$error":"#DIV/0!"},{"$error":"#DIV/0!"},{"$f":"IF(SUM(#REF!)>0,\"Tak\",\"\")","v":{"$error":"#REF!"}},{"$f":"IF(OR(G902<0,J902<0,#REF!<0,#REF!<0),\"ujemny plan\",\"\")","v":{"$error":"#REF!"}}]
["DWB/6/ZB","Środki na dofinansowanie zadań bieżących",926,"92695",2700,"GMMW",null,null,{"$error":"#DIV/0!"},null,null,{"$error":"#DIV/0!"},{"$error":"#DIV/0!"},{"$f":"IF(SUM(#REF!)>0,\"Tak\",\"\")","v":{"$error":"#REF!"}},{"$f":"IF(OR(G903<0,J903<0,#REF!<0,#REF!<0),\"ujemny plan\",\"\")","v":{"$error":"#REF!"}}]
["DWB/6/ZD","Zwroty dotacji",null,null,null,null,{"$f":"SUM(G905,G946)","v":202800},{"$f":"SUM(H905,H946)","v":199194.42000000004},0.98222100591715999,202800,{"$f":"SUM(K905,K946)","v":199194.42000000004},0.98222100591715999,{"$f":"IF(SUM(G904:L904)>0,\"Tak\",\"\")","v":"Tak"},{"$f":"IF(SUM(#REF!)>0,\"Tak\",\"\")","v":{"$error":"#REF!"}},{"$f":"IF(OR(G904<0,J904<0,#REF!<0,#REF!<0),\"ujemny plan\",\"\")","v":{"$error":"#REF!"}}]
["DWB/6/ZD","Zwroty dotacji",null,null,"2910",null,{"$f":"SUM(G906:G945)","v":1900},{"$f":"SUM(H906:H945)","v":2308.4899999999998},{"$f":"H905/G905","v":1.2149947368421052},1900,{"$f":"SUM(K906:K945)","v":2308.4899999999998},{"$f":"K905/J905","v":1.2149947368421052},"Tak",{"$f":"IF(SUM(#REF!)>0,\"Tak\",\"\")","v":{"$error":"#REF!"}},{"$f":"IF(OR(G905<0,J905<0,#REF!<0,#REF!<0),\"ujemny plan\",\"\")","v":{"$error":"#REF!"}}]
["DWB/6/ZD","Zwroty dotacji","700","70005",2910,"GMMW",null,null,{"$error":"#DIV/0!"},null,null,{"$error":"#DIV/0!"},{"$error":"#DIV/0!"},{"$f":"IF(SUM(#REF!)>0,\"Tak\",\"\")","v":{"$error":"#REF!"}},{"$f":"IF(OR(G906<0,J906<0,#REF!<0,#REF!<0),\"ujemny plan\",\"\")","v":{"$error":"#REF!"}}]
["DWB/6/ZD","Zwroty dotacji","700","70005","2910","PWMW",null,null,{"$error":"#DIV/0!"},null,null,{"$error":"#DIV/0!"},{"$error":"#DIV/0!"},{"$f":"IF(SUM(#REF!)>0,\"Tak\",\"\")","v":{"$error":"#REF!"}},{"$f":"IF(OR(G907<0,J907<0,#REF!<0,#REF!<0),\"ujemny plan\",\"\")","v":{"$error":"#REF!"}}]
["DWB/6/ZD","Zwroty dotacji","754","75411",2910,"GMMW",null,null,{"$error":"#DIV/0!"},null,null,{"$error":"#DIV/0!"},{"$error":"#DIV/0!"},{"$f":"IF(SUM(#REF!)>0,\"Tak\",\"\")","v":{"$error":"#REF!"}},{"$f":"IF(OR(G908<0,J908<0,#REF!<0,#REF!<0),\"ujemny plan\",\"\")","v":{"$error":"#REF!"}}]
["DWB/6/ZD","Zwroty dotacji","755","75515",2910,"GMMW",null,null,{"$error":"#DIV/0!"},null,null,{"$error":"#DIV/0!"},{"$error":"#DIV/0!"},{"$f":"IF(SUM(#REF!)>0,\"Tak\",\"\")","v":{"$error":"#REF!"}},{"$f":"IF(OR(G909<0,J909<0,#REF!<0,#REF!<0),\"ujemny plan\",\"\")","v":{"$error":"#REF!"}}]
["DWB/6/ZD","Zwroty dotacji",801,80101,2910,"GMMW",null,null,{"$error":"#DIV/0!"},null,null,{"$error":"#DIV/0!"},{"$error":"#DIV/0!"},{"$f":"IF(SUM(#REF!)>0,\"Tak\",\"\")","v":{"$error":"#REF!"}},{"$f":"IF(OR(G910<0,J910<0,#REF!<0,#REF!<0),\"ujemny plan\",\"\")","v":{"$error":"#REF!"}}]
["DWB/6/ZD","Zwroty dotacji",801,"80102",2910,"GMMW",null,null,{"$error":"#DIV/0!"},null,null,{"$error":"#DIV/0!"},{"$error":"#DIV/0!"},{"$f":"IF(SUM(#REF!)>0,\"Tak\",\"\")","v":{"$error":"#REF!"}},{"$f":"IF(OR(G911<0,J911<0,#REF!<0,#REF!<0),\"ujemny plan\",\"\")","v":{"$error":"#REF!"}}]
["DWB/6/ZD","Zwroty dotacji",801,"80104",2910,"GMMW",null,null,{"$error":"#DIV/0!"},null,null,{"$error":"#DIV/0!"},{"$error":"#DIV/0!"},{"$f":"IF(SUM(#REF!)>0,\"Tak\",\"\")","v":{"$error":"#REF!"}},{"$f":"IF(OR(G912<0,J912<0,#REF!<0,#REF!<0),\"ujemny plan\",\"\")","v":{"$error":"#REF!"}}]
["DWB/6/ZD","Zwroty dotacji",801,"80115",2910,"GMMW",null,null,{"$error":"#DIV/0!"},null,null,{"$error":"#DIV/0!"},{"$error":"#DIV/0!"},{"$f":"IF(SUM(#REF!)>0,\"Tak\",\"\")","v":{"$error":"#REF!"}},{"$f":"IF(OR(G913<0,J913<0,#REF!<0,#REF!<0),\"ujemny plan\",\"\")","v":{"$error":"#REF!"}}]
["DWB/6/ZD","Zwroty dotacji",801,80116,2910,"GMMW",null,null,{"$error":"#DIV/0!"},null,null,{"$error":"#DIV/0!"},{"$error":"#DIV/0!"},{"$f":"IF(SUM(#REF!)>0,\"Tak\",\"\")","v":{"$error":"#REF!"}},{"$f":"IF(OR(G914<0,J914<0,#REF!<0,#REF!<0),\"ujemny plan\",\"\")","v":{"$error":"#REF!"}}]
["DWB/6/ZD","Zwroty dotacji",801,80117,2910,"GMMW",null,null,{"$error":"#DIV/0!"},null,null,{"$error":"#DIV/0!"},{"$error":"#DIV/0!"},{"$f":"IF(SUM(#REF!)>0,\"Tak\",\"\")","v":{"$error":"#REF!"}},{"$f":"IF(OR(G915<0,J915<0,#REF!<0,#REF!<0),\"ujemny plan\",\"\")","v":{"$error":"#REF!"}}]
["DWB/6/ZD","Zwroty dotacji",801,80120,2910,"GMMW",null,null,{"$error":"#DIV/0!"},null,null,{"$error":"#DIV/0!"},{"$error":"#DIV/0!"},{"$f":"IF(SUM(#REF!)>0,\"Tak\",\"\")","v":{"$error":"#REF!"}},{"$f":"IF(OR(G916<0,J916<0,#REF!<0,#REF!<0),\"ujemny plan\",\"\")","v":{"$error":"#REF!"}}]
["DWB/6/ZD","Zwroty dotacji",801,80121,2910,"GMMW",null,null,{"$error":"#DIV/0!"},null,null,{"$error":"#DIV/0!"},{"$error":"#DIV/0!"},{"$f":"IF(SUM(#REF!)>0,\"Tak\",\"\")","v":{"$error":"#REF!"}},{"$f":"IF(OR(G917<0,J917<0,#REF!<0,#REF!<0),\"ujemny plan\",\"\")","v":{"$error":"#REF!"}}]
["DWB/6/ZD","Zwroty dotacji",801,"80132",2910,"GMMW",null,null,{"$error":"#DIV/0!"},null,null,{"$error":"#DIV/0!"},{"$error":"#DIV/0!"},{"$f":"IF(SUM(#REF!)>0,\"Tak\",\"\")","v":{"$error":"#REF!"}},{"$f":"IF(OR(G918<0,J918<0,#REF!<0,#REF!<0),\"ujemny plan\",\"\")","v":{"$error":"#REF!"}}]
["DWB/6/ZD","Zwroty dotacji",801,"80150",2910,"GMMW",null,null,{"$error":"#DIV/0!"},null,null,{"$error":"#DIV/0!"},{"$error":"#DIV/0!"},{"$f":"IF(SUM(#REF!)>0,\"Tak\",\"\")","v":{"$error":"#REF!"}},{"$f":"IF(OR(G919<0,J919<0,#REF!<0,#REF!<0),\"ujemny plan\",\"\")","v":{"$error":"#REF!"}}]
["DWB/6/ZD","Zwroty dotacji",851,85156,2910,"GMMW",null,null,{"$error":"#DIV/0!"},null,null,{"$error":"#DIV/0!"},{"$error":"#DIV/0!"},{"$f":"IF(SUM(#REF!)>0,\"Tak\",\"\")","v":{"$error":"#REF!"}},{"$f":"IF(OR(G920<0,J920<0,#REF!<0,#REF!<0),\"ujemny plan\",\"\")","v":{"$error":"#REF!"}}]
["DWB/6/ZD","Zwroty dotacji",851,85195,2910,"GMMW",null,null,{"$error":"#DIV/0!"},null,null,{"$error":"#DIV/0!"},{"$error":"#DIV/0!"},{"$f":"IF(SUM(#REF!)>0,\"Tak\",\"\")","v":{"$error":"#REF!"}},{"$f":"IF(OR(G921<0,J921<0,#REF!<0,#REF!<0),\"ujemny plan\",\"\")","v":{"$error":"#REF!"}}]
["DWB/6/ZD","Zwroty dotacji",852,85202,2910,"GMMW",null,null,{"$error":"#DIV/0!"},null,null,{"$error":"#DIV/0!"},{"$error":"#DIV/0!"},{"$f":"IF(SUM(#REF!)>0,\"Tak\",\"\")","v":{"$error":"#REF!"}},{"$f":"IF(OR(G922<0,J922<0,#REF!<0,#REF!<0),\"ujemny plan\",\"\")","v":{"$error":"#REF!"}}]
["DWB/6/ZD","Zwroty dotacji",852,85203,2910,"GMMW",null,null,{"$error":"#DIV/0!"},null,null,{"$error":"#DIV/0!"},{"$error":"#DIV/0!"},{"$f":"IF(SUM(#REF!)>0,\"Tak\",\"\")","v":{"$error":"#REF!"}},{"$f":"IF(OR(G923<0,J923<0,#REF!<0,#REF!<0),\"ujemny plan\",\"\")","v":{"$error":"#REF!"}}]
["DWB/6/ZD","Zwroty dotacji",852,85204,2910,"GMMW",null,null,{"$error":"#DIV/0!"},null,null,{"$error":"#DIV/0!"},{"$error":"#DIV/0!"},{"$f":"IF(SUM(#REF!)>0,\"Tak\",\"\")","v":{"$error":"#REF!"}},{"$f":"IF(OR(G924<0,J924<0,#REF!<0,#REF!<0),\"ujemny plan\",\"\")","v":{"$error":"#REF!"}}]
["DWB/6/ZD","Zwroty dotacji",852,"85205",2910,"GMMW",null,null,{"$error":"#DIV/0!"},null,null,{"$error":"#DIV/0!"},{"$error":"#DIV/0!"},{"$f":"IF(SUM(#REF!)>0,\"Tak\",\"\")","v":{"$error":"#REF!"}},{"$f":"IF(OR(G925<0,J925<0,#REF!<0,#REF!<0),\"ujemny plan\",\"\")","v":{"$error":"#REF!"}}]
["DWB/6/ZD","Zwroty dotacji",852,85213,2910,"GMMW",null,null,{"$error":"#DIV/0!"},null,null,{"$error":"#DIV/0!"},{"$error":"#DIV/0!"},{"$f":"IF(SUM(#REF!)>0,\"Tak\",\"\")","v":{"$error":"#REF!"}},{"$f":"IF(OR(G926<0,J926<0,#REF!<0,#REF!<0),\"ujemny plan\",\"\")","v":{"$error":"#REF!"}}]
["DWB/6/ZD","Zwroty dotacji",852,85214,2910,"GMMW",null,null,{"$error":"#DIV/0!"},null,null,{"$error":"#DIV/0!"},{"$error":"#DIV/0!"},{"$f":"IF(SUM(#REF!)>0,\"Tak\",\"\")","v":{"$error":"#REF!"}},{"$f":"IF(OR(G927<0,J927<0,#REF!<0,#REF!<0),\"ujemny plan\",\"\")","v":{"$error":"#REF!"}}]
["DWB/6/ZD","Zwroty dotacji",852,85215,2910,"GMMW",null,null,{"$error":"#DIV/0!"},null,null,{"$error":"#DIV/0!"},{"$error":"#DIV/0!"},{"$f":"IF(SUM(#REF!)>0,\"Tak\",\"\")","v":{"$error":"#REF!"}},{"$f":"IF(OR(G928<0,J928<0,#REF!<0,#REF!<0),\"ujemny plan\",\"\")","v":{"$error":"#REF!"}}]
["DWB/6/ZD","Zwroty dotacji",852,85216,2910,"GMMW",null,null,{"$error":"#DIV/0!"},null,null,{"$error":"#DIV/0!"},{"$error":"#DIV/0!"},{"$f":"IF(SUM(#REF!)>0,\"Tak\",\"\")","v":{"$error":"#REF!"}},{"$f":"IF(OR(G929<0,J929<0,#REF!<0,#REF!<0),\"ujemny plan\",\"\")","v":{"$error":"#REF!"}}]
["DWB/6/ZD","Zwroty dotacji",852,85218,2910,"GMMW",null,null,{"$error":"#DIV/0!"},null,null,{"$error":"#DIV/0!"},{"$error":"#DIV/0!"},{"$f":"IF(SUM(#REF!)>0,\"Tak\",\"\")","v":{"$error":"#REF!"}},{"$f":"IF(OR(G930<0,J930<0,#REF!<0,#REF!<0),\"ujemny plan\",\"\")","v":{"$error":"#REF!"}}]
["DWB/6/ZD","Zwroty dotacji",852,85219,2910,"GMMW",null,null,{"$error":"#DIV/0!"},null,null,{"$error":"#DIV/0!"},{"$error":"#DIV/0!"},{"$f":"IF(SUM(#REF!)>0,\"Tak\",\"\")","v":{"$error":"#REF!"}},{"$f":"IF(OR(G931<0,J931<0,#REF!<0,#REF!<0),\"ujemny plan\",\"\")","v":{"$error":"#REF!"}}]
["DWB/6/ZD","Zwroty dotacji",852,85228,2910,"GMMW",null,null,{"$error":"#DIV/0!"},null,null,{"$error":"#DIV/0!"},{"$error":"#DIV/0!"},{"$f":"IF(SUM(#REF!)>0,\"Tak\",\"\")","v":{"$error":"#REF!"}},{"$f":"IF(OR(G932<0,J932<0,#REF!<0,#REF!<0),\"ujemny plan\",\"\")","v":{"$error":"#REF!"}}]
["DWB/6/ZD","Zwroty dotacji",852,85231,2910,"GMMW",null,null,{"$error":"#DIV/0!"},null,null,{"$error":"#DIV/0!"},{"$error":"#DIV/0!"},{"$f":"IF(SUM(#REF!)>0,\"Tak\",\"\")","v":{"$error":"#REF!"}},{"$f":"IF(OR(G933<0,J933<0,#REF!<0,#REF!<0),\"ujemny plan\",\"\")","v":{"$error":"#REF!"}}]
["DWB/6/ZD","Zwroty dotacji",852,85231,"2910","PWMW",null,null,{"$error":"#DIV/0!"},null,null,{"$error":"#DIV/0!"},{"$error":"#DIV/0!"},{"$f":"IF(SUM(#REF!)>0,\"Tak\",\"\")","v":{"$error":"#REF!"}},{"$f":"IF(OR(G934<0,J934<0,#REF!<0,#REF!<0),\"ujemny plan\",\"\")","v":{"$error":"#REF!"}}]
["DWB/6/ZD","Zwroty dotacji",852,85278,2910,"GMMW",null,null,{"$error":"#DIV/0!"},null,null,{"$error":"#DIV/0!"},{"$error":"#DIV/0!"},{"$f":"IF(SUM(#REF!)>0,\"Tak\",\"\")","v":{"$error":"#REF!"}},{"$f":"IF(OR(G935<0,J935<0,#REF!<0,#REF!<0),\"ujemny plan\",\"\")","v":{"$error":"#REF!"}}]
["DWB/6/ZD","Zwroty dotacji",852,85295,2910,"GMMW",null,null,{"$error":"#DIV/0!"},null,null,{"$error":"#DIV/0!"},{"$error":"#DIV/0!"},{"$f":"IF(SUM(#REF!)>0,\"Tak\",\"\")","v":{"$error":"#REF!"}},{"$f":"IF(OR(G936<0,J936<0,#REF!<0,#REF!<0),\"ujemny plan\",\"\")","v":{"$error":"#REF!"}}]
["DWB/6/ZD","Zwroty dotacji","853","85321",2910,"PWMW",null,null,{"$error":"#DIV/0!"},null,null,{"$error":"#DIV/0!"},{"$error":"#DIV/0!"},{"$f":"IF(SUM(#REF!)>0,\"Tak\",\"\")","v":{"$error":"#REF!"}},{"$f":"IF(OR(G937<0,J937<0,#REF!<0,#REF!<0),\"ujemny plan\",\"\")","v":{"$error":"#REF!"}}]
["DWB/6/ZD","Zwroty dotacji","853","85395",2910,"GMMW",0,446.25,null,0,446.25,null,"Tak",{"$f":"IF(SUM(#REF!)>0,\"Tak\",\"\")","v":{"$error":"#REF!"}},{"$f":"IF(OR(G938<0,J938<0,#REF!<0,#REF!<0),\"ujemny plan\",\"\")","v":{"$error":"#REF!"}}]
["DWB/6/ZD","Zwroty dotacji","855","85501",2910,"GMMW",null,null,{"$error":"#DIV/0!"},null,null,{"$error":"#DIV/0!"},{"$error":"#DIV/0!"},{"$f":"IF(SUM(#REF!)>0,\"Tak\",\"\")","v":{"$error":"#REF!"}},{"$f":"IF(OR(G939<0,J939<0,#REF!<0,#REF!<0),\"ujemny plan\",\"\")","v":{"$error":"#REF!"}}]
["DWB/6/ZD","Zwroty dotacji","855","85502",2910,"GMMW",null,null,{"$error":"#DIV/0!"},null,null,{"$error":"#DIV/0!"},{"$error":"#DIV/0!"},{"$f":"IF(SUM(#REF!)>0,\"Tak\",\"\")","v":{"$error":"#REF!"}},{"$f":"IF(OR(G940<0,J940<0,#REF!<0,#REF!<0),\"ujemny plan\",\"\")","v":{"$error":"#REF!"}}]
["DWB/6/ZD","Zwroty dotacji","855","85508",2910,"PWMW",null,null,{"$error":"#DIV/0!"},null,null,{"$error":"#DIV/0!"},{"$error":"#DIV/0!"},{"$f":"IF(SUM(#REF!)>0,\"Tak\",\"\")","v":{"$error":"#REF!"}},{"$f":"IF(OR(G941<0,J941<0,#REF!<0,#REF!<0),\"ujemny plan\",\"\")","v":{"$error":"#REF!"}}]
["DWB/6/ZD","Zwroty dotacji","855","85510",2910,"PWMW",null,null,{"$error":"#DIV/0!"},null,null,{"$error":"#DIV/0!"},{"$error":"#DIV/0!"},{"$f":"IF(SUM(#REF!)>0,\"Tak\",\"\")","v":{"$error":"#REF!"}},{"$f":"IF(OR(G942<0,J942<0,#REF!<0,#REF!<0),\"ujemny plan\",\"\")","v":{"$error":"#REF!"}}]
["DWB/6/ZD","Zwroty dotacji","855","85595",2910,"GMMW",null,null,{"$error":"#DIV/0!"},null,null,{"$error":"#DIV/0!"},{"$error":"#DIV/0!"},{"$f":"IF(SUM(#REF!)>0,\"Tak\",\"\")","v":{"$error":"#REF!"}},{"$f":"IF(OR(G943<0,J943<0,#REF!<0,#REF!<0),\"ujemny plan\",\"\")","v":{"$error":"#REF!"}}]
["DWB/6/ZD","Zwroty dotacji",926,92604,2910,null,null,null,{"$error":"#DIV/0!"},null,null,{"$error":"#DIV/0!"},{"$error":"#DIV/0!"},{"$f":"IF(SUM(#REF!)>0,\"Tak\",\"\")","v":{"$error":"#REF!"}},{"$f":"IF(OR(G944<0,J944<0,#REF!<0,#REF!<0),\"ujemny plan\",\"\")","v":{"$error":"#REF!"}}]
["DWB/6/ZD","Zwroty dotacji",926,92605,2910,"GMMW",1900,1862.24,0.98012631578947373,1900,1862.24,0.98012631578947373,"Tak",{"$f":"IF(SUM(#REF!)>0,\"Tak\",\"\")","v":{"$error":"#REF!"}},{"$f":"IF(OR(G945<0,J945<0,#REF!<0,#REF!<0),\"ujemny plan\",\"\")","v":{"$error":"#REF!"}}]
["DWB/6/ZD","Zwroty dotacji",null,null,"2950",null,{"$f":"SUM(G947:G965)","v":200900},{"$f":"SUM(H947:H965)","v":196885.93000000005},0.98001956197113016,{"$f":"SUM(J947:J965)","v":200900},{"$f":"SUM(K947:K965)","v":196885.93000000005},0.98001956197113016,"Tak",{"$f":"IF(SUM(#REF!)>0,\"Tak\",\"\")","v":{"$error":"#REF!"}},{"$f":"IF(OR(G946<0,J946<0,#REF!<0,#REF!<0),\"ujemny plan\",\"\")","v":{"$error":"#REF!"}}]
["DWB/6/ZD","Zwroty dotacji","755","75515","2950","GMMW",null,null,{"$error":"#DIV/0!"},null,null,{"$error":"#DIV/0!"},{"$error":"#DIV/0!"},{"$f":"IF(SUM(#REF!)>0,\"Tak\",\"\")","v":{"$error":"#REF!"}},{"$f":"IF(OR(G947<0,J947<0,#REF!<0,#REF!<0),\"ujemny plan\",\"\")","v":{"$error":"#REF!"}}]
["DWB/6/ZD","Zwroty dotacji",801,80101,"2950","GMMW",null,null,{"$error":"#DIV/0!"},null,null,{"$error":"#DIV/0!"},{"$error":"#DIV/0!"},{"$f":"IF(SUM(#REF!)>0,\"Tak\",\"\")","v":{"$error":"#REF!"}},{"$f":"IF(OR(G948<0,J948<0,#REF!<0,#REF!<0),\"ujemny plan\",\"\")","v":{"$error":"#REF!"}}]
["DWB/6/ZD","Zwroty dotacji",801,"80102","2950","GMMW",null,null,{"$error":"#DIV/0!"},null,null,{"$error":"#DIV/0!"},{"$error":"#DIV/0!"},{"$f":"IF(SUM(#REF!)>0,\"Tak\",\"\")","v":{"$error":"#REF!"}},{"$f":"IF(OR(G949<0,J949<0,#REF!<0,#REF!<0),\"ujemny plan\",\"\")","v":{"$error":"#REF!"}}]
["DWB/6/ZD","Zwroty dotacji",801,"80104","2950","GMMW",140000,139262.98000000001,0.9947355714285715,140000,139262.98000000001,0.9947355714285715,"Tak",{"$f":"IF(SUM(#REF!)>0,\"Tak\",\"\")","v":{"$error":"#REF!"}},{"$f":"IF(OR(G950<0,J950<0,#REF!<0,#REF!<0),\"ujemny plan\",\"\")","v":{"$error":"#REF!"}}]
["DWB/6/ZD","Zwroty dotacji",801,"80106","2950","GMMW",3000,2835.99,0.94532999999999989,3000,2835.99,0.94532999999999989,"Tak",{"$f":"IF(SUM(#REF!)>0,\"Tak\",\"\")","v":{"$error":"#REF!"}},{"$f":"IF(OR(G951<0,J951<0,#REF!<0,#REF!<0),\"ujemny plan\",\"\")","v":{"$error":"#REF!"}}]
["DWB/6/ZD","Zwroty dotacji",801,"80115","2950","GMMW",null,null,{"$error":"#DIV/0!"},null,null,{"$error":"#DIV/0!"},{"$error":"#DIV/0!"},{"$f":"IF(SUM(#REF!)>0,\"Tak\",\"\")","v":{"$error":"#REF!"}},{"$f":"IF(OR(G952<0,J952<0,#REF!<0,#REF!<0),\"ujemny plan\",\"\")","v":{"$error":"#REF!"}}]
["DWB/6/ZD","Zwroty dotacji",801,80116,"2950","GMMW",null,null,{"$error":"#DIV/0!"},null,null,{"$error":"#DIV/0!"},{"$error":"#DIV/0!"},{"$f":"IF(SUM(#REF!)>0,\"Tak\",\"\")","v":{"$error":"#REF!"}},{"$f":"IF(OR(G953<0,J953<0,#REF!<0,#REF!<0),\"ujemny plan\",\"\")","v":{"$error":"#REF!"}}]
["DWB/6/ZD","Zwroty dotacji",801,80117,"2950","GMMW",null,null,{"$error":"#DIV/0!"},null,null,{"$error":"#DIV/0!"},{"$error":"#DIV/0!"},{"$f":"IF(SUM(#REF!)>0,\"Tak\",\"\")","v":{"$error":"#REF!"}},{"$f":"IF(OR(G954<0,J954<0,#REF!<0,#REF!<0),\"ujemny plan\",\"\")","v":{"$error":"#REF!"}}]
["DWB/6/ZD","Zwroty dotacji",801,80120,"2950","GMMW",null,null,{"$error":"#DIV/0!"},null,null,{"$error":"#DIV/0!"},{"$error":"#DIV/0!"},{"$f":"IF(SUM(#REF!)>0,\"Tak\",\"\")","v":{"$error":"#REF!"}},{"$f":"IF(OR(G955<0,J955<0,#REF!<0,#REF!<0),\"ujemny plan\",\"\")","v":{"$error":"#REF!"}}]
["DWB/6/ZD","Zwroty dotacji",801,80121,"2950","GMMW",null,null,{"$error":"#DIV/0!"},null,null,{"$error":"#DIV/0!"},{"$error":"#DIV/0!"},{"$f":"IF(SUM(#REF!)>0,\"Tak\",\"\")","v":{"$error":"#REF!"}},{"$f":"IF(OR(G956<0,J956<0,#REF!<0,#REF!<0),\"ujemny plan\",\"\")","v":{"$error":"#REF!"}}]
["DWB/6/ZD","Zwroty dotacji",801,"80149","2950","GMMW",51000,49043.79,0.96164294117647064,51000,49043.79,0.96164294117647064,"Tak",{"$f":"IF(SUM(#REF!)>0,\"Tak\",\"\")","v":{"$error":"#REF!"}},{"$f":"IF(OR(G957<0,J957<0,#REF!<0,#REF!<0),\"ujemny plan\",\"\")","v":{"$error":"#REF!"}}]
["DWB/6/ZD","Zwroty dotacji",801,"80150","2950","GMMW",0,33.07,null,0,33.07,null,"Tak",{"$f":"IF(SUM(#REF!)>0,\"Tak\",\"\")","v":{"$error":"#REF!"}},{"$f":"IF(OR(G958<0,J958<0,#REF!<0,#REF!<0),\"ujemny plan\",\"\")","v":{"$error":"#REF!"}}]
["DWB/6/ZD","Zwroty dotacji","851","85154","2950","GMMW",2700,2501.4499999999998,0.92646296296296293,2700,2501.4499999999998,0.92646296296296293,"Tak",{"$f":"IF(SUM(#REF!)>0,\"Tak\",\"\")","v":{"$error":"#REF!"}},{"$f":"IF(OR(G959<0,J959<0,#REF!<0,#REF!<0),\"ujemny plan\",\"\")","v":{"$error":"#REF!"}}]
["DWB/6/ZD","Zwroty dotacji",852,85203,"2950","GMMW",null,null,{"$error":"#DIV/0!"},null,null,{"$error":"#DIV/0!"},{"$error":"#DIV/0!"},{"$f":"IF(SUM(#REF!)>0,\"Tak\",\"\")","v":{"$error":"#REF!"}},{"$f":"IF(OR(G960<0,J960<0,#REF!<0,#REF!<0),\"ujemny plan\",\"\")","v":{"$error":"#REF!"}}]
["DWB/6/ZD","Zwroty dotacji",852,85215,"2950","GMMW",null,null,{"$error":"#DIV/0!"},null,null,{"$error":"#DIV/0!"},{"$error":"#DIV/0!"},{"$f":"IF(SUM(#REF!)>0,\"Tak\",\"\")","v":{"$error":"#REF!"}},{"$f":"IF(OR(G961<0,J961<0,#REF!<0,#REF!<0),\"ujemny plan\",\"\")","v":{"$error":"#REF!"}}]
["DWB/6/ZD","Zwroty dotacji",852,85295,"2950","GMMW",null,null,{"$error":"#DIV/0!"},null,null,{"$error":"#DIV/0!"},{"$error":"#DIV/0!"},{"$f":"IF(SUM(#REF!)>0,\"Tak\",\"\")","v":{"$error":"#REF!"}},{"$f":"IF(OR(G962<0,J962<0,#REF!<0,#REF!<0),\"ujemny plan\",\"\")","v":{"$error":"#REF!"}}]
["DWB/6/ZD","Zwroty dotacji",853,85395,"2950","GMMW",3000,2036.81,0.67893666666666663,3000,2036.81,0.67893666666666663,"Tak",{"$f":"IF(SUM(#REF!)>0,\"Tak\",\"\")","v":{"$error":"#REF!"}},{"$f":"IF(OR(G963<0,J963<0,#REF!<0,#REF!<0),\"ujemny plan\",\"\")","v":{"$error":"#REF!"}}]
["DWB/6/ZD","Zwroty dotacji",854,85404,"2950","GMMW",0,4.6399999999999997,null,0,4.6399999999999997,null,"Tak",{"$f":"IF(SUM(#REF!)>0,\"Tak\",\"\")","v":{"$error":"#REF!"}},{"$f":"IF(OR(G964<0,J964<0,#REF!<0,#REF!<0),\"ujemny plan\",\"\")","v":{"$error":"#REF!"}}]
["DWB/6/ZD","Zwroty dotacji",926,92605,"2950","GMMW",1200,1167.2,0.97266666666666668,1200,1167.2,0.97266666666666668,"Tak",{"$f":"IF(SUM(#REF!)>0,\"Tak\",\"\")","v":{"$error":"#REF!"}},{"$f":"IF(OR(G965<0,J965<0,#REF!<0,#REF!<0),\"ujemny plan\",\"\")","v":{"$error":"#REF!"}}]
["DWB/6/WW","Wpływy do wyjaśnienia",null,null,2980,null,{"$f":"SUM(G967:G972)","v":0},90,null,0,90,null,"Tak",{"$f":"IF(SUM(#REF!)>0,\"Tak\",\"\")","v":{"$error":"#REF!"}},{"$f":"IF(OR(G966<0,J966<0,#REF!<0,#REF!<0),\"ujemny plan\",\"\")","v":{"$error":"#REF!"}}]
["DWB/6/WW","Wpływy do wyjaśnienia",700,70005,2980,null,null,null,{"$error":"#DIV/0!"},null,null,{"$error":"#DIV/0!"},{"$error":"#DIV/0!"},{"$f":"IF(SUM(#REF!)>0,\"Tak\",\"\")","v":{"$error":"#REF!"}},{"$f":"IF(OR(G967<0,J967<0,#REF!<0,#REF!<0),\"ujemny plan\",\"\")","v":{"$error":"#REF!"}}]
["DWB/6/WW","Wpływy do wyjaśnienia",756,75615,2980,null,null,null,{"$error":"#DIV/0!"},null,null,{"$error":"#DIV/0!"},{"$f":"IF(SUM(G968:L968)>0,\"Tak\",\"\")","v":{"$error":"#DIV/0!"}},{"$f":"IF(SUM(#REF!)>0,\"Tak\",\"\")","v":{"$error":"#REF!"}},{"$f":"IF(OR(G968<0,J968<0,#REF!<0,#REF!<0),\"ujemny plan\",\"\")","v":{"$error":"#REF!"}}]
["DWB/6/WW","Wpływy do wyjaśnienia",756,75618,2980,null,null,null,{"$f":"H969/G969","v":{"$error":"#DIV/0!"}},null,null,{"$f":"K969/J969","v":{"$error":"#DIV/0!"}},{"$error":"#DIV/0!"},{"$f":"IF(SUM(#REF!)>0,\"Tak\",\"\")","v":{"$error":"#REF!"}},{"$f":"IF(OR(G969<0,J969<0,#REF!<0,#REF!<0),\"ujemny plan\",\"\")","v":{"$error":"#REF!"}}]
["DWB/6/WW","Wpływy do wyjaśnienia",758,75815,2980,"GMMW",0,90,null,0,90,null,"Tak",{"$f":"IF(SUM(#REF!)>0,\"Tak\",\"\")","v":{"$error":"#REF!"}},{"$f":"IF(OR(G970<0,J970<0,#REF!<0,#REF!<0),\"ujemny plan\",\"\")","v":{"$error":"#REF!"}}]
["DWB/6/WW","Wpływy do wyjaśnienia",801,80101,2980,null,null,null,{"$error":"#DIV/0!"},null,null,{"$error":"#DIV/0!"},{"$error":"#DIV/0!"},{"$f":"IF(SUM(#REF!)>0,\"Tak\",\"\")","v":{"$error":"#REF!"}},{"$f":"IF(OR(G971<0,J971<0,#REF!<0,#REF!<0),\"ujemny plan\",\"\")","v":{"$error":"#REF!"}}]
["DWB/6/WW","Wpływy do wyjaśnienia",801,80120,2980,null,null,null,{"$error":"#DIV/0!"},null,null,{"$error":"#DIV/0!"},{"$error":"#DIV/0!"},{"$f":"IF(SUM(#REF!)>0,\"Tak\",\"\")","v":{"$error":"#REF!"}},{"$f":"IF(OR(G972<0,J972<0,#REF!<0,#REF!<0),\"ujemny plan\",\"\")","v":{"$error":"#REF!"}}]
["DWB/7","Udziały w podatkach stanowiących dochód budżetu państwa",null,null,null,null,{"$f":"SUM(G974,G977)","v":0},null,{"$error":"#DIV/0!"},0,null,{"$error":"#DIV/0!"},{"$error":"#DIV/0!"},{"$f":"IF(SUM(#REF!)>0,\"Tak\",\"\")","v":{"$error":"#REF!"}},{"$f":"IF(OR(G973<0,J973<0,#REF!<0,#REF!<0),\"ujemny plan\",\"\")","v":{"$error":"#REF!"}}]
["DWB/7/OF","W podatku dochodowym od osób fizycznych",null,null,"0010",null,{"$f":"SUM(G975:G976)","v":0},null,{"$error":"#DIV/0!"},0,null,{"$error":"#DIV/0!"},{"$error":"#DIV/0!"},{"$f":"IF(SUM(#REF!)>0,\"Tak\",\"\")","v":{"$error":"#REF!"}},{"$f":"IF(OR(G974<0,J974<0,#REF!<0,#REF!<0),\"ujemny plan\",\"\")","v":{"$error":"#REF!"}}]
["DWB/7/OF","W podatku dochodowym od osób fizycznych",756,75621,"0010","GMMW",null,null,{"$error":"#DIV/0!"},null,null,{"$error":"#DIV/0!"},{"$error":"#DIV/0!"},{"$f":"IF(SUM(#REF!)>0,\"Tak\",\"\")","v":{"$error":"#REF!"}},{"$f":"IF(OR(G975<0,J975<0,#REF!<0,#REF!<0),\"ujemny plan\",\"\")","v":{"$error":"#REF!"}}]
["DWB/7/OF","W podatku dochodowym od osób fizycznych",756,75622,"0010","PWMW",null,null,{"$error":"#DIV/0!"},null,null,{"$error":"#DIV/0!"},{"$error":"#DIV/0!"},{"$f":"IF(SUM(#REF!)>0,\"Tak\",\"\")","v":{"$error":"#REF!"}},{"$f":"IF(OR(G976<0,J976<0,#REF!<0,#REF!<0),\"ujemny plan\",\"\")","v":{"$error":"#REF!"}}]
["DWB/7/OP","W podatku dochodowym od osób prawnych",null,null,"0020",null,{"$f":"SUM(G978:G979)","v":0},null,{"$error":"#DIV/0!"},0,null,{"$error":"#DIV/0!"},{"$error":"#DIV/0!"},{"$f":"IF(SUM(#REF!)>0,\"Tak\",\"\")","v":{"$error":"#REF!"}},{"$f":"IF(OR(G977<0,J977<0,#REF!<0,#REF!<0),\"ujemny plan\",\"\")","v":{"$error":"#REF!"}}]
["DWB/7/OP","W podatku dochodowym od osób prawnych",756,75621,"0020","GMMW",null,null,{"$error":"#DIV/0!"},null,null,{"$error":"#DIV/0!"},{"$error":"#DIV/0!"},{"$f":"IF(SUM(#REF!)>0,\"Tak\",\"\")","v":{"$error":"#REF!"}},{"$f":"IF(OR(G978<0,J978<0,#REF!<0,#REF!<0),\"ujemny plan\",\"\")","v":{"$error":"#REF!"}}]
["DWB/7/OP","W podatku dochodowym od osób prawnych",756,75622,"0020","PWMW",null,null,{"$error":"#DIV/0!"},null,null,{"$error":"#DIV/0!"},{"$error":"#DIV/0!"},{"$f":"IF(SUM(#REF!)>0,\"Tak\",\"\")","v":{"$error":"#REF!"}},{"$f":"IF(OR(G979<0,J979<0,#REF!<0,#REF!<0),\"ujemny plan\",\"\")","v":{"$error":"#REF!"}}]
["DWB/8","Dotacje z budżetów innych jednostek samorządu terytorialnego",null,null,null,null,{"$f":"SUM(G981:G993)","v":0},null,{"$error":"#DIV/0!"},0,null,{"$error":"#DIV/0!"},{"$error":"#DIV/0!"},{"$f":"IF(SUM(#REF!)>0,\"Tak\",\"\")","v":{"$error":"#REF!"}},{"$f":"IF(OR(G980<0,J980<0,#REF!<0,#REF!<0),\"ujemny plan\",\"\")","v":{"$error":"#REF!"}}]
["DWB/8/KP","Komunikacja podmiejska",600,60004,2310,"GPGM",null,null,{"$error":"#DIV/0!"},null,null,{"$error":"#DIV/0!"},{"$error":"#DIV/0!"},{"$f":"IF(SUM(#REF!)>0,\"Tak\",\"\")","v":{"$error":"#REF!"}},{"$f":"IF(OR(G981<0,J981<0,#REF!<0,#REF!<0),\"ujemny plan\",\"\")","v":{"$error":"#REF!"}}]
["DWB/8/DP","Utrzymanie dzieci w przedszkolach niepublicznych",801,80104,2310,null,null,null,{"$error":"#DIV/0!"},null,null,{"$error":"#DIV/0!"},{"$error":"#DIV/0!"},{"$f":"IF(SUM(#REF!)>0,\"Tak\",\"\")","v":{"$error":"#REF!"}},{"$f":"IF(OR(G982<0,J982<0,#REF!<0,#REF!<0),\"ujemny plan\",\"\")","v":{"$error":"#REF!"}}]
["DWB/8/PS","Utrzymanie dzieci w przedszkolach specjalnych niepublicznych",801,80105,2310,null,null,null,{"$error":"#DIV/0!"},null,null,{"$error":"#DIV/0!"},{"$error":"#DIV/0!"},{"$f":"IF(SUM(#REF!)>0,\"Tak\",\"\")","v":{"$error":"#REF!"}},{"$f":"IF(OR(G983<0,J983<0,#REF!<0,#REF!<0),\"ujemny plan\",\"\")","v":{"$error":"#REF!"}}]
["DWB/8/MP","Zorganizowanie turnusów z przedmiotów zawodowych dla młodocianych pracowników",801,"80117","2320",null,null,null,{"$error":"#DIV/0!"},null,null,{"$error":"#DIV/0!"},{"$error":"#DIV/0!"},{"$f":"IF(SUM(#REF!)>0,\"Tak\",\"\")","v":{"$error":"#REF!"}},{"$f":"IF(OR(G984<0,J984<0,#REF!<0,#REF!<0),\"ujemny plan\",\"\")","v":{"$error":"#REF!"}}]
["DWB/8/IW","Izby Wytrzeźwień",851,85158,2310,null,null,null,{"$error":"#DIV/0!"},null,null,{"$error":"#DIV/0!"},{"$error":"#DIV/0!"},{"$f":"IF(SUM(#REF!)>0,\"Tak\",\"\")","v":{"$error":"#REF!"}},{"$f":"IF(OR(G985<0,J985<0,#REF!<0,#REF!<0),\"ujemny plan\",\"\")","v":{"$error":"#REF!"}}]
["DWB/8/RZ","Utrzymanie dzieci w rodzinach zastępczych","855","85508","2320","PWMW",null,null,{"$error":"#DIV/0!"},null,null,{"$error":"#DIV/0!"},{"$error":"#DIV/0!"},{"$f":"IF(SUM(#REF!)>0,\"Tak\",\"\")","v":{"$error":"#REF!"}},{"$f":"IF(OR(G986<0,J986<0,#REF!<0,#REF!<0),\"ujemny plan\",\"\")","v":{"$error":"#REF!"}}]
["DWB/8/OW","Utrzymanie dzieci w placówkach opiekuńczo-wychowawczych","855","85510","2320","PWMW",null,null,{"$error":"#DIV/0!"},null,null,{"$error":"#DIV/0!"},{"$error":"#DIV/0!"},{"$f":"IF(SUM(#REF!)>0,\"Tak\",\"\")","v":{"$error":"#REF!"}},{"$f":"IF(OR(G987<0,J987<0,#REF!<0,#REF!<0),\"ujemny plan\",\"\")","v":{"$error":"#REF!"}}]
["DWB/8/OS","Ochotnicze Straże Pożarne","754","75412","2330",null,null,null,{"$error":"#DIV/0!"},null,null,{"$error":"#DIV/0!"},{"$error":"#DIV/0!"},{"$f":"IF(SUM(#REF!)>0,\"Tak\",\"\")","v":{"$error":"#REF!"}},{"$f":"IF(OR(G988<0,J988<0,#REF!<0,#REF!<0),\"ujemny plan\",\"\")","v":{"$error":"#REF!"}}]
["DWB/8/BZ","Utrzymanie bezdomnych psów i kotów","900","90013",2310,null,null,null,{"$error":"#DIV/0!"},null,null,{"$error":"#DIV/0!"},{"$error":"#DIV/0!"},{"$f":"IF(SUM(#REF!)>0,\"Tak\",\"\")","v":{"$error":"#REF!"}},{"$f":"IF(OR(G989<0,J989<0,#REF!<0,#REF!<0),\"ujemny plan\",\"\")","v":{"$error":"#REF!"}}]
["DWB/8/PO","Pozostałe dotacje z budżetów innych jednostek samorządu terytorialnego","900","90013",2310,null,null,null,{"$error":"#DIV/0!"},null,null,{"$error":"#DIV/0!"},{"$error":"#DIV/0!"},{"$f":"IF(SUM(#REF!)>0,\"Tak\",\"\")","v":{"$error":"#REF!"}},{"$f":"IF(OR(G990<0,J990<0,#REF!<0,#REF!<0),\"ujemny plan\",\"\")","v":{"$error":"#REF!"}}]
["DWB/8/PO","Pozostałe dotacje z budżetów innych jednostek samorządu terytorialnego","900","90013","2320",null,null,null,{"$error":"#DIV/0!"},null,null,{"$error":"#DIV/0!"},{"$error":"#DIV/0!"},{"$f":"IF(SUM(#REF!)>0,\"Tak\",\"\")","v":{"$error":"#REF!"}},{"$f":"IF(OR(G991<0,J991<0,#REF!<0,#REF!<0),\"ujemny plan\",\"\")","v":{"$error":"#REF!"}}]
["DWB/9/PF","Wpływy z tytułu pomocy finansowej między j.s.t.",null,null,"2710",null,null,null,{"$error":"#DIV/0!"},null,null,{"$error":"#DIV/0!"},{"$error":"#DIV/0!"},{"$f":"IF(SUM(#REF!)>0,\"Tak\",\"\")","v":{"$error":"#REF!"}},{"$f":"IF(OR(G992<0,J992<0,#REF!<0,#REF!<0),\"ujemny plan\",\"\")","v":{"$error":"#REF!"}}]
["DWB/9/PF/WM","Pomoc finansowa z budżetu Województwa Mazowieckiego",null,null,"2710",null,null,null,{"$error":"#DIV/0!"},null,null,{"$error":"#DIV/0!"},{"$error":"#DIV/0!"},{"$f":"IF(SUM(#REF!)>0,\"Tak\",\"\")","v":{"$error":"#REF!"}},{"$f":"IF(OR(G993<0,J993<0,#REF!<0,#REF!<0),\"ujemny plan\",\"\")","v":{"$error":"#REF!"}}]
["DZB","SUBWENCJE, DOTACJE, ŚRODKI Z UNII EUROPEJSKIEJ I Z INNYCH ŹRÓDEŁ NIE PODLEGAJĄCE ZWROTOWI",null,null,null,null,{"$f":"SUM(G995,G1002,G1129,G1148)","v":0},null,{"$error":"#DIV/0!"},0,null,{"$error":"#DIV/0!"},{"$error":"#DIV/0!"},{"$f":"IF(SUM(#REF!)>0,\"Tak\",\"\")","v":{"$error":"#REF!"}},{"$f":"IF(OR(G994<0,J994<0,#REF!<0,#REF!<0),\"ujemny plan\",\"\")","v":{"$error":"#REF!"}}]
["DZB/1","Subwencja ogólna",null,null,"2920",null,{"$f":"SUM(G996:G1001)","v":0},null,{"$error":"#DIV/0!"},0,null,{"$error":"#DIV/0!"},{"$error":"#DIV/0!"},{"$f":"IF(SUM(#REF!)>0,\"Tak\",\"\")","v":{"$error":"#REF!"}},{"$f":"IF(OR(G995<0,J995<0,#REF!<0,#REF!<0),\"ujemny plan\",\"\")","v":{"$error":"#REF!"}}]
["DZB/1/CO","Część oświatowa",758,75801,2920,"GMMW",null,null,{"$error":"#DIV/0!"},null,null,{"$error":"#DIV/0!"},{"$error":"#DIV/0!"},{"$f":"IF(SUM(#REF!)>0,\"Tak\",\"\")","v":{"$error":"#REF!"}},{"$f":"IF(OR(G996<0,J996<0,#REF!<0,#REF!<0),\"ujemny plan\",\"\")","v":{"$error":"#REF!"}}]
["DZB/1/CO","Część oświatowa",758,75801,2920,"PWMW",null,null,{"$error":"#DIV/0!"},null,null,{"$error":"#DIV/0!"},{"$error":"#DIV/0!"},{"$f":"IF(SUM(#REF!)>0,\"Tak\",\"\")","v":{"$error":"#REF!"}},{"$f":"IF(OR(G997<0,J997<0,#REF!<0,#REF!<0),\"ujemny plan\",\"\")","v":{"$error":"#REF!"}}]
["DZB/1/RO","Część równoważąca",758,"75831",2920,"GMMW",null,null,{"$error":"#DIV/0!"},null,null,{"$error":"#DIV/0!"},{"$error":"#DIV/0!"},{"$f":"IF(SUM(#REF!)>0,\"Tak\",\"\")","v":{"$error":"#REF!"}},{"$f":"IF(OR(G998<0,J998<0,#REF!<0,#REF!<0),\"ujemny plan\",\"\")","v":{"$error":"#REF!"}}]
["DZB/1/RO","Część równoważąca",758,75832,2920,"PWMW",null,null,{"$error":"#DIV/0!"},null,null,{"$error":"#DIV/0!"},{"$error":"#DIV/0!"},{"$f":"IF(SUM(#REF!)>0,\"Tak\",\"\")","v":{"$error":"#REF!"}},{"$f":"IF(OR(G999<0,J999<0,#REF!<0,#REF!<0),\"ujemny plan\",\"\")","v":{"$error":"#REF!"}}]
["DZB/1/RO","Część wyrównawcza",758,"75807",2920,"GMMW",null,null,{"$error":"#DIV/0!"},null,null,{"$error":"#DIV/0!"},{"$error":"#DIV/0!"},{"$f":"IF(SUM(#REF!)>0,\"Tak\",\"\")","v":{"$error":"#REF!"}},{"$f":"IF(OR(G1000<0,J1000<0,#REF!<0,#REF!<0),\"ujemny plan\",\"\")","v":{"$error":"#REF!"}}]
["DZB/1/RO","Część wyrównawcza",758,"75803",2920,"PWMW",null,null,{"$error":"#DIV/0!"},null,null,{"$error":"#DIV/0!"},{"$error":"#DIV/0!"},{"$f":"IF(SUM(#REF!)>0,\"Tak\",\"\")","v":{"$error":"#REF!"}},{"$f":"IF(OR(G1001<0,J1001<0,#REF!<0,#REF!<0),\"ujemny plan\",\"\")","v":{"$error":"#REF!"}}]
["DZB/2","Dotacje celowe z budżetu państwa ogółem",null,null,null,null,{"$f":"G1003+G1040+G1112","v":0},null,{"$error":"#DIV/0!"},0,null,{"$error":"#DIV/0!"},{"$error":"#DIV/0!"},{"$f":"IF(SUM(#REF!)>0,\"Tak\",\"\")","v":{"$error":"#REF!"}},{"$f":"IF(OR(G1002<0,J1002<0,#REF!<0,#REF!<0),\"ujemny plan\",\"\")","v":{"$error":"#REF!"}}]
["DZB/2/ZW","Zadania własne",null,null,null,null,{"$f":"SUM(G1004,G1030,G1032)","v":0},null,{"$error":"#DIV/0!"},0,null,{"$error":"#DIV/0!"},{"$error":"#DIV/0!"},{"$f":"IF(SUM(#REF!)>0,\"Tak\",\"\")","v":{"$error":"#REF!"}},{"$f":"IF(OR(G1003<0,J1003<0,#REF!<0,#REF!<0),\"ujemny plan\",\"\")","v":{"$error":"#REF!"}}]
["DZB/2/ZW","Zadania własne",null,null,2030,null,{"$f":"SUM(G1005:G1029)","v":0},null,{"$error":"#DIV/0!"},0,null,{"$error":"#DIV/0!"},{"$error":"#DIV/0!"},{"$f":"IF(SUM(#REF!)>0,\"Tak\",\"\")","v":{"$error":"#REF!"}},{"$f":"IF(OR(G1004<0,J1004<0,#REF!<0,#REF!<0),\"ujemny plan\",\"\")","v":{"$error":"#REF!"}}]
["DZB/2/ZW","Zadania własne","600","60014",2030,"GMMW",null,null,{"$error":"#DIV/0!"},null,null,{"$error":"#DIV/0!"},{"$error":"#DIV/0!"},{"$f":"IF(SUM(#REF!)>0,\"Tak\",\"\")","v":{"$error":"#REF!"}},{"$f":"IF(OR(G1005<0,J1005<0,#REF!<0,#REF!<0),\"ujemny plan\",\"\")","v":{"$error":"#REF!"}}]
["DZB/2/ZW","Zadania własne","600","60078",2030,"GMMW",null,null,{"$error":"#DIV/0!"},null,null,{"$error":"#DIV/0!"},{"$error":"#DIV/0!"},{"$f":"IF(SUM(#REF!)>0,\"Tak\",\"\")","v":{"$error":"#REF!"}},{"$f":"IF(OR(G1006<0,J1006<0,#REF!<0,#REF!<0),\"ujemny plan\",\"\")","v":{"$error":"#REF!"}}]
["DZB/2/ZW","Zadania własne",801,"80101",2030,"GMMW",null,null,{"$error":"#DIV/0!"},null,null,{"$error":"#DIV/0!"},{"$error":"#DIV/0!"},{"$f":"IF(SUM(#REF!)>0,\"Tak\",\"\")","v":{"$error":"#REF!"}},{"$f":"IF(OR(G1007<0,J1007<0,#REF!<0,#REF!<0),\"ujemny plan\",\"\")","v":{"$error":"#REF!"}}]
["DZB/2/ZW","Zadania własne",801,"80104",2030,"GMMW",null,null,{"$error":"#DIV/0!"},null,null,{"$error":"#DIV/0!"},{"$error":"#DIV/0!"},{"$f":"IF(SUM(#REF!)>0,\"Tak\",\"\")","v":{"$error":"#REF!"}},{"$f":"IF(OR(G1008<0,J1008<0,#REF!<0,#REF!<0),\"ujemny plan\",\"\")","v":{"$error":"#REF!"}}]
["DZB/2/ZW","Zadania własne",801,"80115",2030,"GMMW",null,null,{"$error":"#DIV/0!"},null,null,{"$error":"#DIV/0!"},{"$error":"#DIV/0!"},{"$f":"IF(SUM(#REF!)>0,\"Tak\",\"\")","v":{"$error":"#REF!"}},{"$f":"IF(OR(G1009<0,J1009<0,#REF!<0,#REF!<0),\"ujemny plan\",\"\")","v":{"$error":"#REF!"}}]
["DZB/2/ZW","Zadania własne",801,"80116",2030,"GMMW",null,null,{"$error":"#DIV/0!"},null,null,{"$error":"#DIV/0!"},{"$error":"#DIV/0!"},{"$f":"IF(SUM(#REF!)>0,\"Tak\",\"\")","v":{"$error":"#REF!"}},{"$f":"IF(OR(G1010<0,J1010<0,#REF!<0,#REF!<0),\"ujemny plan\",\"\")","v":{"$error":"#REF!"}}]
["DZB/2/ZW","Zadania własne",801,"80117",2030,"GMMW",null,null,{"$error":"#DIV/0!"},null,null,{"$error":"#DIV/0!"},{"$error":"#DIV/0!"},{"$f":"IF(SUM(#REF!)>0,\"Tak\",\"\")","v":{"$error":"#REF!"}},{"$f":"IF(OR(G1011<0,J1011<0,#REF!<0,#REF!<0),\"ujemny plan\",\"\")","v":{"$error":"#REF!"}}]
["DZB/2/ZW","Zadania własne",801,"80120",2030,"GMMW",null,null,{"$error":"#DIV/0!"},null,null,{"$error":"#DIV/0!"},{"$error":"#DIV/0!"},{"$f":"IF(SUM(#REF!)>0,\"Tak\",\"\")","v":{"$error":"#REF!"}},{"$f":"IF(OR(G1012<0,J1012<0,#REF!<0,#REF!<0),\"ujemny plan\",\"\")","v":{"$error":"#REF!"}}]
["DZB/2/ZW","Zadania własne",801,"80121",2030,"GMMW",null,null,{"$error":"#DIV/0!"},null,null,{"$error":"#DIV/0!"},{"$error":"#DIV/0!"},{"$f":"IF(SUM(#REF!)>0,\"Tak\",\"\")","v":{"$error":"#REF!"}},{"$f":"IF(OR(G1013<0,J1013<0,#REF!<0,#REF!<0),\"ujemny plan\",\"\")","v":{"$error":"#REF!"}}]
["DZB/2/ZW","Zadania własne","851","85111",2030,"GMMW",null,null,{"$error":"#DIV/0!"},null,null,{"$error":"#DIV/0!"},{"$error":"#DIV/0!"},{"$f":"IF(SUM(#REF!)>0,\"Tak\",\"\")","v":{"$error":"#REF!"}},{"$f":"IF(OR(G1014<0,J1014<0,#REF!<0,#REF!<0),\"ujemny plan\",\"\")","v":{"$error":"#REF!"}}]
["DZB/2/ZW","Zadania własne",852,85203,2030,"GMMW",null,null,{"$error":"#DIV/0!"},null,null,{"$error":"#DIV/0!"},{"$error":"#DIV/0!"},{"$f":"IF(SUM(#REF!)>0,\"Tak\",\"\")","v":{"$error":"#REF!"}},{"$f":"IF(OR(G1015<0,J1015<0,#REF!<0,#REF!<0),\"ujemny plan\",\"\")","v":{"$error":"#REF!"}}]
["DZB/2/ZW","Zadania własne",852,"85213",2030,"GMMW",null,null,{"$error":"#DIV/0!"},null,null,{"$error":"#DIV/0!"},{"$error":"#DIV/0!"},{"$f":"IF(SUM(#REF!)>0,\"Tak\",\"\")","v":{"$error":"#REF!"}},{"$f":"IF(OR(G1016<0,J1016<0,#REF!<0,#REF!<0),\"ujemny plan\",\"\")","v":{"$error":"#REF!"}}]
["DZB/2/ZW","Zadania własne",852,85214,2030,"GMMW",null,null,{"$error":"#DIV/0!"},null,null,{"$error":"#DIV/0!"},{"$error":"#DIV/0!"},{"$f":"IF(SUM(#REF!)>0,\"Tak\",\"\")","v":{"$error":"#REF!"}},{"$f":"IF(OR(G1017<0,J1017<0,#REF!<0,#REF!<0),\"ujemny plan\",\"\")","v":{"$error":"#REF!"}}]
["DZB/2/ZW","Zadania własne",852,85216,2030,"GMMW",null,null,{"$error":"#DIV/0!"},null,null,{"$error":"#DIV/0!"},{"$error":"#DIV/0!"},{"$f":"IF(SUM(#REF!)>0,\"Tak\",\"\")","v":{"$error":"#REF!"}},{"$f":"IF(OR(G1018<0,J1018<0,#REF!<0,#REF!<0),\"ujemny plan\",\"\")","v":{"$error":"#REF!"}}]
["DZB/2/ZW","Zadania własne",852,85219,2030,"GMMW",null,null,{"$error":"#DIV/0!"},null,null,{"$error":"#DIV/0!"},{"$error":"#DIV/0!"},{"$f":"IF(SUM(#REF!)>0,\"Tak\",\"\")","v":{"$error":"#REF!"}},{"$f":"IF(OR(G1019<0,J1019<0,#REF!<0,#REF!<0),\"ujemny plan\",\"\")","v":{"$error":"#REF!"}}]
["DZB/2/ZW","Zadania własne",852,85228,2030,"GMMW",null,null,{"$error":"#DIV/0!"},null,null,{"$error":"#DIV/0!"},{"$error":"#DIV/0!"},{"$f":"IF(SUM(#REF!)>0,\"Tak\",\"\")","v":{"$error":"#REF!"}},{"$f":"IF(OR(G1020<0,J1020<0,#REF!<0,#REF!<0),\"ujemny plan\",\"\")","v":{"$error":"#REF!"}}]
["DZB/2/ZW","Zadania własne",852,"85230",2030,"GMMW",null,null,{"$error":"#DIV/0!"},null,null,{"$error":"#DIV/0!"},{"$error":"#DIV/0!"},{"$f":"IF(SUM(#REF!)>0,\"Tak\",\"\")","v":{"$error":"#REF!"}},{"$f":"IF(OR(G1021<0,J1021<0,#REF!<0,#REF!<0),\"ujemny plan\",\"\")","v":{"$error":"#REF!"}}]
["DZB/2/ZW","Zadania własne",852,85295,2030,"GMMW",null,null,{"$error":"#DIV/0!"},null,null,{"$error":"#DIV/0!"},{"$error":"#DIV/0!"},{"$f":"IF(SUM(#REF!)>0,\"Tak\",\"\")","v":{"$error":"#REF!"}},{"$f":"IF(OR(G1022<0,J1022<0,#REF!<0,#REF!<0),\"ujemny plan\",\"\")","v":{"$error":"#REF!"}}]
["DZB/2/ZW","Zadania własne","853","85307",2030,"GMMW",null,null,{"$error":"#DIV/0!"},null,null,{"$error":"#DIV/0!"},{"$error":"#DIV/0!"},{"$f":"IF(SUM(#REF!)>0,\"Tak\",\"\")","v":{"$error":"#REF!"}},{"$f":"IF(OR(G1023<0,J1023<0,#REF!<0,#REF!<0),\"ujemny plan\",\"\")","v":{"$error":"#REF!"}}]
["DZB/2/ZW","Zadania własne",854,85415,2030,"GMMW",null,null,{"$error":"#DIV/0!"},null,null,{"$error":"#DIV/0!"},{"$error":"#DIV/0!"},{"$f":"IF(SUM(#REF!)>0,\"Tak\",\"\")","v":{"$error":"#REF!"}},{"$f":"IF(OR(G1024<0,J1024<0,#REF!<0,#REF!<0),\"ujemny plan\",\"\")","v":{"$error":"#REF!"}}]
["DZB/2/ZW","Zadania własne","854","85416",2030,"GMMW",null,null,{"$error":"#DIV/0!"},null,null,{"$error":"#DIV/0!"},{"$error":"#DIV/0!"},{"$f":"IF(SUM(#REF!)>0,\"Tak\",\"\")","v":{"$error":"#REF!"}},{"$f":"IF(OR(G1025<0,J1025<0,#REF!<0,#REF!<0),\"ujemny plan\",\"\")","v":{"$error":"#REF!"}}]
["DZB/2/ZW","Zadania własne","855","85504",2030,"GMMW",null,null,{"$error":"#DIV/0!"},null,null,{"$error":"#DIV/0!"},{"$error":"#DIV/0!"},{"$f":"IF(SUM(#REF!)>0,\"Tak\",\"\")","v":{"$error":"#REF!"}},{"$f":"IF(OR(G1026<0,J1026<0,#REF!<0,#REF!<0),\"ujemny plan\",\"\")","v":{"$error":"#REF!"}}]
["DZB/2/ZW","Zadania własne","855","85505",2030,"GMMW",null,null,{"$error":"#DIV/0!"},null,null,{"$error":"#DIV/0!"},{"$error":"#DIV/0!"},{"$f":"IF(SUM(#REF!)>0,\"Tak\",\"\")","v":{"$error":"#REF!"}},{"$f":"IF(OR(G1027<0,J1027<0,#REF!<0,#REF!<0),\"ujemny plan\",\"\")","v":{"$error":"#REF!"}}]
["DZB/2/ZW","Zadania własne","855","85506",2030,"GMMW",null,null,{"$error":"#DIV/0!"},null,null,{"$error":"#DIV/0!"},{"$error":"#DIV/0!"},{"$f":"IF(SUM(#REF!)>0,\"Tak\",\"\")","v":{"$error":"#REF!"}},{"$f":"IF(OR(G1028<0,J1028<0,#REF!<0,#REF!<0),\"ujemny plan\",\"\")","v":{"$error":"#REF!"}}]
["DZB/2/ZW","Zadania własne","855","85507",2030,"GMMW",null,null,{"$error":"#DIV/0!"},null,null,{"$error":"#DIV/0!"},{"$error":"#DIV/0!"},{"$f":"IF(SUM(#REF!)>0,\"Tak\",\"\")","v":{"$error":"#REF!"}},{"$f":"IF(OR(G1029<0,J1029<0,#REF!<0,#REF!<0),\"ujemny plan\",\"\")","v":{"$error":"#REF!"}}]
["DZB/2/ZW","Zadania własne",null,null,"2040",null,{"$f":"SUM(G1031)","v":0},null,{"$error":"#DIV/0!"},0,null,{"$error":"#DIV/0!"},{"$error":"#DIV/0!"},{"$f":"IF(SUM(#REF!)>0,\"Tak\",\"\")","v":{"$error":"#REF!"}},{"$f":"IF(OR(G1030<0,J1030<0,#REF!<0,#REF!<0),\"ujemny plan\",\"\")","v":{"$error":"#REF!"}}]
["DZB/2/ZW","Zadania własne",854,85415,"2040","GMMW",null,null,{"$error":"#DIV/0!"},null,null,{"$error":"#DIV/0!"},{"$error":"#DIV/0!"},{"$f":"IF(SUM(#REF!)>0,\"Tak\",\"\")","v":{"$error":"#REF!"}},{"$f":"IF(OR(G1031<0,J1031<0,#REF!<0,#REF!<0),\"ujemny plan\",\"\")","v":{"$error":"#REF!"}}]
["DZB/2/ZW","Zadania własne",null,null,2130,null,{"$f":"SUM(G1033:G1039)","v":0},null,{"$error":"#DIV/0!"},0,null,{"$error":"#DIV/0!"},{"$f":"IF(SUM(G1032:L1032)>0,\"Tak\",\"\")","v":{"$error":"#DIV/0!"}},{"$f":"IF(SUM(#REF!)>0,\"Tak\",\"\")","v":{"$error":"#REF!"}},{"$f":"IF(OR(G1032<0,J1032<0,#REF!<0,#REF!<0),\"ujemny plan\",\"\")","v":{"$error":"#REF!"}}]
["DZB/2/ZW","Zadania własne","801","80102",2130,"PWMW",null,null,{"$f":"H1033/G1033","v":{"$error":"#DIV/0!"}},null,null,{"$f":"K1033/J1033","v":{"$error":"#DIV/0!"}},{"$error":"#DIV/0!"},{"$f":"IF(SUM(#REF!)>0,\"Tak\",\"\")","v":{"$error":"#REF!"}},{"$f":"IF(OR(G1033<0,J1033<0,#REF!<0,#REF!<0),\"ujemny plan\",\"\")","v":{"$error":"#REF!"}}]
["DZB/2/ZW","Zadania własne","801","80121",2130,"PWMW",null,null,{"$error":"#DIV/0!"},null,null,{"$error":"#DIV/0!"},{"$error":"#DIV/0!"},{"$f":"IF(SUM(#REF!)>0,\"Tak\",\"\")","v":{"$error":"#REF!"}},{"$f":"IF(OR(G1034<0,J1034<0,#REF!<0,#REF!<0),\"ujemny plan\",\"\")","v":{"$error":"#REF!"}}]
["DZB/2/ZW","Zadania własne",801,"80134",2130,"PWMW",null,null,{"$error":"#DIV/0!"},null,null,{"$error":"#DIV/0!"},{"$error":"#DIV/0!"},{"$f":"IF(SUM(#REF!)>0,\"Tak\",\"\")","v":{"$error":"#REF!"}},{"$f":"IF(OR(G1035<0,J1035<0,#REF!<0,#REF!<0),\"ujemny plan\",\"\")","v":{"$error":"#REF!"}}]
["DZB/2/ZW","Zadania własne",852,85202,2130,"PWMW",null,null,{"$error":"#DIV/0!"},null,null,{"$error":"#DIV/0!"},{"$error":"#DIV/0!"},{"$f":"IF(SUM(#REF!)>0,\"Tak\",\"\")","v":{"$error":"#REF!"}},{"$f":"IF(OR(G1036<0,J1036<0,#REF!<0,#REF!<0),\"ujemny plan\",\"\")","v":{"$error":"#REF!"}}]
["DZB/2/ZW","Zadania własne",852,85218,2130,"PWMW",null,null,{"$error":"#DIV/0!"},null,null,{"$error":"#DIV/0!"},{"$error":"#DIV/0!"},{"$f":"IF(SUM(#REF!)>0,\"Tak\",\"\")","v":{"$error":"#REF!"}},{"$f":"IF(OR(G1037<0,J1037<0,#REF!<0,#REF!<0),\"ujemny plan\",\"\")","v":{"$error":"#REF!"}}]
["DZB/2/ZW","Zadania własne",852,85220,2130,null,null,null,{"$error":"#DIV/0!"},null,null,{"$error":"#DIV/0!"},{"$error":"#DIV/0!"},{"$f":"IF(SUM(#REF!)>0,\"Tak\",\"\")","v":{"$error":"#REF!"}},{"$f":"IF(OR(G1038<0,J1038<0,#REF!<0,#REF!<0),\"ujemny plan\",\"\")","v":{"$error":"#REF!"}}]
["DZB/2/ZW","Zadania własne","855","85510",2130,"PWMW",null,null,{"$error":"#DIV/0!"},null,null,{"$error":"#DIV/0!"},{"$error":"#DIV/0!"},{"$f":"IF(SUM(#REF!)>0,\"Tak\",\"\")","v":{"$error":"#REF!"}},{"$f":"IF(OR(G1039<0,J1039<0,#REF!<0,#REF!<0),\"ujemny plan\",\"\")","v":{"$error":"#REF!"}}]
["DZB/2/ZZ","Zadania zlecone",null,null,null,null,{"$f":"SUM(G1041,G1077,G1080,G1107)","v":0},null,{"$error":"#DIV/0!"},0,null,{"$error":"#DIV/0!"},{"$error":"#DIV/0!"},{"$f":"IF(SUM(#REF!)>0,\"Tak\",\"\")","v":{"$error":"#REF!"}},{"$f":"IF(OR(G1040<0,J1040<0,#REF!<0,#REF!<0),\"ujemny plan\",\"\")","v":{"$error":"#REF!"}}]
["DZB/2/ZZ","Zadania zlecone",null,null,2010,null,{"$f":"SUM(G1042:G1076)","v":0},null,{"$error":"#DIV/0!"},0,null,{"$error":"#DIV/0!"},{"$error":"#DIV/0!"},{"$f":"IF(SUM(#REF!)>0,\"Tak\",\"\")","v":{"$error":"#REF!"}},{"$f":"IF(OR(G1041<0,J1041<0,#REF!<0,#REF!<0),\"ujemny plan\",\"\")","v":{"$error":"#REF!"}}]
["DZB/2/ZZ","Zadania zlecone","010","01095","2010","GZWM",null,null,{"$error":"#DIV/0!"},null,null,{"$error":"#DIV/0!"},{"$error":"#DIV/0!"},{"$f":"IF(SUM(#REF!)>0,\"Tak\",\"\")","v":{"$error":"#REF!"}},{"$f":"IF(OR(G1042<0,J1042<0,#REF!<0,#REF!<0),\"ujemny plan\",\"\")","v":{"$error":"#REF!"}}]
["DZB/2/ZZ","Zadania zlecone","600","60095","2010","PZWM",null,null,{"$error":"#DIV/0!"},null,null,{"$error":"#DIV/0!"},{"$error":"#DIV/0!"},{"$f":"IF(SUM(#REF!)>0,\"Tak\",\"\")","v":{"$error":"#REF!"}},{"$f":"IF(OR(G1043<0,J1043<0,#REF!<0,#REF!<0),\"ujemny plan\",\"\")","v":{"$error":"#REF!"}}]
["DZB/2/ZZ","Zadania zlecone",750,75011,2010,"GZWM",null,null,{"$error":"#DIV/0!"},null,null,{"$error":"#DIV/0!"},{"$error":"#DIV/0!"},{"$f":"IF(SUM(#REF!)>0,\"Tak\",\"\")","v":{"$error":"#REF!"}},{"$f":"IF(OR(G1044<0,J1044<0,#REF!<0,#REF!<0),\"ujemny plan\",\"\")","v":{"$error":"#REF!"}}]
["DZB/2/ZZ","Zadania zlecone","750","75056",2010,"GZWM",null,null,{"$error":"#DIV/0!"},null,null,{"$error":"#DIV/0!"},{"$error":"#DIV/0!"},{"$f":"IF(SUM(#REF!)>0,\"Tak\",\"\")","v":{"$error":"#REF!"}},{"$f":"IF(OR(G1045<0,J1045<0,#REF!<0,#REF!<0),\"ujemny plan\",\"\")","v":{"$error":"#REF!"}}]
["DZB/2/ZZ","Zadania zlecone",751,75101,2010,"GZBW",null,null,{"$error":"#DIV/0!"},null,null,{"$error":"#DIV/0!"},{"$error":"#DIV/0!"},{"$f":"IF(SUM(#REF!)>0,\"Tak\",\"\")","v":{"$error":"#REF!"}},{"$f":"IF(OR(G1046<0,J1046<0,#REF!<0,#REF!<0),\"ujemny plan\",\"\")","v":{"$error":"#REF!"}}]
["DZB/2/ZZ","Zadania zlecone",751,75107,2010,"GZBW",null,null,{"$error":"#DIV/0!"},null,null,{"$error":"#DIV/0!"},{"$error":"#DIV/0!"},{"$f":"IF(SUM(#REF!)>0,\"Tak\",\"\")","v":{"$error":"#REF!"}},{"$f":"IF(OR(G1047<0,J1047<0,#REF!<0,#REF!<0),\"ujemny plan\",\"\")","v":{"$error":"#REF!"}}]
["DZB/2/ZZ","Zadania zlecone",751,75109,2010,"GZBW",null,null,{"$error":"#DIV/0!"},null,null,{"$error":"#DIV/0!"},{"$error":"#DIV/0!"},{"$f":"IF(SUM(#REF!)>0,\"Tak\",\"\")","v":{"$error":"#REF!"}},{"$f":"IF(OR(G1048<0,J1048<0,#REF!<0,#REF!<0),\"ujemny plan\",\"\")","v":{"$error":"#REF!"}}]
["DZB/2/ZZ","Zadania zlecone",751,75113,2010,"GZBW",null,null,{"$error":"#DIV/0!"},null,null,{"$error":"#DIV/0!"},{"$error":"#DIV/0!"},{"$f":"IF(SUM(#REF!)>0,\"Tak\",\"\")","v":{"$error":"#REF!"}},{"$f":"IF(OR(G1049<0,J1049<0,#REF!<0,#REF!<0),\"ujemny plan\",\"\")","v":{"$error":"#REF!"}}]
["DZB/2/ZZ","Zadania zlecone",754,75414,2010,"GZWM",null,null,{"$error":"#DIV/0!"},null,null,{"$error":"#DIV/0!"},{"$error":"#DIV/0!"},{"$f":"IF(SUM(#REF!)>0,\"Tak\",\"\")","v":{"$error":"#REF!"}},{"$f":"IF(OR(G1050<0,J1050<0,#REF!<0,#REF!<0),\"ujemny plan\",\"\")","v":{"$error":"#REF!"}}]
["DZB/2/ZZ","Zadania zlecone","755",75515,2010,"PZWM",null,null,{"$error":"#DIV/0!"},null,null,{"$error":"#DIV/0!"},{"$error":"#DIV/0!"},{"$f":"IF(SUM(#REF!)>0,\"Tak\",\"\")","v":{"$error":"#REF!"}},{"$f":"IF(OR(G1051<0,J1051<0,#REF!<0,#REF!<0),\"ujemny plan\",\"\")","v":{"$error":"#REF!"}}]
["DZB/2/ZZ","Zadania zlecone","801",80101,2010,"GZWM",null,null,{"$error":"#DIV/0!"},null,null,{"$error":"#DIV/0!"},{"$error":"#DIV/0!"},{"$f":"IF(SUM(#REF!)>0,\"Tak\",\"\")","v":{"$error":"#REF!"}},{"$f":"IF(OR(G1052<0,J1052<0,#REF!<0,#REF!<0),\"ujemny plan\",\"\")","v":{"$error":"#REF!"}}]
["DZB/2/ZZ","Zadania zlecone","801",80102,2010,"PZWM",null,null,{"$error":"#DIV/0!"},null,null,{"$error":"#DIV/0!"},{"$error":"#DIV/0!"},{"$f":"IF(SUM(#REF!)>0,\"Tak\",\"\")","v":{"$error":"#REF!"}},{"$f":"IF(OR(G1053<0,J1053<0,#REF!<0,#REF!<0),\"ujemny plan\",\"\")","v":{"$error":"#REF!"}}]
["DZB/2/ZW","Zadania własne",801,"80115","2010","GZWM",null,null,{"$error":"#DIV/0!"},null,null,{"$error":"#DIV/0!"},{"$error":"#DIV/0!"},{"$f":"IF(SUM(#REF!)>0,\"Tak\",\"\")","v":{"$error":"#REF!"}},{"$f":"IF(OR(G1054<0,J1054<0,#REF!<0,#REF!<0),\"ujemny plan\",\"\")","v":{"$error":"#REF!"}}]
["DZB/2/ZW","Zadania własne",801,"80116","2010","GZWM",null,null,{"$error":"#DIV/0!"},null,null,{"$error":"#DIV/0!"},{"$error":"#DIV/0!"},{"$f":"IF(SUM(#REF!)>0,\"Tak\",\"\")","v":{"$error":"#REF!"}},{"$f":"IF(OR(G1055<0,J1055<0,#REF!<0,#REF!<0),\"ujemny plan\",\"\")","v":{"$error":"#REF!"}}]
["DZB/2/ZW","Zadania własne",801,"80117","2010","GZWM",null,null,{"$error":"#DIV/0!"},null,null,{"$error":"#DIV/0!"},{"$error":"#DIV/0!"},{"$f":"IF(SUM(#REF!)>0,\"Tak\",\"\")","v":{"$error":"#REF!"}},{"$f":"IF(OR(G1056<0,J1056<0,#REF!<0,#REF!<0),\"ujemny plan\",\"\")","v":{"$error":"#REF!"}}]
["DZB/2/ZW","Zadania własne",801,"80120","2010","GZWM",null,null,{"$error":"#DIV/0!"},null,null,{"$error":"#DIV/0!"},{"$error":"#DIV/0!"},{"$f":"IF(SUM(#REF!)>0,\"Tak\",\"\")","v":{"$error":"#REF!"}},{"$f":"IF(OR(G1057<0,J1057<0,#REF!<0,#REF!<0),\"ujemny plan\",\"\")","v":{"$error":"#REF!"}}]
["DZB/2/ZW","Zadania własne",801,"80121","2010","GZWM",null,null,{"$error":"#DIV/0!"},null,null,{"$error":"#DIV/0!"},{"$error":"#DIV/0!"},{"$f":"IF(SUM(#REF!)>0,\"Tak\",\"\")","v":{"$error":"#REF!"}},{"$f":"IF(OR(G1058<0,J1058<0,#REF!<0,#REF!<0),\"ujemny plan\",\"\")","v":{"$error":"#REF!"}}]
["DZB/2/ZZ","Zadania zlecone","801",80132,2010,"GZWM",null,null,{"$error":"#DIV/0!"},null,null,{"$error":"#DIV/0!"},{"$error":"#DIV/0!"},{"$f":"IF(SUM(#REF!)>0,\"Tak\",\"\")","v":{"$error":"#REF!"}},{"$f":"IF(OR(G1059<0,J1059<0,#REF!<0,#REF!<0),\"ujemny plan\",\"\")","v":{"$error":"#REF!"}}]
["DZB/2/ZZ","Zadania zlecone","801",80150,2010,"GZWM",null,null,{"$error":"#DIV/0!"},null,null,{"$error":"#DIV/0!"},{"$error":"#DIV/0!"},{"$f":"IF(SUM(#REF!)>0,\"Tak\",\"\")","v":{"$error":"#REF!"}},{"$f":"IF(OR(G1060<0,J1060<0,#REF!<0,#REF!<0),\"ujemny plan\",\"\")","v":{"$error":"#REF!"}}]
["DZB/2/ZZ","Zadania zlecone",851,85156,2010,"GZWM",null,null,{"$error":"#DIV/0!"},null,null,{"$error":"#DIV/0!"},{"$error":"#DIV/0!"},{"$f":"IF(SUM(#REF!)>0,\"Tak\",\"\")","v":{"$error":"#REF!"}},{"$f":"IF(OR(G1061<0,J1061<0,#REF!<0,#REF!<0),\"ujemny plan\",\"\")","v":{"$error":"#REF!"}}]
["DZB/2/ZZ","Zadania zlecone",851,85195,2010,"GZWM",null,null,{"$error":"#DIV/0!"},null,null,{"$error":"#DIV/0!"},{"$error":"#DIV/0!"},{"$f":"IF(SUM(#REF!)>0,\"Tak\",\"\")","v":{"$error":"#REF!"}},{"$f":"IF(OR(G1062<0,J1062<0,#REF!<0,#REF!<0),\"ujemny plan\",\"\")","v":{"$error":"#REF!"}}]
["DZB/2/ZZ","Zadania zlecone",852,85203,2010,"GZWM",null,null,{"$error":"#DIV/0!"},null,null,{"$error":"#DIV/0!"},{"$error":"#DIV/0!"},{"$f":"IF(SUM(#REF!)>0,\"Tak\",\"\")","v":{"$error":"#REF!"}},{"$f":"IF(OR(G1063<0,J1063<0,#REF!<0,#REF!<0),\"ujemny plan\",\"\")","v":{"$error":"#REF!"}}]
["DZB/2/ZZ","Zadania zlecone",852,85213,2010,"GZWM",null,null,{"$error":"#DIV/0!"},null,null,{"$error":"#DIV/0!"},{"$error":"#DIV/0!"},{"$f":"IF(SUM(#REF!)>0,\"Tak\",\"\")","v":{"$error":"#REF!"}},{"$f":"IF(OR(G1064<0,J1064<0,#REF!<0,#REF!<0),\"ujemny plan\",\"\")","v":{"$error":"#REF!"}}]
["DZB/2/ZZ","Zadania zlecone",852,"85215",2010,"GZWM",null,null,{"$error":"#DIV/0!"},null,null,{"$error":"#DIV/0!"},{"$error":"#DIV/0!"},{"$f":"IF(SUM(#REF!)>0,\"Tak\",\"\")","v":{"$error":"#REF!"}},{"$f":"IF(OR(G1065<0,J1065<0,#REF!<0,#REF!<0),\"ujemny plan\",\"\")","v":{"$error":"#REF!"}}]
["DZB/2/ZZ","Zadania zlecone",852,85219,2010,"GZWM",null,null,{"$error":"#DIV/0!"},null,null,{"$error":"#DIV/0!"},{"$error":"#DIV/0!"},{"$f":"IF(SUM(#REF!)>0,\"Tak\",\"\")","v":{"$error":"#REF!"}},{"$f":"IF(OR(G1066<0,J1066<0,#REF!<0,#REF!<0),\"ujemny plan\",\"\")","v":{"$error":"#REF!"}}]
["DZB/2/ZZ","Zadania zlecone",852,85228,2010,"GZWM",null,null,{"$error":"#DIV/0!"},null,null,{"$error":"#DIV/0!"},{"$error":"#DIV/0!"},{"$f":"IF(SUM(#REF!)>0,\"Tak\",\"\")","v":{"$error":"#REF!"}},{"$f":"IF(OR(G1067<0,J1067<0,#REF!<0,#REF!<0),\"ujemny plan\",\"\")","v":{"$error":"#REF!"}}]
["DZB/2/ZZ","Zadania zlecone",852,85231,2010,"GZWM",null,null,{"$error":"#DIV/0!"},null,null,{"$error":"#DIV/0!"},{"$error":"#DIV/0!"},{"$f":"IF(SUM(#REF!)>0,\"Tak\",\"\")","v":{"$error":"#REF!"}},{"$f":"IF(OR(G1068<0,J1068<0,#REF!<0,#REF!<0),\"ujemny plan\",\"\")","v":{"$error":"#REF!"}}]
["DZB/2/ZZ","Zadania zlecone",852,85278,2010,null,null,null,{"$error":"#DIV/0!"},null,null,{"$error":"#DIV/0!"},{"$error":"#DIV/0!"},{"$f":"IF(SUM(#REF!)>0,\"Tak\",\"\")","v":{"$error":"#REF!"}},{"$f":"IF(OR(G1069<0,J1069<0,#REF!<0,#REF!<0),\"ujemny plan\",\"\")","v":{"$error":"#REF!"}}]
["DZB/2/ZZ","Zadania zlecone",852,85295,"2010","GZKR",null,null,{"$error":"#DIV/0!"},null,null,{"$error":"#DIV/0!"},{"$error":"#DIV/0!"},{"$f":"IF(SUM(#REF!)>0,\"Tak\",\"\")","v":{"$error":"#REF!"}},{"$f":"IF(OR(G1070<0,J1070<0,#REF!<0,#REF!<0),\"ujemny plan\",\"\")","v":{"$error":"#REF!"}}]
["DZB/2/ZZ","Zadania zlecone",852,85295,2010,"GZWM",null,null,{"$error":"#DIV/0!"},null,null,{"$error":"#DIV/0!"},{"$error":"#DIV/0!"},{"$f":"IF(SUM(#REF!)>0,\"Tak\",\"\")","v":{"$error":"#REF!"}},{"$f":"IF(OR(G1071<0,J1071<0,#REF!<0,#REF!<0),\"ujemny plan\",\"\")","v":{"$error":"#REF!"}}]
["DZB/2/ZZ","Zadania zlecone","853","85395",2010,"PZWM",null,null,{"$error":"#DIV/0!"},null,null,{"$error":"#DIV/0!"},{"$error":"#DIV/0!"},{"$f":"IF(SUM(#REF!)>0,\"Tak\",\"\")","v":{"$error":"#REF!"}},{"$f":"IF(OR(G1072<0,J1072<0,#REF!<0,#REF!<0),\"ujemny plan\",\"\")","v":{"$error":"#REF!"}}]
["DZB/2/ZZ","Zadania zlecone","855","85502",2010,"GZWM",null,null,{"$error":"#DIV/0!"},null,null,{"$error":"#DIV/0!"},{"$error":"#DIV/0!"},{"$f":"IF(SUM(#REF!)>0,\"Tak\",\"\")","v":{"$error":"#REF!"}},{"$f":"IF(OR(G1073<0,J1073<0,#REF!<0,#REF!<0),\"ujemny plan\",\"\")","v":{"$error":"#REF!"}}]
["DZB/2/ZZ","Zadania zlecone","855","85503","2010","GZKR",null,null,{"$error":"#DIV/0!"},null,null,{"$error":"#DIV/0!"},{"$error":"#DIV/0!"},{"$f":"IF(SUM(#REF!)>0,\"Tak\",\"\")","v":{"$error":"#REF!"}},{"$f":"IF(OR(G1074<0,J1074<0,#REF!<0,#REF!<0),\"ujemny plan\",\"\")","v":{"$error":"#REF!"}}]
["DZB/2/ZZ","Zadania zlecone","855","85503",2010,"GZWM",null,null,{"$error":"#DIV/0!"},null,null,{"$error":"#DIV/0!"},{"$error":"#DIV/0!"},{"$f":"IF(SUM(#REF!)>0,\"Tak\",\"\")","v":{"$error":"#REF!"}},{"$f":"IF(OR(G1075<0,J1075<0,#REF!<0,#REF!<0),\"ujemny plan\",\"\")","v":{"$error":"#REF!"}}]
["DZB/2/ZZ","Zadania zlecone","855","85595",2010,"GZWM",null,null,{"$error":"#DIV/0!"},null,null,{"$error":"#DIV/0!"},{"$error":"#DIV/0!"},{"$f":"IF(SUM(#REF!)>0,\"Tak\",\"\")","v":{"$error":"#REF!"}},{"$f":"IF(OR(G1076<0,J1076<0,#REF!<0,#REF!<0),\"ujemny plan\",\"\")","v":{"$error":"#REF!"}}]
["DZB/2/ZZ","Zadania zlecone",null,null,"2060",null,{"$f":"SUM(G1078:G1079)","v":0},null,{"$error":"#DIV/0!"},0,null,{"$error":"#DIV/0!"},{"$error":"#DIV/0!"},{"$f":"IF(SUM(#REF!)>0,\"Tak\",\"\")","v":{"$error":"#REF!"}},{"$f":"IF(OR(G1077<0,J1077<0,#REF!<0,#REF!<0),\"ujemny plan\",\"\")","v":{"$error":"#REF!"}}]
["DZB/2/ZZ","Zadania zlecone","852","85211","2060","GZSW",null,null,{"$error":"#DIV/0!"},null,null,{"$error":"#DIV/0!"},{"$error":"#DIV/0!"},{"$f":"IF(SUM(#REF!)>0,\"Tak\",\"\")","v":{"$error":"#REF!"}},{"$f":"IF(OR(G1078<0,J1078<0,#REF!<0,#REF!<0),\"ujemny plan\",\"\")","v":{"$error":"#REF!"}}]
["DZB/2/ZZ","Zadania zlecone","855","85501","2060","GZSW",null,null,{"$error":"#DIV/0!"},null,null,{"$error":"#DIV/0!"},{"$error":"#DIV/0!"},{"$f":"IF(SUM(#REF!)>0,\"Tak\",\"\")","v":{"$error":"#REF!"}},{"$f":"IF(OR(G1079<0,J1079<0,#REF!<0,#REF!<0),\"ujemny plan\",\"\")","v":{"$error":"#REF!"}}]
["DZB/2/ZZ","Zadania zlecone",null,null,2110,null,{"$f":"SUM(G1081:G1106)","v":0},null,{"$error":"#DIV/0!"},0,null,{"$error":"#DIV/0!"},{"$error":"#DIV/0!"},{"$f":"IF(SUM(#REF!)>0,\"Tak\",\"\")","v":{"$error":"#REF!"}},{"$f":"IF(OR(G1080<0,J1080<0,#REF!<0,#REF!<0),\"ujemny plan\",\"\")","v":{"$error":"#REF!"}}]
["DZB/2/ZZ","Zadania zlecone","600","60095",2110,"PZWM",null,null,{"$error":"#DIV/0!"},null,null,{"$error":"#DIV/0!"},{"$error":"#DIV/0!"},{"$f":"IF(SUM(#REF!)>0,\"Tak\",\"\")","v":{"$error":"#REF!"}},{"$f":"IF(OR(G1081<0,J1081<0,#REF!<0,#REF!<0),\"ujemny plan\",\"\")","v":{"$error":"#REF!"}}]
["DZB/2/ZZ","Zadania zlecone",700,70005,2110,"PZWM",null,null,{"$error":"#DIV/0!"},null,null,{"$error":"#DIV/0!"},{"$error":"#DIV/0!"},{"$f":"IF(SUM(#REF!)>0,\"Tak\",\"\")","v":{"$error":"#REF!"}},{"$f":"IF(OR(G1082<0,J1082<0,#REF!<0,#REF!<0),\"ujemny plan\",\"\")","v":{"$error":"#REF!"}}]
["DZB/2/ZZ","Zadania zlecone",710,"71012",2110,"PZWM",null,null,{"$error":"#DIV/0!"},null,null,{"$error":"#DIV/0!"},{"$error":"#DIV/0!"},{"$f":"IF(SUM(#REF!)>0,\"Tak\",\"\")","v":{"$error":"#REF!"}},{"$f":"IF(OR(G1083<0,J1083<0,#REF!<0,#REF!<0),\"ujemny plan\",\"\")","v":{"$error":"#REF!"}}]
["DZB/2/ZZ","Zadania zlecone",710,71014,2110,"PZWM",null,null,{"$error":"#DIV/0!"},null,null,{"$error":"#DIV/0!"},{"$error":"#DIV/0!"},{"$f":"IF(SUM(#REF!)>0,\"Tak\",\"\")","v":{"$error":"#REF!"}},{"$f":"IF(OR(G1084<0,J1084<0,#REF!<0,#REF!<0),\"ujemny plan\",\"\")","v":{"$error":"#REF!"}}]
["DZB/2/ZZ","Zadania zlecone",710,71015,2110,"PZWM",null,null,{"$error":"#DIV/0!"},null,null,{"$error":"#DIV/0!"},{"$error":"#DIV/0!"},{"$f":"IF(SUM(#REF!)>0,\"Tak\",\"\")","v":{"$error":"#REF!"}},{"$f":"IF(OR(G1085<0,J1085<0,#REF!<0,#REF!<0),\"ujemny plan\",\"\")","v":{"$error":"#REF!"}}]
["DZB/2/ZZ","Zadania zlecone",750,75011,2110,"PZWM",null,null,{"$error":"#DIV/0!"},null,null,{"$error":"#DIV/0!"},{"$error":"#DIV/0!"},{"$f":"IF(SUM(#REF!)>0,\"Tak\",\"\")","v":{"$error":"#REF!"}},{"$f":"IF(OR(G1086<0,J1086<0,#REF!<0,#REF!<0),\"ujemny plan\",\"\")","v":{"$error":"#REF!"}}]
["DZB/2/ZZ","Zadania zlecone",750,75045,2110,"PZWM",null,null,{"$error":"#DIV/0!"},null,null,{"$error":"#DIV/0!"},{"$error":"#DIV/0!"},{"$f":"IF(SUM(#REF!)>0,\"Tak\",\"\")","v":{"$error":"#REF!"}},{"$f":"IF(OR(G1087<0,J1087<0,#REF!<0,#REF!<0),\"ujemny plan\",\"\")","v":{"$error":"#REF!"}}]
["DZB/2/ZZ","Zadania zlecone","752","75212",2110,"PZWM",null,null,{"$error":"#DIV/0!"},null,null,{"$error":"#DIV/0!"},{"$error":"#DIV/0!"},{"$f":"IF(SUM(#REF!)>0,\"Tak\",\"\")","v":{"$error":"#REF!"}},{"$f":"IF(OR(G1088<0,J1088<0,#REF!<0,#REF!<0),\"ujemny plan\",\"\")","v":{"$error":"#REF!"}}]
["DZB/2/ZZ","Zadania zlecone","752","75295",2110,"PZWM",null,null,{"$error":"#DIV/0!"},null,null,{"$error":"#DIV/0!"},{"$error":"#DIV/0!"},{"$f":"IF(SUM(#REF!)>0,\"Tak\",\"\")","v":{"$error":"#REF!"}},{"$f":"IF(OR(G1089<0,J1089<0,#REF!<0,#REF!<0),\"ujemny plan\",\"\")","v":{"$error":"#REF!"}}]
["DZB/2/ZZ","Zadania zlecone",754,75411,2110,"PZWM",null,null,{"$error":"#DIV/0!"},null,null,{"$error":"#DIV/0!"},{"$error":"#DIV/0!"},{"$f":"IF(SUM(#REF!)>0,\"Tak\",\"\")","v":{"$error":"#REF!"}},{"$f":"IF(OR(G1090<0,J1090<0,#REF!<0,#REF!<0),\"ujemny plan\",\"\")","v":{"$error":"#REF!"}}]
["DZB/2/ZZ","Zadania zlecone","755","75515",2110,"PZWM",null,null,{"$error":"#DIV/0!"},null,null,{"$error":"#DIV/0!"},{"$error":"#DIV/0!"},{"$f":"IF(SUM(#REF!)>0,\"Tak\",\"\")","v":{"$error":"#REF!"}},{"$f":"IF(OR(G1091<0,J1091<0,#REF!<0,#REF!<0),\"ujemny plan\",\"\")","v":{"$error":"#REF!"}}]
["DZB/2/ZZ","Zadania zlecone",758,75814,2110,"PZWM",null,null,{"$error":"#DIV/0!"},null,null,{"$error":"#DIV/0!"},{"$error":"#DIV/0!"},{"$f":"IF(SUM(#REF!)>0,\"Tak\",\"\")","v":{"$error":"#REF!"}},{"$f":"IF(OR(G1092<0,J1092<0,#REF!<0,#REF!<0),\"ujemny plan\",\"\")","v":{"$error":"#REF!"}}]
["DZB/2/ZZ","Zadania zlecone","801","80102",2110,"PZWM",null,null,{"$error":"#DIV/0!"},null,null,{"$error":"#DIV/0!"},{"$error":"#DIV/0!"},{"$f":"IF(SUM(#REF!)>0,\"Tak\",\"\")","v":{"$error":"#REF!"}},{"$f":"IF(OR(G1093<0,J1093<0,#REF!<0,#REF!<0),\"ujemny plan\",\"\")","v":{"$error":"#REF!"}}]
["DZB/2/ZZ","Zadania zlecone",851,85156,2110,"PZWM",null,null,{"$error":"#DIV/0!"},null,null,{"$error":"#DIV/0!"},{"$error":"#DIV/0!"},{"$f":"IF(SUM(#REF!)>0,\"Tak\",\"\")","v":{"$error":"#REF!"}},{"$f":"IF(OR(G1094<0,J1094<0,#REF!<0,#REF!<0),\"ujemny plan\",\"\")","v":{"$error":"#REF!"}}]
["DZB/2/ZZ","Zadania zlecone",852,85203,2110,"PZWM",null,null,{"$error":"#DIV/0!"},null,null,{"$error":"#DIV/0!"},{"$error":"#DIV/0!"},{"$f":"IF(SUM(#REF!)>0,\"Tak\",\"\")","v":{"$error":"#REF!"}},{"$f":"IF(OR(G1095<0,J1095<0,#REF!<0,#REF!<0),\"ujemny plan\",\"\")","v":{"$error":"#REF!"}}]
["DZB/2/ZZ","Zadania zlecone",852,85204,2110,"PZWM",null,null,{"$error":"#DIV/0!"},null,null,{"$error":"#DIV/0!"},{"$f":"IF(SUM(G1096:L1096)>0,\"Tak\",\"\")","v":{"$error":"#DIV/0!"}},{"$f":"IF(SUM(#REF!)>0,\"Tak\",\"\")","v":{"$error":"#REF!"}},{"$f":"IF(OR(G1096<0,J1096<0,#REF!<0,#REF!<0),\"ujemny plan\",\"\")","v":{"$error":"#REF!"}}]
["DZB/2/ZZ","Zadania zlecone",852,85205,2110,"PZWM",null,null,{"$f":"H1097/G1097","v":{"$error":"#DIV/0!"}},null,null,{"$f":"K1097/J1097","v":{"$error":"#DIV/0!"}},{"$error":"#DIV/0!"},{"$f":"IF(SUM(#REF!)>0,\"Tak\",\"\")","v":{"$error":"#REF!"}},{"$f":"IF(OR(G1097<0,J1097<0,#REF!<0,#REF!<0),\"ujemny plan\",\"\")","v":{"$error":"#REF!"}}]
["DZB/2/ZZ","Zadania zlecone",852,85213,2110,"PZWM",null,null,{"$error":"#DIV/0!"},null,null,{"$error":"#DIV/0!"},{"$error":"#DIV/0!"},{"$f":"IF(SUM(#REF!)>0,\"Tak\",\"\")","v":{"$error":"#REF!"}},{"$f":"IF(OR(G1098<0,J1098<0,#REF!<0,#REF!<0),\"ujemny plan\",\"\")","v":{"$error":"#REF!"}}]
["DZB/2/ZZ","Zadania zlecone",852,85220,2110,"PZWM",null,null,{"$error":"#DIV/0!"},null,null,{"$error":"#DIV/0!"},{"$error":"#DIV/0!"},{"$f":"IF(SUM(#REF!)>0,\"Tak\",\"\")","v":{"$error":"#REF!"}},{"$f":"IF(OR(G1099<0,J1099<0,#REF!<0,#REF!<0),\"ujemny plan\",\"\")","v":{"$error":"#REF!"}}]
["DZB/2/ZZ","Zadania zlecone",852,85226,2110,"PZWM",null,null,{"$error":"#DIV/0!"},null,null,{"$error":"#DIV/0!"},{"$error":"#DIV/0!"},{"$f":"IF(SUM(#REF!)>0,\"Tak\",\"\")","v":{"$error":"#REF!"}},{"$f":"IF(OR(G1100<0,J1100<0,#REF!<0,#REF!<0),\"ujemny plan\",\"\")","v":{"$error":"#REF!"}}]
["DZB/2/ZZ","Zadania zlecone",852,85231,2110,"PZWM",null,null,{"$error":"#DIV/0!"},null,null,{"$error":"#DIV/0!"},{"$error":"#DIV/0!"},{"$f":"IF(SUM(#REF!)>0,\"Tak\",\"\")","v":{"$error":"#REF!"}},{"$f":"IF(OR(G1101<0,J1101<0,#REF!<0,#REF!<0),\"ujemny plan\",\"\")","v":{"$error":"#REF!"}}]
["DZB/2/ZZ","Zadania zlecone",853,85321,2110,"PZWM",null,null,{"$error":"#DIV/0!"},null,null,{"$error":"#DIV/0!"},{"$error":"#DIV/0!"},{"$f":"IF(SUM(#REF!)>0,\"Tak\",\"\")","v":{"$error":"#REF!"}},{"$f":"IF(OR(G1102<0,J1102<0,#REF!<0,#REF!<0),\"ujemny plan\",\"\")","v":{"$error":"#REF!"}}]
["DZB/2/ZZ","Zadania zlecone",853,85334,2110,"PZWM",null,null,{"$error":"#DIV/0!"},null,null,{"$error":"#DIV/0!"},{"$error":"#DIV/0!"},{"$f":"IF(SUM(#REF!)>0,\"Tak\",\"\")","v":{"$error":"#REF!"}},{"$f":"IF(OR(G1103<0,J1103<0,#REF!<0,#REF!<0),\"ujemny plan\",\"\")","v":{"$error":"#REF!"}}]
["DZB/2/ZZ","Zadania zlecone","853","85395",2110,"PZWM",null,null,{"$error":"#DIV/0!"},null,null,{"$error":"#DIV/0!"},{"$error":"#DIV/0!"},{"$f":"IF(SUM(#REF!)>0,\"Tak\",\"\")","v":{"$error":"#REF!"}},{"$f":"IF(OR(G1104<0,J1104<0,#REF!<0,#REF!<0),\"ujemny plan\",\"\")","v":{"$error":"#REF!"}}]
["DZB/2/ZZ","Zadania zlecone","855","85508",2110,"PZWM",null,null,{"$error":"#DIV/0!"},null,null,{"$error":"#DIV/0!"},{"$error":"#DIV/0!"},{"$f":"IF(SUM(#REF!)>0,\"Tak\",\"\")","v":{"$error":"#REF!"}},{"$f":"IF(OR(G1105<0,J1105<0,#REF!<0,#REF!<0),\"ujemny plan\",\"\")","v":{"$error":"#REF!"}}]
["DZB/2/ZZ","Zadania zlecone","855","85510",2110,"PZWM",null,null,{"$error":"#DIV/0!"},null,null,{"$error":"#DIV/0!"},{"$error":"#DIV/0!"},{"$f":"IF(SUM(#REF!)>0,\"Tak\",\"\")","v":{"$error":"#REF!"}},{"$f":"IF(OR(G1106<0,J1106<0,#REF!<0,#REF!<0),\"ujemny plan\",\"\")","v":{"$error":"#REF!"}}]
["DZB/2/ZZ","Zadania zlecone",null,null,"2160",null,{"$f":"SUM(G1108:G1111)","v":0},null,{"$error":"#DIV/0!"},0,null,{"$error":"#DIV/0!"},{"$error":"#DIV/0!"},{"$f":"IF(SUM(#REF!)>0,\"Tak\",\"\")","v":{"$error":"#REF!"}},{"$f":"IF(OR(G1107<0,J1107<0,#REF!<0,#REF!<0),\"ujemny plan\",\"\")","v":{"$error":"#REF!"}}]
["DZB/2/ZZ","Zadania zlecone",852,85204,"2160","PZSW",null,null,{"$error":"#DIV/0!"},null,null,{"$error":"#DIV/0!"},{"$error":"#DIV/0!"},{"$f":"IF(SUM(#REF!)>0,\"Tak\",\"\")","v":{"$error":"#REF!"}},{"$f":"IF(OR(G1108<0,J1108<0,#REF!<0,#REF!<0),\"ujemny plan\",\"\")","v":{"$error":"#REF!"}}]
["DZB/2/ZZ","Zadania zlecone","855",85508,"2160","PZSW",null,null,{"$error":"#DIV/0!"},null,null,{"$error":"#DIV/0!"},{"$error":"#DIV/0!"},{"$f":"IF(SUM(#REF!)>0,\"Tak\",\"\")","v":{"$error":"#REF!"}},{"$f":"IF(OR(G1109<0,J1109<0,#REF!<0,#REF!<0),\"ujemny plan\",\"\")","v":{"$error":"#REF!"}}]
["DZB/2/ZZ","Zadania zlecone","855",85501,"2160","PZSW",null,null,{"$error":"#DIV/0!"},null,null,{"$error":"#DIV/0!"},{"$error":"#DIV/0!"},{"$f":"IF(SUM(#REF!)>0,\"Tak\",\"\")","v":{"$error":"#REF!"}},{"$f":"IF(OR(G1110<0,J1110<0,#REF!<0,#REF!<0),\"ujemny plan\",\"\")","v":{"$error":"#REF!"}}]
["DZB/2/ZZ","Zadania zlecone","855",85510,"2160","PZSW",null,null,{"$error":"#DIV/0!"},null,null,{"$error":"#DIV/0!"},{"$error":"#DIV/0!"},{"$f":"IF(SUM(#REF!)>0,\"Tak\",\"\")","v":{"$error":"#REF!"}},{"$f":"IF(OR(G1111<0,J1111<0,#REF!<0,#REF!<0),\"ujemny plan\",\"\")","v":{"$error":"#REF!"}}]
["DZB/2/PO","Zadania realizowane na podstawie porozumień z organami administracji rządowej",null,null,null,null,{"$f":"SUM(G1122,G1113)","v":0},null,{"$error":"#DIV/0!"},0,null,{"$error":"#DIV/0!"},{"$error":"#DIV/0!"},{"$f":"IF(SUM(#REF!)>0,\"Tak\",\"\")","v":{"$error":"#REF!"}},{"$f":"IF(OR(G1112<0,J1112<0,#REF!<0,#REF!<0),\"ujemny plan\",\"\")","v":{"$error":"#REF!"}}]
["DZB/2/PO","Zadania realizowane na podstawie porozumień z organami administracji rządowej",null,null,2020,null,{"$f":"SUM(G1114:G1121)","v":0},null,{"$error":"#DIV/0!"},0,null,{"$error":"#DIV/0!"},{"$error":"#DIV/0!"},{"$f":"IF(SUM(#REF!)>0,\"Tak\",\"\")","v":{"$error":"#REF!"}},{"$f":"IF(OR(G1113<0,J1113<0,#REF!<0,#REF!<0),\"ujemny plan\",\"\")","v":{"$error":"#REF!"}}]
["DZB/2/PO","Zadania realizowane na podstawie porozumień z organami administracji rządowej",710,71035,2020,"GPWM",null,null,{"$error":"#DIV/0!"},null,null,{"$error":"#DIV/0!"},{"$error":"#DIV/0!"},{"$f":"IF(SUM(#REF!)>0,\"Tak\",\"\")","v":{"$error":"#REF!"}},{"$f":"IF(OR(G1114<0,J1114<0,#REF!<0,#REF!<0),\"ujemny plan\",\"\")","v":{"$error":"#REF!"}}]
["DZB/2/PO","Zadania realizowane na podstawie porozumień z organami administracji rządowej",750,75023,2020,"GPWM",null,null,{"$error":"#DIV/0!"},null,null,{"$error":"#DIV/0!"},{"$error":"#DIV/0!"},{"$f":"IF(SUM(#REF!)>0,\"Tak\",\"\")","v":{"$error":"#REF!"}},{"$f":"IF(OR(G1115<0,J1115<0,#REF!<0,#REF!<0),\"ujemny plan\",\"\")","v":{"$error":"#REF!"}}]
["DZB/2/PO","Zadania realizowane na podstawie porozumień z organami administracji rządowej",754,75495,2020,"GPWM",null,null,{"$error":"#DIV/0!"},null,null,{"$error":"#DIV/0!"},{"$error":"#DIV/0!"},{"$f":"IF(SUM(#REF!)>0,\"Tak\",\"\")","v":{"$error":"#REF!"}},{"$f":"IF(OR(G1116<0,J1116<0,#REF!<0,#REF!<0),\"ujemny plan\",\"\")","v":{"$error":"#REF!"}}]
["DZB/2/PO","Zadania realizowane na podstawie porozumień z organami administracji rządowej","851","85111",2020,"GPWM",null,null,{"$error":"#DIV/0!"},null,null,{"$error":"#DIV/0!"},{"$error":"#DIV/0!"},{"$f":"IF(SUM(#REF!)>0,\"Tak\",\"\")","v":{"$error":"#REF!"}},{"$f":"IF(OR(G1117<0,J1117<0,#REF!<0,#REF!<0),\"ujemny plan\",\"\")","v":{"$error":"#REF!"}}]
["DZB/2/PO","Zadania realizowane na podstawie porozumień z organami administracji rządowej","852","85203",2020,"GPWM",null,null,{"$error":"#DIV/0!"},null,null,{"$error":"#DIV/0!"},{"$error":"#DIV/0!"},{"$f":"IF(SUM(#REF!)>0,\"Tak\",\"\")","v":{"$error":"#REF!"}},{"$f":"IF(OR(G1118<0,J1118<0,#REF!<0,#REF!<0),\"ujemny plan\",\"\")","v":{"$error":"#REF!"}}]
["DZB/2/PO","Zadania realizowane na podstawie porozumień z organami administracji rządowej","852","85228",2020,"GPWM",null,null,{"$error":"#DIV/0!"},null,null,{"$error":"#DIV/0!"},{"$error":"#DIV/0!"},{"$f":"IF(SUM(#REF!)>0,\"Tak\",\"\")","v":{"$error":"#REF!"}},{"$f":"IF(OR(G1119<0,J1119<0,#REF!<0,#REF!<0),\"ujemny plan\",\"\")","v":{"$error":"#REF!"}}]
["DZB/2/PO","Zadania realizowane na podstawie porozumień z organami administracji rządowej","852","85295",2020,"GPWM",null,null,{"$error":"#DIV/0!"},null,null,{"$error":"#DIV/0!"},{"$error":"#DIV/0!"},{"$f":"IF(SUM(#REF!)>0,\"Tak\",\"\")","v":{"$error":"#REF!"}},{"$f":"IF(OR(G1120<0,J1120<0,#REF!<0,#REF!<0),\"ujemny plan\",\"\")","v":{"$error":"#REF!"}}]
["DZB/2/PO","Zadania realizowane na podstawie porozumień z organami administracji rządowej",854,85412,2020,"GPWM",null,null,{"$error":"#DIV/0!"},null,null,{"$error":"#DIV/0!"},{"$error":"#DIV/0!"},{"$f":"IF(SUM(#REF!)>0,\"Tak\",\"\")","v":{"$error":"#REF!"}},{"$f":"IF(OR(G1121<0,J1121<0,#REF!<0,#REF!<0),\"ujemny plan\",\"\")","v":{"$error":"#REF!"}}]
["DZB/2/PO","Zadania realizowane na podstawie porozumień z organami administracji rządowej",null,null,2120,null,{"$f":"SUM(G1123:G1128)","v":0},null,{"$error":"#DIV/0!"},0,null,{"$error":"#DIV/0!"},{"$error":"#DIV/0!"},{"$f":"IF(SUM(#REF!)>0,\"Tak\",\"\")","v":{"$error":"#REF!"}},{"$f":"IF(OR(G1122<0,J1122<0,#REF!<0,#REF!<0),\"ujemny plan\",\"\")","v":{"$error":"#REF!"}}]
["DZB/2/PO","Zadania realizowane na podstawie porozumień z organami administracji rządowej",750,75011,2120,"PAWM",null,null,{"$error":"#DIV/0!"},null,null,{"$error":"#DIV/0!"},{"$error":"#DIV/0!"},{"$f":"IF(SUM(#REF!)>0,\"Tak\",\"\")","v":{"$error":"#REF!"}},{"$f":"IF(OR(G1123<0,J1123<0,#REF!<0,#REF!<0),\"ujemny plan\",\"\")","v":{"$error":"#REF!"}}]
["DZB/2/PO","Zadania realizowane na podstawie porozumień z organami administracji rządowej",750,75081,2120,"PAWM",null,null,{"$error":"#DIV/0!"},null,null,{"$error":"#DIV/0!"},{"$error":"#DIV/0!"},{"$f":"IF(SUM(#REF!)>0,\"Tak\",\"\")","v":{"$error":"#REF!"}},{"$f":"IF(OR(G1124<0,J1124<0,#REF!<0,#REF!<0),\"ujemny plan\",\"\")","v":{"$error":"#REF!"}}]
["DZB/2/PO","Zadania realizowane na podstawie porozumień z organami administracji rządowej",752,75295,2120,"PAWM",null,null,{"$error":"#DIV/0!"},null,null,{"$error":"#DIV/0!"},{"$error":"#DIV/0!"},{"$f":"IF(SUM(#REF!)>0,\"Tak\",\"\")","v":{"$error":"#REF!"}},{"$f":"IF(OR(G1125<0,J1125<0,#REF!<0,#REF!<0),\"ujemny plan\",\"\")","v":{"$error":"#REF!"}}]
["DZB/2/PO","Zadania realizowane na podstawie porozumień z organami administracji rządowej",754,75495,2120,"PAWM",null,null,{"$error":"#DIV/0!"},null,null,{"$error":"#DIV/0!"},{"$error":"#DIV/0!"},{"$f":"IF(SUM(#REF!)>0,\"Tak\",\"\")","v":{"$error":"#REF!"}},{"$f":"IF(OR(G1126<0,J1126<0,#REF!<0,#REF!<0),\"ujemny plan\",\"\")","v":{"$error":"#REF!"}}]
["DZB/2/PO","Zadania realizowane na podstawie porozumień z organami administracji rządowej",801,80195,2120,"PAEN",null,null,{"$error":"#DIV/0!"},null,null,{"$error":"#DIV/0!"},{"$error":"#DIV/0!"},{"$f":"IF(SUM(#REF!)>0,\"Tak\",\"\")","v":{"$error":"#REF!"}},{"$f":"IF(OR(G1127<0,J1127<0,#REF!<0,#REF!<0),\"ujemny plan\",\"\")","v":{"$error":"#REF!"}}]
["DZB/2/PO","Zadania realizowane na podstawie porozumień z organami administracji rządowej",852,85295,2120,null,null,null,{"$error":"#DIV/0!"},null,null,{"$error":"#DIV/0!"},{"$error":"#DIV/0!"},{"$f":"IF(SUM(#REF!)>0,\"Tak\",\"\")","v":{"$error":"#REF!"}},{"$f":"IF(OR(G1128<0,J1128<0,#REF!<0,#REF!<0),\"ujemny plan\",\"\")","v":{"$error":"#REF!"}}]
["DZB/3","Dotacje z funduszy celowych",null,null,null,null,{"$f":"SUM(G1130:G1132,G1142)","v":0},null,{"$error":"#DIV/0!"},0,null,{"$error":"#DIV/0!"},{"$error":"#DIV/0!"},{"$f":"IF(SUM(#REF!)>0,\"Tak\",\"\")","v":{"$error":"#REF!"}},{"$f":"IF(OR(G1129<0,J1129<0,#REF!<0,#REF!<0),\"ujemny plan\",\"\")","v":{"$error":"#REF!"}}]
["DZB/3/FP","Fundusz Pracy - wynagrodzenie pracowników urzędu pracy",853,85333,2690,null,null,null,{"$error":"#DIV/0!"},null,null,{"$error":"#DIV/0!"},{"$error":"#DIV/0!"},{"$f":"IF(SUM(#REF!)>0,\"Tak\",\"\")","v":{"$error":"#REF!"}},{"$f":"IF(OR(G1130<0,J1130<0,#REF!<0,#REF!<0),\"ujemny plan\",\"\")","v":{"$error":"#REF!"}}]
["DZB/3/FR","Fundusz reprywatryzacji","700","70005","2440","FCDB",null,null,{"$error":"#DIV/0!"},null,null,{"$error":"#DIV/0!"},{"$error":"#DIV/0!"},{"$f":"IF(SUM(#REF!)>0,\"Tak\",\"\")","v":{"$error":"#REF!"}},{"$f":"IF(OR(G1131<0,J1131<0,#REF!<0,#REF!<0),\"ujemny plan\",\"\")","v":{"$error":"#REF!"}}]
["DZB/3/NF","Narodowy Fundusz Ochrony Środowiska i Gospodarki Wodnej",null,null,null,null,{"$f":"SUM(G1136,G1133,G1139)","v":0},null,{"$error":"#DIV/0!"},0,null,{"$error":"#DIV/0!"},{"$error":"#DIV/0!"},{"$f":"IF(SUM(#REF!)>0,\"Tak\",\"\")","v":{"$error":"#REF!"}},{"$f":"IF(OR(G1132<0,J1132<0,#REF!<0,#REF!<0),\"ujemny plan\",\"\")","v":{"$error":"#REF!"}}]
["DZB/3/NF","Narodowy Fundusz Ochrony Środowiska i Gospodarki Wodnej",null,null,2170,"GMMW",{"$f":"SUM(G1134:G1135)","v":0},null,{"$error":"#DIV/0!"},0,null,{"$error":"#DIV/0!"},{"$error":"#DIV/0!"},{"$f":"IF(SUM(#REF!)>0,\"Tak\",\"\")","v":{"$error":"#REF!"}},{"$f":"IF(OR(G1133<0,J1133<0,#REF!<0,#REF!<0),\"ujemny plan\",\"\")","v":{"$error":"#REF!"}}]
["DZB/3/NF","Narodowy Fundusz Ochrony Środowiska i Gospodarki Wodnej","754","75495","2170","GMMW",null,null,{"$error":"#DIV/0!"},null,null,{"$error":"#DIV/0!"},{"$error":"#DIV/0!"},{"$f":"IF(SUM(#REF!)>0,\"Tak\",\"\")","v":{"$error":"#REF!"}},{"$f":"IF(OR(G1134<0,J1134<0,#REF!<0,#REF!<0),\"ujemny plan\",\"\")","v":{"$error":"#REF!"}}]
["DZB/3/NF","Narodowy Fundusz Ochrony Środowiska i Gospodarki Wodnej","900","90008","2170","GMMW",null,null,{"$error":"#DIV/0!"},null,null,{"$error":"#DIV/0!"},{"$error":"#DIV/0!"},{"$f":"IF(SUM(#REF!)>0,\"Tak\",\"\")","v":{"$error":"#REF!"}},{"$f":"IF(OR(G1135<0,J1135<0,#REF!<0,#REF!<0),\"ujemny plan\",\"\")","v":{"$error":"#REF!"}}]
["DZB/3/NF","Narodowy Fundusz Ochrony Środowiska i Gospodarki Wodnej",null,null,"2440","GMMW",{"$f":"SUM(G1137:G1138)","v":0},null,{"$error":"#DIV/0!"},0,null,{"$error":"#DIV/0!"},{"$error":"#DIV/0!"},{"$f":"IF(SUM(#REF!)>0,\"Tak\",\"\")","v":{"$error":"#REF!"}},{"$f":"IF(OR(G1136<0,J1136<0,#REF!<0,#REF!<0),\"ujemny plan\",\"\")","v":{"$error":"#REF!"}}]
["DZB/3/NF","Narodowy Fundusz Ochrony Środowiska i Gospodarki Wodnej","754","75495","2440","GMMW",null,null,{"$error":"#DIV/0!"},null,null,{"$error":"#DIV/0!"},{"$error":"#DIV/0!"},{"$f":"IF(SUM(#REF!)>0,\"Tak\",\"\")","v":{"$error":"#REF!"}},{"$f":"IF(OR(G1137<0,J1137<0,#REF!<0,#REF!<0),\"ujemny plan\",\"\")","v":{"$error":"#REF!"}}]
["DZB/3/NF","Narodowy Fundusz Ochrony Środowiska i Gospodarki Wodnej","900","90008","2440","GMMW",null,null,{"$error":"#DIV/0!"},null,null,{"$error":"#DIV/0!"},{"$error":"#DIV/0!"},{"$f":"IF(SUM(#REF!)>0,\"Tak\",\"\")","v":{"$error":"#REF!"}},{"$f":"IF(OR(G1138<0,J1138<0,#REF!<0,#REF!<0),\"ujemny plan\",\"\")","v":{"$error":"#REF!"}}]
["DZB/3/NF","Narodowy Fundusz Ochrony Środowiska i Gospodarki Wodnej",null,null,"2442",null,{"$f":"SUM(G1140:G1141)","v":0},null,{"$error":"#DIV/0!"},0,null,{"$error":"#DIV/0!"},{"$error":"#DIV/0!"},{"$f":"IF(SUM(#REF!)>0,\"Tak\",\"\")","v":{"$error":"#REF!"}},{"$f":"IF(OR(G1139<0,J1139<0,#REF!<0,#REF!<0),\"ujemny plan\",\"\")","v":{"$error":"#REF!"}}]
["DZB/3/NF","Narodowy Fundusz Ochrony Środowiska i Gospodarki Wodnej","900","90008","2442","SFUE/",null,null,{"$error":"#DIV/0!"},null,null,{"$error":"#DIV/0!"},{"$error":"#DIV/0!"},{"$f":"IF(SUM(#REF!)>0,\"Tak\",\"\")","v":{"$error":"#REF!"}},{"$f":"IF(OR(G1140<0,J1140<0,#REF!<0,#REF!<0),\"ujemny plan\",\"\")","v":{"$error":"#REF!"}}]
["DZB/3/NF","Narodowy Fundusz Ochrony Środowiska i Gospodarki Wodnej","900","90095","2442",null,null,null,{"$error":"#DIV/0!"},null,null,{"$error":"#DIV/0!"},{"$error":"#DIV/0!"},{"$f":"IF(SUM(#REF!)>0,\"Tak\",\"\")","v":{"$error":"#REF!"}},{"$f":"IF(OR(G1141<0,J1141<0,#REF!<0,#REF!<0),\"ujemny plan\",\"\")","v":{"$error":"#REF!"}}]
["DZB/3/WF","Wojewódzki Fundusz Ochrony Środowiska i Gospodarki Wodnej",null,null,null,null,{"$f":"SUM(G1143)","v":0},null,{"$error":"#DIV/0!"},0,null,{"$error":"#DIV/0!"},{"$error":"#DIV/0!"},{"$f":"IF(SUM(#REF!)>0,\"Tak\",\"\")","v":{"$error":"#REF!"}},{"$f":"IF(OR(G1142<0,J1142<0,#REF!<0,#REF!<0),\"ujemny plan\",\"\")","v":{"$error":"#REF!"}}]
["DZB/3/WF","Wojewódzki Fundusz Ochrony Środowiska i Gospodarki Wodnej",null,null,2700,null,{"$f":"SUM(G1144:G1147)","v":0},null,{"$error":"#DIV/0!"},0,null,{"$error":"#DIV/0!"},{"$error":"#DIV/0!"},{"$f":"IF(SUM(#REF!)>0,\"Tak\",\"\")","v":{"$error":"#REF!"}},{"$f":"IF(OR(G1143<0,J1143<0,#REF!<0,#REF!<0),\"ujemny plan\",\"\")","v":{"$error":"#REF!"}}]
["DZB/3/WF","Wojewódzki Fundusz Ochrony Środowiska i Gospodarki Wodnej","020","02001","2700","GMMW",null,null,{"$error":"#DIV/0!"},null,null,{"$error":"#DIV/0!"},{"$error":"#DIV/0!"},{"$f":"IF(SUM(#REF!)>0,\"Tak\",\"\")","v":{"$error":"#REF!"}},{"$f":"IF(OR(G1144<0,J1144<0,#REF!<0,#REF!<0),\"ujemny plan\",\"\")","v":{"$error":"#REF!"}}]
["DZB/3/WF","Wojewódzki Fundusz Ochrony Środowiska i Gospodarki Wodnej","020","02095","2700","GMMW",null,null,{"$error":"#DIV/0!"},null,null,{"$error":"#DIV/0!"},{"$error":"#DIV/0!"},{"$f":"IF(SUM(#REF!)>0,\"Tak\",\"\")","v":{"$error":"#REF!"}},{"$f":"IF(OR(G1145<0,J1145<0,#REF!<0,#REF!<0),\"ujemny plan\",\"\")","v":{"$error":"#REF!"}}]
["DZB/3/WF","Wojewódzki Fundusz Ochrony Środowiska i Gospodarki Wodnej","754","75411","2700","GMMW",null,null,{"$error":"#DIV/0!"},null,null,{"$error":"#DIV/0!"},{"$error":"#DIV/0!"},{"$f":"IF(SUM(#REF!)>0,\"Tak\",\"\")","v":{"$error":"#REF!"}},{"$f":"IF(OR(G1146<0,J1146<0,#REF!<0,#REF!<0),\"ujemny plan\",\"\")","v":{"$error":"#REF!"}}]
["DZB/3/WF","Wojewódzki Fundusz Ochrony Środowiska i Gospodarki Wodnej",900,90095,"2700","GMMW",null,null,{"$error":"#DIV/0!"},null,null,{"$error":"#DIV/0!"},{"$error":"#DIV/0!"},{"$f":"IF(SUM(#REF!)>0,\"Tak\",\"\")","v":{"$error":"#REF!"}},{"$f":"IF(OR(G1147<0,J1147<0,#REF!<0,#REF!<0),\"ujemny plan\",\"\")","v":{"$error":"#REF!"}}]
["DZB/4","Środki na dofinansowanie projektów realizowanych w ramach programów UE",null,null,null,null,{"$f":"G1149+G1152","v":0},null,{"$error":"#DIV/0!"},0,null,{"$error":"#DIV/0!"},{"$error":"#DIV/0!"},{"$f":"IF(SUM(#REF!)>0,\"Tak\",\"\")","v":{"$error":"#REF!"}},{"$f":"IF(OR(G1148<0,J1148<0,#REF!<0,#REF!<0),\"ujemny plan\",\"\")","v":{"$error":"#REF!"}}]
["DZB/4/GE","Sekcja Gwarancji Europejskiego Funduszu Orientacji i Gwarancji Rolnej",null,null,null,null,{"$f":"SUM(G1150)","v":0},null,{"$error":"#DIV/0!"},0,null,{"$error":"#DIV/0!"},{"$error":"#DIV/0!"},{"$f":"IF(SUM(#REF!)>0,\"Tak\",\"\")","v":{"$error":"#REF!"}},{"$f":"IF(OR(G1149<0,J1149<0,#REF!<0,#REF!<0),\"ujemny plan\",\"\")","v":{"$error":"#REF!"}}]
["DZB/4/GE","Sekcja Gwarancji Europejskiego Funduszu Orientacji i Gwarancji Rolnej",null,null,2007,null,0,null,{"$error":"#DIV/0!"},0,null,{"$error":"#DIV/0!"},{"$error":"#DIV/0!"},{"$f":"IF(SUM(#REF!)>0,\"Tak\",\"\")","v":{"$error":"#REF!"}},{"$f":"IF(OR(G1150<0,J1150<0,#REF!<0,#REF!<0),\"ujemny plan\",\"\")","v":{"$error":"#REF!"}}]
["DZB/4/GE","Sekcja Gwarancji Europejskiego Funduszu Orientacji i Gwarancji Rolnej",801,80195,2007,"SFUE/9/1",null,null,{"$error":"#DIV/0!"},null,null,{"$error":"#DIV/0!"},{"$error":"#DIV/0!"},{"$f":"IF(SUM(#REF!)>0,\"Tak\",\"\")","v":{"$error":"#REF!"}},{"$f":"IF(OR(G1151<0,J1151<0,#REF!<0,#REF!<0),\"ujemny plan\",\"\")","v":{"$error":"#REF!"}}]
["DZB/4/IW","Inicjatywy wspólnotowe",null,null,null,null,{"$f":"SUM(G1153,G1186,G1338,G1367,G1499,G1521,G1527,G1473,G1476,G1487,G1495)","v":0},null,{"$error":"#DIV/0!"},0,null,{"$error":"#DIV/0!"},{"$error":"#DIV/0!"},{"$f":"IF(SUM(#REF!)>0,\"Tak\",\"\")","v":{"$error":"#REF!"}},{"$f":"IF(OR(G1152<0,J1152<0,#REF!<0,#REF!<0),\"ujemny plan\",\"\")","v":{"$error":"#REF!"}}]
["DZB/4/IW","Inicjatywy wspólnotowe",null,null,2001,null,{"$f":"SUM(G1154:G1185)","v":0},null,{"$error":"#DIV/0!"},0,null,{"$error":"#DIV/0!"},{"$error":"#DIV/0!"},{"$f":"IF(SUM(#REF!)>0,\"Tak\",\"\")","v":{"$error":"#REF!"}},{"$f":"IF(OR(G1153<0,J1153<0,#REF!<0,#REF!<0),\"ujemny plan\",\"\")","v":{"$error":"#REF!"}}]
["DZB/4/IW","Inicjatywy wspólnotowe",750,75023,2001,"SFUE/",null,null,{"$error":"#DIV/0!"},null,null,{"$error":"#DIV/0!"},{"$error":"#DIV/0!"},{"$f":"IF(SUM(#REF!)>0,\"Tak\",\"\")","v":{"$error":"#REF!"}},{"$f":"IF(OR(G1154<0,J1154<0,#REF!<0,#REF!<0),\"ujemny plan\",\"\")","v":{"$error":"#REF!"}}]
["DZB/4/IW","Inicjatywy wspólnotowe",750,75023,2001,"SFUE/",null,null,{"$error":"#DIV/0!"},null,null,{"$error":"#DIV/0!"},{"$error":"#DIV/0!"},{"$f":"IF(SUM(#REF!)>0,\"Tak\",\"\")","v":{"$error":"#REF!"}},{"$f":"IF(OR(G1155<0,J1155<0,#REF!<0,#REF!<0),\"ujemny plan\",\"\")","v":{"$error":"#REF!"}}]
["DZB/4/IW","Inicjatywy wspólnotowe",750,75023,2001,"SFUE/",null,null,{"$error":"#DIV/0!"},null,null,{"$error":"#DIV/0!"},{"$error":"#DIV/0!"},{"$f":"IF(SUM(#REF!)>0,\"Tak\",\"\")","v":{"$error":"#REF!"}},{"$f":"IF(OR(G1156<0,J1156<0,#REF!<0,#REF!<0),\"ujemny plan\",\"\")","v":{"$error":"#REF!"}}]
["DZB/4/IW","Inicjatywy wspólnotowe",750,75023,2001,"SFUE/",null,null,{"$error":"#DIV/0!"},null,null,{"$error":"#DIV/0!"},{"$error":"#DIV/0!"},{"$f":"IF(SUM(#REF!)>0,\"Tak\",\"\")","v":{"$error":"#REF!"}},{"$f":"IF(OR(G1157<0,J1157<0,#REF!<0,#REF!<0),\"ujemny plan\",\"\")","v":{"$error":"#REF!"}}]
["DZB/4/IW","Inicjatywy wspólnotowe",750,75023,2001,"SFUE/",null,null,{"$error":"#DIV/0!"},null,null,{"$error":"#DIV/0!"},{"$error":"#DIV/0!"},{"$f":"IF(SUM(#REF!)>0,\"Tak\",\"\")","v":{"$error":"#REF!"}},{"$f":"IF(OR(G1158<0,J1158<0,#REF!<0,#REF!<0),\"ujemny plan\",\"\")","v":{"$error":"#REF!"}}]
["DZB/4/IW","Inicjatywy wspólnotowe",750,75023,2001,"SFUE/",null,null,{"$error":"#DIV/0!"},null,null,{"$error":"#DIV/0!"},{"$error":"#DIV/0!"},{"$f":"IF(SUM(#REF!)>0,\"Tak\",\"\")","v":{"$error":"#REF!"}},{"$f":"IF(OR(G1159<0,J1159<0,#REF!<0,#REF!<0),\"ujemny plan\",\"\")","v":{"$error":"#REF!"}}]
["DZB/4/IW","Inicjatywy wspólnotowe",801,80195,2001,"SFUE/",null,null,{"$error":"#DIV/0!"},null,null,{"$error":"#DIV/0!"},{"$f":"IF(SUM(G1160:L1160)>0,\"Tak\",\"\")","v":{"$error":"#DIV/0!"}},{"$f":"IF(SUM(#REF!)>0,\"Tak\",\"\")","v":{"$error":"#REF!"}},{"$f":"IF(OR(G1160<0,J1160<0,#REF!<0,#REF!<0),\"ujemny plan\",\"\")","v":{"$error":"#REF!"}}]
["DZB/4/IW","Inicjatywy wspólnotowe",801,80195,2001,"SFUE/",null,null,{"$f":"H1161/G1161","v":{"$error":"#DIV/0!"}},null,null,{"$f":"K1161/J1161","v":{"$error":"#DIV/0!"}},{"$error":"#DIV/0!"},{"$f":"IF(SUM(#REF!)>0,\"Tak\",\"\")","v":{"$error":"#REF!"}},{"$f":"IF(OR(G1161<0,J1161<0,#REF!<0,#REF!<0),\"ujemny plan\",\"\")","v":{"$error":"#REF!"}}]
["DZB/4/IW","Inicjatywy wspólnotowe",801,80195,2001,"SFUE/",null,null,{"$error":"#DIV/0!"},null,null,{"$error":"#DIV/0!"},{"$error":"#DIV/0!"},{"$f":"IF(SUM(#REF!)>0,\"Tak\",\"\")","v":{"$error":"#REF!"}},{"$f":"IF(OR(G1162<0,J1162<0,#REF!<0,#REF!<0),\"ujemny plan\",\"\")","v":{"$error":"#REF!"}}]
["DZB/4/IW","Inicjatywy wspólnotowe",801,80195,2001,"SFUE/",null,null,{"$error":"#DIV/0!"},null,null,{"$error":"#DIV/0!"},{"$error":"#DIV/0!"},{"$f":"IF(SUM(#REF!)>0,\"Tak\",\"\")","v":{"$error":"#REF!"}},{"$f":"IF(OR(G1163<0,J1163<0,#REF!<0,#REF!<0),\"ujemny plan\",\"\")","v":{"$error":"#REF!"}}]
["DZB/4/IW","Inicjatywy wspólnotowe",801,80195,2001,"SFUE/",null,null,{"$error":"#DIV/0!"},null,null,{"$error":"#DIV/0!"},{"$error":"#DIV/0!"},{"$f":"IF(SUM(#REF!)>0,\"Tak\",\"\")","v":{"$error":"#REF!"}},{"$f":"IF(OR(G1164<0,J1164<0,#REF!<0,#REF!<0),\"ujemny plan\",\"\")","v":{"$error":"#REF!"}}]
["DZB/4/IW","Inicjatywy wspólnotowe",801,80195,2001,"SFUE/",null,null,{"$error":"#DIV/0!"},null,null,{"$error":"#DIV/0!"},{"$error":"#DIV/0!"},{"$f":"IF(SUM(#REF!)>0,\"Tak\",\"\")","v":{"$error":"#REF!"}},{"$f":"IF(OR(G1165<0,J1165<0,#REF!<0,#REF!<0),\"ujemny plan\",\"\")","v":{"$error":"#REF!"}}]
["DZB/4/IW","Inicjatywy wspólnotowe",801,80195,2001,"SFUE/",null,null,{"$error":"#DIV/0!"},null,null,{"$error":"#DIV/0!"},{"$error":"#DIV/0!"},{"$f":"IF(SUM(#REF!)>0,\"Tak\",\"\")","v":{"$error":"#REF!"}},{"$f":"IF(OR(G1166<0,J1166<0,#REF!<0,#REF!<0),\"ujemny plan\",\"\")","v":{"$error":"#REF!"}}]
["DZB/4/IW","Inicjatywy wspólnotowe",801,80195,2001,"SFUE/",null,null,{"$error":"#DIV/0!"},null,null,{"$error":"#DIV/0!"},{"$error":"#DIV/0!"},{"$f":"IF(SUM(#REF!)>0,\"Tak\",\"\")","v":{"$error":"#REF!"}},{"$f":"IF(OR(G1167<0,J1167<0,#REF!<0,#REF!<0),\"ujemny plan\",\"\")","v":{"$error":"#REF!"}}]
["DZB/4/IW","Inicjatywy wspólnotowe",801,80195,2001,"SFUE/",null,null,{"$error":"#DIV/0!"},null,null,{"$error":"#DIV/0!"},{"$error":"#DIV/0!"},{"$f":"IF(SUM(#REF!)>0,\"Tak\",\"\")","v":{"$error":"#REF!"}},{"$f":"IF(OR(G1168<0,J1168<0,#REF!<0,#REF!<0),\"ujemny plan\",\"\")","v":{"$error":"#REF!"}}]
["DZB/4/IW","Inicjatywy wspólnotowe",801,80195,2001,"SFUE/",null,null,{"$error":"#DIV/0!"},null,null,{"$error":"#DIV/0!"},{"$error":"#DIV/0!"},{"$f":"IF(SUM(#REF!)>0,\"Tak\",\"\")","v":{"$error":"#REF!"}},{"$f":"IF(OR(G1169<0,J1169<0,#REF!<0,#REF!<0),\"ujemny plan\",\"\")","v":{"$error":"#REF!"}}]
["DZB/4/IW","Inicjatywy wspólnotowe",801,80195,2001,"SFUE/",null,null,{"$error":"#DIV/0!"},null,null,{"$error":"#DIV/0!"},{"$error":"#DIV/0!"},{"$f":"IF(SUM(#REF!)>0,\"Tak\",\"\")","v":{"$error":"#REF!"}},{"$f":"IF(OR(G1170<0,J1170<0,#REF!<0,#REF!<0),\"ujemny plan\",\"\")","v":{"$error":"#REF!"}}]
["DZB/4/IW","Inicjatywy wspólnotowe",801,80195,2001,"SFUE/",null,null,{"$error":"#DIV/0!"},null,null,{"$error":"#DIV/0!"},{"$error":"#DIV/0!"},{"$f":"IF(SUM(#REF!)>0,\"Tak\",\"\")","v":{"$error":"#REF!"}},{"$f":"IF(OR(G1171<0,J1171<0,#REF!<0,#REF!<0),\"ujemny plan\",\"\")","v":{"$error":"#REF!"}}]
["DZB/4/IW","Inicjatywy wspólnotowe",801,80195,2001,"SFUE/",null,null,{"$error":"#DIV/0!"},null,null,{"$error":"#DIV/0!"},{"$error":"#DIV/0!"},{"$f":"IF(SUM(#REF!)>0,\"Tak\",\"\")","v":{"$error":"#REF!"}},{"$f":"IF(OR(G1172<0,J1172<0,#REF!<0,#REF!<0),\"ujemny plan\",\"\")","v":{"$error":"#REF!"}}]
["DZB/4/IW","Inicjatywy wspólnotowe",801,80195,2001,"SFUE/",null,null,{"$error":"#DIV/0!"},null,null,{"$error":"#DIV/0!"},{"$error":"#DIV/0!"},{"$f":"IF(SUM(#REF!)>0,\"Tak\",\"\")","v":{"$error":"#REF!"}},{"$f":"IF(OR(G1173<0,J1173<0,#REF!<0,#REF!<0),\"ujemny plan\",\"\")","v":{"$error":"#REF!"}}]
["DZB/4/IW","Inicjatywy wspólnotowe",801,80195,2001,"SFUE/",null,null,{"$error":"#DIV/0!"},null,null,{"$error":"#DIV/0!"},{"$error":"#DIV/0!"},{"$f":"IF(SUM(#REF!)>0,\"Tak\",\"\")","v":{"$error":"#REF!"}},{"$f":"IF(OR(G1174<0,J1174<0,#REF!<0,#REF!<0),\"ujemny plan\",\"\")","v":{"$error":"#REF!"}}]
["DZB/4/IW","Inicjatywy wspólnotowe",801,80195,2001,"SFUE/",null,null,{"$error":"#DIV/0!"},null,null,{"$error":"#DIV/0!"},{"$error":"#DIV/0!"},{"$f":"IF(SUM(#REF!)>0,\"Tak\",\"\")","v":{"$error":"#REF!"}},{"$f":"IF(OR(G1175<0,J1175<0,#REF!<0,#REF!<0),\"ujemny plan\",\"\")","v":{"$error":"#REF!"}}]
["DZB/4/IW","Inicjatywy wspólnotowe",801,80195,2001,"SFUE/",null,null,{"$error":"#DIV/0!"},null,null,{"$error":"#DIV/0!"},{"$error":"#DIV/0!"},{"$f":"IF(SUM(#REF!)>0,\"Tak\",\"\")","v":{"$error":"#REF!"}},{"$f":"IF(OR(G1176<0,J1176<0,#REF!<0,#REF!<0),\"ujemny plan\",\"\")","v":{"$error":"#REF!"}}]
["DZB/4/IW","Inicjatywy wspólnotowe",801,80195,2001,"SFUE/",null,null,{"$error":"#DIV/0!"},null,null,{"$error":"#DIV/0!"},{"$error":"#DIV/0!"},{"$f":"IF(SUM(#REF!)>0,\"Tak\",\"\")","v":{"$error":"#REF!"}},{"$f":"IF(OR(G1177<0,J1177<0,#REF!<0,#REF!<0),\"ujemny plan\",\"\")","v":{"$error":"#REF!"}}]
["DZB/4/IW","Inicjatywy wspólnotowe",801,80195,2001,"SFUE/",null,null,{"$error":"#DIV/0!"},null,null,{"$error":"#DIV/0!"},{"$error":"#DIV/0!"},{"$f":"IF(SUM(#REF!)>0,\"Tak\",\"\")","v":{"$error":"#REF!"}},{"$f":"IF(OR(G1178<0,J1178<0,#REF!<0,#REF!<0),\"ujemny plan\",\"\")","v":{"$error":"#REF!"}}]
["DZB/4/IW","Inicjatywy wspólnotowe",801,80195,2001,"SFUE/",null,null,{"$error":"#DIV/0!"},null,null,{"$error":"#DIV/0!"},{"$error":"#DIV/0!"},{"$f":"IF(SUM(#REF!)>0,\"Tak\",\"\")","v":{"$error":"#REF!"}},{"$f":"IF(OR(G1179<0,J1179<0,#REF!<0,#REF!<0),\"ujemny plan\",\"\")","v":{"$error":"#REF!"}}]
["DZB/4/IW","Inicjatywy wspólnotowe",801,80195,2001,"SFUE/",null,null,{"$error":"#DIV/0!"},null,null,{"$error":"#DIV/0!"},{"$error":"#DIV/0!"},{"$f":"IF(SUM(#REF!)>0,\"Tak\",\"\")","v":{"$error":"#REF!"}},{"$f":"IF(OR(G1180<0,J1180<0,#REF!<0,#REF!<0),\"ujemny plan\",\"\")","v":{"$error":"#REF!"}}]
["DZB/4/IW","Inicjatywy wspólnotowe",801,80195,2001,"SFUE/",null,null,{"$error":"#DIV/0!"},null,null,{"$error":"#DIV/0!"},{"$error":"#DIV/0!"},{"$f":"IF(SUM(#REF!)>0,\"Tak\",\"\")","v":{"$error":"#REF!"}},{"$f":"IF(OR(G1181<0,J1181<0,#REF!<0,#REF!<0),\"ujemny plan\",\"\")","v":{"$error":"#REF!"}}]
["DZB/4/IW","Inicjatywy wspólnotowe",801,80195,2001,"SFUE/",null,null,{"$error":"#DIV/0!"},null,null,{"$error":"#DIV/0!"},{"$error":"#DIV/0!"},{"$f":"IF(SUM(#REF!)>0,\"Tak\",\"\")","v":{"$error":"#REF!"}},{"$f":"IF(OR(G1182<0,J1182<0,#REF!<0,#REF!<0),\"ujemny plan\",\"\")","v":{"$error":"#REF!"}}]
["DZB/4/IW","Inicjatywy wspólnotowe",853,85395,2001,"SFUE/",null,null,{"$error":"#DIV/0!"},null,null,{"$error":"#DIV/0!"},{"$error":"#DIV/0!"},{"$f":"IF(SUM(#REF!)>0,\"Tak\",\"\")","v":{"$error":"#REF!"}},{"$f":"IF(OR(G1183<0,J1183<0,#REF!<0,#REF!<0),\"ujemny plan\",\"\")","v":{"$error":"#REF!"}}]
["DZB/4/IW","Inicjatywy wspólnotowe",900,90008,2001,"SFUE/",null,null,{"$error":"#DIV/0!"},null,null,{"$error":"#DIV/0!"},{"$error":"#DIV/0!"},{"$f":"IF(SUM(#REF!)>0,\"Tak\",\"\")","v":{"$error":"#REF!"}},{"$f":"IF(OR(G1184<0,J1184<0,#REF!<0,#REF!<0),\"ujemny plan\",\"\")","v":{"$error":"#REF!"}}]
["DZB/4/IW","Inicjatywy wspólnotowe",926,92605,2001,"SFUE/",null,null,{"$error":"#DIV/0!"},null,null,{"$error":"#DIV/0!"},{"$error":"#DIV/0!"},{"$f":"IF(SUM(#REF!)>0,\"Tak\",\"\")","v":{"$error":"#REF!"}},{"$f":"IF(OR(G1185<0,J1185<0,#REF!<0,#REF!<0),\"ujemny plan\",\"\")","v":{"$error":"#REF!"}}]
["DZB/4/IW","Inicjatywy wspólnotowe",null,null,2007,null,{"$f":"SUM(G1187:G1337)","v":0},null,{"$error":"#DIV/0!"},0,null,{"$error":"#DIV/0!"},{"$error":"#DIV/0!"},{"$f":"IF(SUM(#REF!)>0,\"Tak\",\"\")","v":{"$error":"#REF!"}},{"$f":"IF(OR(G1186<0,J1186<0,#REF!<0,#REF!<0),\"ujemny plan\",\"\")","v":{"$error":"#REF!"}}]
["DZB/4/IW","Inicjatywy wspólnotowe",600,60095,2007,"SFUE/",null,null,{"$error":"#DIV/0!"},null,null,{"$error":"#DIV/0!"},{"$error":"#DIV/0!"},{"$f":"IF(SUM(#REF!)>0,\"Tak\",\"\")","v":{"$error":"#REF!"}},{"$f":"IF(OR(G1187<0,J1187<0,#REF!<0,#REF!<0),\"ujemny plan\",\"\")","v":{"$error":"#REF!"}}]
["DZB/4/IW","Inicjatywy wspólnotowe",710,71095,2007,"SFUE/",null,null,{"$error":"#DIV/0!"},null,null,{"$error":"#DIV/0!"},{"$error":"#DIV/0!"},{"$f":"IF(SUM(#REF!)>0,\"Tak\",\"\")","v":{"$error":"#REF!"}},{"$f":"IF(OR(G1188<0,J1188<0,#REF!<0,#REF!<0),\"ujemny plan\",\"\")","v":{"$error":"#REF!"}}]
["DZB/4/IW","Inicjatywy wspólnotowe",710,71095,2007,"SFUE/",null,null,{"$error":"#DIV/0!"},null,null,{"$error":"#DIV/0!"},{"$error":"#DIV/0!"},{"$f":"IF(SUM(#REF!)>0,\"Tak\",\"\")","v":{"$error":"#REF!"}},{"$f":"IF(OR(G1189<0,J1189<0,#REF!<0,#REF!<0),\"ujemny plan\",\"\")","v":{"$error":"#REF!"}}]
["DZB/4/IW","Inicjatywy wspólnotowe",710,71095,2007,"SFUE/",null,null,{"$error":"#DIV/0!"},null,null,{"$error":"#DIV/0!"},{"$error":"#DIV/0!"},{"$f":"IF(SUM(#REF!)>0,\"Tak\",\"\")","v":{"$error":"#REF!"}},{"$f":"IF(OR(G1190<0,J1190<0,#REF!<0,#REF!<0),\"ujemny plan\",\"\")","v":{"$error":"#REF!"}}]
["DZB/4/IW","Inicjatywy wspólnotowe",710,71095,2007,"SFUE/",null,null,{"$error":"#DIV/0!"},null,null,{"$error":"#DIV/0!"},{"$error":"#DIV/0!"},{"$f":"IF(SUM(#REF!)>0,\"Tak\",\"\")","v":{"$error":"#REF!"}},{"$f":"IF(OR(G1191<0,J1191<0,#REF!<0,#REF!<0),\"ujemny plan\",\"\")","v":{"$error":"#REF!"}}]
["DZB/4/IW","Inicjatywy wspólnotowe",710,71095,2007,"SFUE/",null,null,{"$error":"#DIV/0!"},null,null,{"$error":"#DIV/0!"},{"$error":"#DIV/0!"},{"$f":"IF(SUM(#REF!)>0,\"Tak\",\"\")","v":{"$error":"#REF!"}},{"$f":"IF(OR(G1192<0,J1192<0,#REF!<0,#REF!<0),\"ujemny plan\",\"\")","v":{"$error":"#REF!"}}]
["DZB/4/IW","Inicjatywy wspólnotowe",710,71095,2007,"SFUE/",null,null,{"$error":"#DIV/0!"},null,null,{"$error":"#DIV/0!"},{"$error":"#DIV/0!"},{"$f":"IF(SUM(#REF!)>0,\"Tak\",\"\")","v":{"$error":"#REF!"}},{"$f":"IF(OR(G1193<0,J1193<0,#REF!<0,#REF!<0),\"ujemny plan\",\"\")","v":{"$error":"#REF!"}}]
["DZB/4/IW","Inicjatywy wspólnotowe",710,71095,2007,"SFUE/",null,null,{"$error":"#DIV/0!"},null,null,{"$error":"#DIV/0!"},{"$error":"#DIV/0!"},{"$f":"IF(SUM(#REF!)>0,\"Tak\",\"\")","v":{"$error":"#REF!"}},{"$f":"IF(OR(G1194<0,J1194<0,#REF!<0,#REF!<0),\"ujemny plan\",\"\")","v":{"$error":"#REF!"}}]
["DZB/4/IW","Inicjatywy wspólnotowe",710,71095,2057,"SFUE/",null,null,{"$error":"#DIV/0!"},null,null,{"$error":"#DIV/0!"},{"$error":"#DIV/0!"},{"$f":"IF(SUM(#REF!)>0,\"Tak\",\"\")","v":{"$error":"#REF!"}},{"$f":"IF(OR(G1195<0,J1195<0,#REF!<0,#REF!<0),\"ujemny plan\",\"\")","v":{"$error":"#REF!"}}]
["DZB/4/IW","Inicjatywy wspólnotowe",750,75023,2007,"SFUE/",null,null,{"$error":"#DIV/0!"},null,null,{"$error":"#DIV/0!"},{"$error":"#DIV/0!"},{"$f":"IF(SUM(#REF!)>0,\"Tak\",\"\")","v":{"$error":"#REF!"}},{"$f":"IF(OR(G1196<0,J1196<0,#REF!<0,#REF!<0),\"ujemny plan\",\"\")","v":{"$error":"#REF!"}}]
["DZB/4/IW","Inicjatywy wspólnotowe",750,75023,2007,"SFUE/",null,null,{"$error":"#DIV/0!"},null,null,{"$error":"#DIV/0!"},{"$error":"#DIV/0!"},{"$f":"IF(SUM(#REF!)>0,\"Tak\",\"\")","v":{"$error":"#REF!"}},{"$f":"IF(OR(G1197<0,J1197<0,#REF!<0,#REF!<0),\"ujemny plan\",\"\")","v":{"$error":"#REF!"}}]
["DZB/4/IW","Inicjatywy wspólnotowe",750,75023,2007,"SFUE/",null,null,{"$error":"#DIV/0!"},null,null,{"$error":"#DIV/0!"},{"$error":"#DIV/0!"},{"$f":"IF(SUM(#REF!)>0,\"Tak\",\"\")","v":{"$error":"#REF!"}},{"$f":"IF(OR(G1198<0,J1198<0,#REF!<0,#REF!<0),\"ujemny plan\",\"\")","v":{"$error":"#REF!"}}]
["DZB/4/IW","Inicjatywy wspólnotowe",750,75023,2007,"SFUE/",null,null,{"$error":"#DIV/0!"},null,null,{"$error":"#DIV/0!"},{"$error":"#DIV/0!"},{"$f":"IF(SUM(#REF!)>0,\"Tak\",\"\")","v":{"$error":"#REF!"}},{"$f":"IF(OR(G1199<0,J1199<0,#REF!<0,#REF!<0),\"ujemny plan\",\"\")","v":{"$error":"#REF!"}}]
["DZB/4/IW","Inicjatywy wspólnotowe",750,75023,2007,"SFUE/",null,null,{"$error":"#DIV/0!"},null,null,{"$error":"#DIV/0!"},{"$error":"#DIV/0!"},{"$f":"IF(SUM(#REF!)>0,\"Tak\",\"\")","v":{"$error":"#REF!"}},{"$f":"IF(OR(G1200<0,J1200<0,#REF!<0,#REF!<0),\"ujemny plan\",\"\")","v":{"$error":"#REF!"}}]
["DZB/4/IW","Inicjatywy wspólnotowe",750,75023,2007,"SFUE/",null,null,{"$error":"#DIV/0!"},null,null,{"$error":"#DIV/0!"},{"$error":"#DIV/0!"},{"$f":"IF(SUM(#REF!)>0,\"Tak\",\"\")","v":{"$error":"#REF!"}},{"$f":"IF(OR(G1201<0,J1201<0,#REF!<0,#REF!<0),\"ujemny plan\",\"\")","v":{"$error":"#REF!"}}]
["DZB/4/IW","Inicjatywy wspólnotowe",750,75023,2007,"SFUE/",null,null,{"$error":"#DIV/0!"},null,null,{"$error":"#DIV/0!"},{"$error":"#DIV/0!"},{"$f":"IF(SUM(#REF!)>0,\"Tak\",\"\")","v":{"$error":"#REF!"}},{"$f":"IF(OR(G1202<0,J1202<0,#REF!<0,#REF!<0),\"ujemny plan\",\"\")","v":{"$error":"#REF!"}}]
["DZB/4/IW","Inicjatywy wspólnotowe",750,75023,2007,"SFUE/",null,null,{"$error":"#DIV/0!"},null,null,{"$error":"#DIV/0!"},{"$error":"#DIV/0!"},{"$f":"IF(SUM(#REF!)>0,\"Tak\",\"\")","v":{"$error":"#REF!"}},{"$f":"IF(OR(G1203<0,J1203<0,#REF!<0,#REF!<0),\"ujemny plan\",\"\")","v":{"$error":"#REF!"}}]
["DZB/4/IW","Inicjatywy wspólnotowe",750,75023,2007,"SFUE/",null,null,{"$error":"#DIV/0!"},null,null,{"$error":"#DIV/0!"},{"$error":"#DIV/0!"},{"$f":"IF(SUM(#REF!)>0,\"Tak\",\"\")","v":{"$error":"#REF!"}},{"$f":"IF(OR(G1204<0,J1204<0,#REF!<0,#REF!<0),\"ujemny plan\",\"\")","v":{"$error":"#REF!"}}]
["DZB/4/IW","Inicjatywy wspólnotowe",750,75023,2007,"SFUE/",null,null,{"$error":"#DIV/0!"},null,null,{"$error":"#DIV/0!"},{"$error":"#DIV/0!"},{"$f":"IF(SUM(#REF!)>0,\"Tak\",\"\")","v":{"$error":"#REF!"}},{"$f":"IF(OR(G1205<0,J1205<0,#REF!<0,#REF!<0),\"ujemny plan\",\"\")","v":{"$error":"#REF!"}}]
["DZB/4/IW","Inicjatywy wspólnotowe",750,75023,2007,"SFUE/",null,null,{"$error":"#DIV/0!"},null,null,{"$error":"#DIV/0!"},{"$error":"#DIV/0!"},{"$f":"IF(SUM(#REF!)>0,\"Tak\",\"\")","v":{"$error":"#REF!"}},{"$f":"IF(OR(G1206<0,J1206<0,#REF!<0,#REF!<0),\"ujemny plan\",\"\")","v":{"$error":"#REF!"}}]
["DZB/4/IW","Inicjatywy wspólnotowe",750,75023,2007,"SFUE/",null,null,{"$error":"#DIV/0!"},null,null,{"$error":"#DIV/0!"},{"$error":"#DIV/0!"},{"$f":"IF(SUM(#REF!)>0,\"Tak\",\"\")","v":{"$error":"#REF!"}},{"$f":"IF(OR(G1207<0,J1207<0,#REF!<0,#REF!<0),\"ujemny plan\",\"\")","v":{"$error":"#REF!"}}]
["DZB/4/IW","Inicjatywy wspólnotowe",750,75023,2007,"SFUE/",null,null,{"$error":"#DIV/0!"},null,null,{"$error":"#DIV/0!"},{"$error":"#DIV/0!"},{"$f":"IF(SUM(#REF!)>0,\"Tak\",\"\")","v":{"$error":"#REF!"}},{"$f":"IF(OR(G1208<0,J1208<0,#REF!<0,#REF!<0),\"ujemny plan\",\"\")","v":{"$error":"#REF!"}}]
["DZB/4/IW","Inicjatywy wspólnotowe",750,75023,2007,"SFUE/",null,null,{"$error":"#DIV/0!"},null,null,{"$error":"#DIV/0!"},{"$error":"#DIV/0!"},{"$f":"IF(SUM(#REF!)>0,\"Tak\",\"\")","v":{"$error":"#REF!"}},{"$f":"IF(OR(G1209<0,J1209<0,#REF!<0,#REF!<0),\"ujemny plan\",\"\")","v":{"$error":"#REF!"}}]
["DZB/4/IW","Inicjatywy wspólnotowe",750,75023,2007,"SFUE/",null,null,{"$error":"#DIV/0!"},null,null,{"$error":"#DIV/0!"},{"$error":"#DIV/0!"},{"$f":"IF(SUM(#REF!)>0,\"Tak\",\"\")","v":{"$error":"#REF!"}},{"$f":"IF(OR(G1210<0,J1210<0,#REF!<0,#REF!<0),\"ujemny plan\",\"\")","v":{"$error":"#REF!"}}]
["DZB/4/IW","Inicjatywy wspólnotowe",750,75023,2007,"SFUE/",null,null,{"$error":"#DIV/0!"},null,null,{"$error":"#DIV/0!"},{"$error":"#DIV/0!"},{"$f":"IF(SUM(#REF!)>0,\"Tak\",\"\")","v":{"$error":"#REF!"}},{"$f":"IF(OR(G1211<0,J1211<0,#REF!<0,#REF!<0),\"ujemny plan\",\"\")","v":{"$error":"#REF!"}}]
["DZB/4/IW","Inicjatywy wspólnotowe",750,75023,2007,"SFUE/",null,null,{"$error":"#DIV/0!"},null,null,{"$error":"#DIV/0!"},{"$error":"#DIV/0!"},{"$f":"IF(SUM(#REF!)>0,\"Tak\",\"\")","v":{"$error":"#REF!"}},{"$f":"IF(OR(G1212<0,J1212<0,#REF!<0,#REF!<0),\"ujemny plan\",\"\")","v":{"$error":"#REF!"}}]
["DZB/4/IW","Inicjatywy wspólnotowe",750,75023,2007,"SFUE/",null,null,{"$error":"#DIV/0!"},null,null,{"$error":"#DIV/0!"},{"$error":"#DIV/0!"},{"$f":"IF(SUM(#REF!)>0,\"Tak\",\"\")","v":{"$error":"#REF!"}},{"$f":"IF(OR(G1213<0,J1213<0,#REF!<0,#REF!<0),\"ujemny plan\",\"\")","v":{"$error":"#REF!"}}]
["DZB/4/IW","Inicjatywy wspólnotowe",750,75023,2007,"SFUE/",null,null,{"$error":"#DIV/0!"},null,null,{"$error":"#DIV/0!"},{"$error":"#DIV/0!"},{"$f":"IF(SUM(#REF!)>0,\"Tak\",\"\")","v":{"$error":"#REF!"}},{"$f":"IF(OR(G1214<0,J1214<0,#REF!<0,#REF!<0),\"ujemny plan\",\"\")","v":{"$error":"#REF!"}}]
["DZB/4/IW","Inicjatywy wspólnotowe",750,75023,2007,"SFUE/",null,null,{"$error":"#DIV/0!"},null,null,{"$error":"#DIV/0!"},{"$error":"#DIV/0!"},{"$f":"IF(SUM(#REF!)>0,\"Tak\",\"\")","v":{"$error":"#REF!"}},{"$f":"IF(OR(G1215<0,J1215<0,#REF!<0,#REF!<0),\"ujemny plan\",\"\")","v":{"$error":"#REF!"}}]
["DZB/4/IW","Inicjatywy wspólnotowe",750,75023,2007,"SFUE/",null,null,{"$error":"#DIV/0!"},null,null,{"$error":"#DIV/0!"},{"$error":"#DIV/0!"},{"$f":"IF(SUM(#REF!)>0,\"Tak\",\"\")","v":{"$error":"#REF!"}},{"$f":"IF(OR(G1216<0,J1216<0,#REF!<0,#REF!<0),\"ujemny plan\",\"\")","v":{"$error":"#REF!"}}]
["DZB/4/IW","Inicjatywy wspólnotowe",750,75023,2007,"SFUE/",null,null,{"$error":"#DIV/0!"},null,null,{"$error":"#DIV/0!"},{"$error":"#DIV/0!"},{"$f":"IF(SUM(#REF!)>0,\"Tak\",\"\")","v":{"$error":"#REF!"}},{"$f":"IF(OR(G1217<0,J1217<0,#REF!<0,#REF!<0),\"ujemny plan\",\"\")","v":{"$error":"#REF!"}}]
["DZB/4/IW","Inicjatywy wspólnotowe",750,75023,2007,"SFUE/",null,null,{"$error":"#DIV/0!"},null,null,{"$error":"#DIV/0!"},{"$error":"#DIV/0!"},{"$f":"IF(SUM(#REF!)>0,\"Tak\",\"\")","v":{"$error":"#REF!"}},{"$f":"IF(OR(G1218<0,J1218<0,#REF!<0,#REF!<0),\"ujemny plan\",\"\")","v":{"$error":"#REF!"}}]
["DZB/4/IW","Inicjatywy wspólnotowe",750,75023,2007,"SFUE/",null,null,{"$error":"#DIV/0!"},null,null,{"$error":"#DIV/0!"},{"$error":"#DIV/0!"},{"$f":"IF(SUM(#REF!)>0,\"Tak\",\"\")","v":{"$error":"#REF!"}},{"$f":"IF(OR(G1219<0,J1219<0,#REF!<0,#REF!<0),\"ujemny plan\",\"\")","v":{"$error":"#REF!"}}]
["DZB/4/IW","Inicjatywy wspólnotowe",750,75023,2007,"SFUE/",null,null,{"$error":"#DIV/0!"},null,null,{"$error":"#DIV/0!"},{"$error":"#DIV/0!"},{"$f":"IF(SUM(#REF!)>0,\"Tak\",\"\")","v":{"$error":"#REF!"}},{"$f":"IF(OR(G1220<0,J1220<0,#REF!<0,#REF!<0),\"ujemny plan\",\"\")","v":{"$error":"#REF!"}}]
["DZB/4/IW","Inicjatywy wspólnotowe",750,75023,2007,"SFUE/",null,null,{"$error":"#DIV/0!"},null,null,{"$error":"#DIV/0!"},{"$error":"#DIV/0!"},{"$f":"IF(SUM(#REF!)>0,\"Tak\",\"\")","v":{"$error":"#REF!"}},{"$f":"IF(OR(G1221<0,J1221<0,#REF!<0,#REF!<0),\"ujemny plan\",\"\")","v":{"$error":"#REF!"}}]
["DZB/4/IW","Inicjatywy wspólnotowe",750,75023,2007,"SFUE/",null,null,{"$error":"#DIV/0!"},null,null,{"$error":"#DIV/0!"},{"$error":"#DIV/0!"},{"$f":"IF(SUM(#REF!)>0,\"Tak\",\"\")","v":{"$error":"#REF!"}},{"$f":"IF(OR(G1222<0,J1222<0,#REF!<0,#REF!<0),\"ujemny plan\",\"\")","v":{"$error":"#REF!"}}]
["DZB/4/IW","Inicjatywy wspólnotowe",750,75023,2007,"SFUE/",null,null,{"$error":"#DIV/0!"},null,null,{"$error":"#DIV/0!"},{"$error":"#DIV/0!"},{"$f":"IF(SUM(#REF!)>0,\"Tak\",\"\")","v":{"$error":"#REF!"}},{"$f":"IF(OR(G1223<0,J1223<0,#REF!<0,#REF!<0),\"ujemny plan\",\"\")","v":{"$error":"#REF!"}}]
["DZB/4/IW","Inicjatywy wspólnotowe",750,75023,2007,"SFUE/",null,null,{"$error":"#DIV/0!"},null,null,{"$error":"#DIV/0!"},{"$f":"IF(SUM(G1224:L1224)>0,\"Tak\",\"\")","v":{"$error":"#DIV/0!"}},{"$f":"IF(SUM(#REF!)>0,\"Tak\",\"\")","v":{"$error":"#REF!"}},{"$f":"IF(OR(G1224<0,J1224<0,#REF!<0,#REF!<0),\"ujemny plan\",\"\")","v":{"$error":"#REF!"}}]
["DZB/4/IW","Inicjatywy wspólnotowe",750,75023,2007,"SFUE/",null,null,{"$f":"H1225/G1225","v":{"$error":"#DIV/0!"}},null,null,{"$f":"K1225/J1225","v":{"$error":"#DIV/0!"}},{"$error":"#DIV/0!"},{"$f":"IF(SUM(#REF!)>0,\"Tak\",\"\")","v":{"$error":"#REF!"}},{"$f":"IF(OR(G1225<0,J1225<0,#REF!<0,#REF!<0),\"ujemny plan\",\"\")","v":{"$error":"#REF!"}}]
["DZB/4/IW","Inicjatywy wspólnotowe",750,75023,2007,"SFUE/",null,null,{"$error":"#DIV/0!"},null,null,{"$error":"#DIV/0!"},{"$error":"#DIV/0!"},{"$f":"IF(SUM(#REF!)>0,\"Tak\",\"\")","v":{"$error":"#REF!"}},{"$f":"IF(OR(G1226<0,J1226<0,#REF!<0,#REF!<0),\"ujemny plan\",\"\")","v":{"$error":"#REF!"}}]
["DZB/4/IW","Inicjatywy wspólnotowe",750,75023,2007,"SFUE/",null,null,{"$error":"#DIV/0!"},null,null,{"$error":"#DIV/0!"},{"$error":"#DIV/0!"},{"$f":"IF(SUM(#REF!)>0,\"Tak\",\"\")","v":{"$error":"#REF!"}},{"$f":"IF(OR(G1227<0,J1227<0,#REF!<0,#REF!<0),\"ujemny plan\",\"\")","v":{"$error":"#REF!"}}]
["DZB/4/IW","Inicjatywy wspólnotowe",750,75023,2007,"SFUE/",null,null,{"$error":"#DIV/0!"},null,null,{"$error":"#DIV/0!"},{"$error":"#DIV/0!"},{"$f":"IF(SUM(#REF!)>0,\"Tak\",\"\")","v":{"$error":"#REF!"}},{"$f":"IF(OR(G1228<0,J1228<0,#REF!<0,#REF!<0),\"ujemny plan\",\"\")","v":{"$error":"#REF!"}}]
["DZB/4/IW","Inicjatywy wspólnotowe",750,75023,2007,"SFUE/",null,null,{"$error":"#DIV/0!"},null,null,{"$error":"#DIV/0!"},{"$error":"#DIV/0!"},{"$f":"IF(SUM(#REF!)>0,\"Tak\",\"\")","v":{"$error":"#REF!"}},{"$f":"IF(OR(G1229<0,J1229<0,#REF!<0,#REF!<0),\"ujemny plan\",\"\")","v":{"$error":"#REF!"}}]
["DZB/4/IW","Inicjatywy wspólnotowe",750,75023,2007,"SFUE/",null,null,{"$error":"#DIV/0!"},null,null,{"$error":"#DIV/0!"},{"$error":"#DIV/0!"},{"$f":"IF(SUM(#REF!)>0,\"Tak\",\"\")","v":{"$error":"#REF!"}},{"$f":"IF(OR(G1230<0,J1230<0,#REF!<0,#REF!<0),\"ujemny plan\",\"\")","v":{"$error":"#REF!"}}]
["DZB/4/IW","Inicjatywy wspólnotowe",750,75023,2007,"SFUE/",null,null,{"$error":"#DIV/0!"},null,null,{"$error":"#DIV/0!"},{"$error":"#DIV/0!"},{"$f":"IF(SUM(#REF!)>0,\"Tak\",\"\")","v":{"$error":"#REF!"}},{"$f":"IF(OR(G1231<0,J1231<0,#REF!<0,#REF!<0),\"ujemny plan\",\"\")","v":{"$error":"#REF!"}}]
["DZB/4/IW","Inicjatywy wspólnotowe",750,75023,2007,"SFUE/",null,null,{"$error":"#DIV/0!"},null,null,{"$error":"#DIV/0!"},{"$error":"#DIV/0!"},{"$f":"IF(SUM(#REF!)>0,\"Tak\",\"\")","v":{"$error":"#REF!"}},{"$f":"IF(OR(G1232<0,J1232<0,#REF!<0,#REF!<0),\"ujemny plan\",\"\")","v":{"$error":"#REF!"}}]
["DZB/4/IW","Inicjatywy wspólnotowe",750,75023,2007,"SFUE/",null,null,{"$error":"#DIV/0!"},null,null,{"$error":"#DIV/0!"},{"$error":"#DIV/0!"},{"$f":"IF(SUM(#REF!)>0,\"Tak\",\"\")","v":{"$error":"#REF!"}},{"$f":"IF(OR(G1233<0,J1233<0,#REF!<0,#REF!<0),\"ujemny plan\",\"\")","v":{"$error":"#REF!"}}]
["DZB/4/IW","Inicjatywy wspólnotowe",750,75023,2007,"SFUE/",null,null,{"$error":"#DIV/0!"},null,null,{"$error":"#DIV/0!"},{"$error":"#DIV/0!"},{"$f":"IF(SUM(#REF!)>0,\"Tak\",\"\")","v":{"$error":"#REF!"}},{"$f":"IF(OR(G1234<0,J1234<0,#REF!<0,#REF!<0),\"ujemny plan\",\"\")","v":{"$error":"#REF!"}}]
["DZB/4/IW","Inicjatywy wspólnotowe",750,75023,2007,"SFUE/",null,null,{"$error":"#DIV/0!"},null,null,{"$error":"#DIV/0!"},{"$error":"#DIV/0!"},{"$f":"IF(SUM(#REF!)>0,\"Tak\",\"\")","v":{"$error":"#REF!"}},{"$f":"IF(OR(G1235<0,J1235<0,#REF!<0,#REF!<0),\"ujemny plan\",\"\")","v":{"$error":"#REF!"}}]
["DZB/4/IW","Inicjatywy wspólnotowe",801,80195,2007,"SFUE/",null,null,{"$error":"#DIV/0!"},null,null,{"$error":"#DIV/0!"},{"$error":"#DIV/0!"},{"$f":"IF(SUM(#REF!)>0,\"Tak\",\"\")","v":{"$error":"#REF!"}},{"$f":"IF(OR(G1236<0,J1236<0,#REF!<0,#REF!<0),\"ujemny plan\",\"\")","v":{"$error":"#REF!"}}]
["DZB/4/IW","Inicjatywy wspólnotowe",801,80195,2007,"SFUE/",null,null,{"$error":"#DIV/0!"},null,null,{"$error":"#DIV/0!"},{"$error":"#DIV/0!"},{"$f":"IF(SUM(#REF!)>0,\"Tak\",\"\")","v":{"$error":"#REF!"}},{"$f":"IF(OR(G1237<0,J1237<0,#REF!<0,#REF!<0),\"ujemny plan\",\"\")","v":{"$error":"#REF!"}}]
["DZB/4/IW","Inicjatywy wspólnotowe",801,80195,2007,"SFUE/",null,null,{"$error":"#DIV/0!"},null,null,{"$error":"#DIV/0!"},{"$error":"#DIV/0!"},{"$f":"IF(SUM(#REF!)>0,\"Tak\",\"\")","v":{"$error":"#REF!"}},{"$f":"IF(OR(G1238<0,J1238<0,#REF!<0,#REF!<0),\"ujemny plan\",\"\")","v":{"$error":"#REF!"}}]
["DZB/4/IW","Inicjatywy wspólnotowe",801,80195,2007,"SFUE/",null,null,{"$error":"#DIV/0!"},null,null,{"$error":"#DIV/0!"},{"$error":"#DIV/0!"},{"$f":"IF(SUM(#REF!)>0,\"Tak\",\"\")","v":{"$error":"#REF!"}},{"$f":"IF(OR(G1239<0,J1239<0,#REF!<0,#REF!<0),\"ujemny plan\",\"\")","v":{"$error":"#REF!"}}]
["DZB/4/IW","Inicjatywy wspólnotowe",801,80195,2007,"SFUE/",null,null,{"$error":"#DIV/0!"},null,null,{"$error":"#DIV/0!"},{"$error":"#DIV/0!"},{"$f":"IF(SUM(#REF!)>0,\"Tak\",\"\")","v":{"$error":"#REF!"}},{"$f":"IF(OR(G1240<0,J1240<0,#REF!<0,#REF!<0),\"ujemny plan\",\"\")","v":{"$error":"#REF!"}}]
["DZB/4/IW","Inicjatywy wspólnotowe",801,80195,2007,"SFUE/",null,null,{"$error":"#DIV/0!"},null,null,{"$error":"#DIV/0!"},{"$error":"#DIV/0!"},{"$f":"IF(SUM(#REF!)>0,\"Tak\",\"\")","v":{"$error":"#REF!"}},{"$f":"IF(OR(G1241<0,J1241<0,#REF!<0,#REF!<0),\"ujemny plan\",\"\")","v":{"$error":"#REF!"}}]
["DZB/4/IW","Inicjatywy wspólnotowe",801,80195,2007,"SFUE/",null,null,{"$error":"#DIV/0!"},null,null,{"$error":"#DIV/0!"},{"$error":"#DIV/0!"},{"$f":"IF(SUM(#REF!)>0,\"Tak\",\"\")","v":{"$error":"#REF!"}},{"$f":"IF(OR(G1242<0,J1242<0,#REF!<0,#REF!<0),\"ujemny plan\",\"\")","v":{"$error":"#REF!"}}]
["DZB/4/IW","Inicjatywy wspólnotowe",801,80195,2007,"SFUE/",null,null,{"$error":"#DIV/0!"},null,null,{"$error":"#DIV/0!"},{"$error":"#DIV/0!"},{"$f":"IF(SUM(#REF!)>0,\"Tak\",\"\")","v":{"$error":"#REF!"}},{"$f":"IF(OR(G1243<0,J1243<0,#REF!<0,#REF!<0),\"ujemny plan\",\"\")","v":{"$error":"#REF!"}}]
["DZB/4/IW","Inicjatywy wspólnotowe",801,80195,2007,"SFUE/",null,null,{"$error":"#DIV/0!"},null,null,{"$error":"#DIV/0!"},{"$error":"#DIV/0!"},{"$f":"IF(SUM(#REF!)>0,\"Tak\",\"\")","v":{"$error":"#REF!"}},{"$f":"IF(OR(G1244<0,J1244<0,#REF!<0,#REF!<0),\"ujemny plan\",\"\")","v":{"$error":"#REF!"}}]
["DZB/4/IW","Inicjatywy wspólnotowe",801,80195,2007,"SFUE/",null,null,{"$error":"#DIV/0!"},null,null,{"$error":"#DIV/0!"},{"$error":"#DIV/0!"},{"$f":"IF(SUM(#REF!)>0,\"Tak\",\"\")","v":{"$error":"#REF!"}},{"$f":"IF(OR(G1245<0,J1245<0,#REF!<0,#REF!<0),\"ujemny plan\",\"\")","v":{"$error":"#REF!"}}]
["DZB/4/IW","Inicjatywy wspólnotowe",801,80195,2007,"SFUE/",null,null,{"$error":"#DIV/0!"},null,null,{"$error":"#DIV/0!"},{"$error":"#DIV/0!"},{"$f":"IF(SUM(#REF!)>0,\"Tak\",\"\")","v":{"$error":"#REF!"}},{"$f":"IF(OR(G1246<0,J1246<0,#REF!<0,#REF!<0),\"ujemny plan\",\"\")","v":{"$error":"#REF!"}}]
["DZB/4/IW","Inicjatywy wspólnotowe",801,80195,2007,"SFUE/",null,null,{"$error":"#DIV/0!"},null,null,{"$error":"#DIV/0!"},{"$error":"#DIV/0!"},{"$f":"IF(SUM(#REF!)>0,\"Tak\",\"\")","v":{"$error":"#REF!"}},{"$f":"IF(OR(G1247<0,J1247<0,#REF!<0,#REF!<0),\"ujemny plan\",\"\")","v":{"$error":"#REF!"}}]
["DZB/4/IW","Inicjatywy wspólnotowe",801,80195,2007,"SFUE/",null,null,{"$error":"#DIV/0!"},null,null,{"$error":"#DIV/0!"},{"$error":"#DIV/0!"},{"$f":"IF(SUM(#REF!)>0,\"Tak\",\"\")","v":{"$error":"#REF!"}},{"$f":"IF(OR(G1248<0,J1248<0,#REF!<0,#REF!<0),\"ujemny plan\",\"\")","v":{"$error":"#REF!"}}]
["DZB/4/IW","Inicjatywy wspólnotowe",801,80195,2007,"SFUE/",null,null,{"$error":"#DIV/0!"},null,null,{"$error":"#DIV/0!"},{"$error":"#DIV/0!"},{"$f":"IF(SUM(#REF!)>0,\"Tak\",\"\")","v":{"$error":"#REF!"}},{"$f":"IF(OR(G1249<0,J1249<0,#REF!<0,#REF!<0),\"ujemny plan\",\"\")","v":{"$error":"#REF!"}}]
["DZB/4/IW","Inicjatywy wspólnotowe",801,80195,2007,"SFUE/",null,null,{"$error":"#DIV/0!"},null,null,{"$error":"#DIV/0!"},{"$error":"#DIV/0!"},{"$f":"IF(SUM(#REF!)>0,\"Tak\",\"\")","v":{"$error":"#REF!"}},{"$f":"IF(OR(G1250<0,J1250<0,#REF!<0,#REF!<0),\"ujemny plan\",\"\")","v":{"$error":"#REF!"}}]
["DZB/4/IW","Inicjatywy wspólnotowe",801,80195,2007,"SFUE/",null,null,{"$error":"#DIV/0!"},null,null,{"$error":"#DIV/0!"},{"$error":"#DIV/0!"},{"$f":"IF(SUM(#REF!)>0,\"Tak\",\"\")","v":{"$error":"#REF!"}},{"$f":"IF(OR(G1251<0,J1251<0,#REF!<0,#REF!<0),\"ujemny plan\",\"\")","v":{"$error":"#REF!"}}]
["DZB/4/IW","Inicjatywy wspólnotowe",801,80195,2007,"SFUE/",null,null,{"$error":"#DIV/0!"},null,null,{"$error":"#DIV/0!"},{"$error":"#DIV/0!"},{"$f":"IF(SUM(#REF!)>0,\"Tak\",\"\")","v":{"$error":"#REF!"}},{"$f":"IF(OR(G1252<0,J1252<0,#REF!<0,#REF!<0),\"ujemny plan\",\"\")","v":{"$error":"#REF!"}}]
["DZB/4/IW","Inicjatywy wspólnotowe",801,80195,2007,"SFUE/",null,null,{"$error":"#DIV/0!"},null,null,{"$error":"#DIV/0!"},{"$error":"#DIV/0!"},{"$f":"IF(SUM(#REF!)>0,\"Tak\",\"\")","v":{"$error":"#REF!"}},{"$f":"IF(OR(G1253<0,J1253<0,#REF!<0,#REF!<0),\"ujemny plan\",\"\")","v":{"$error":"#REF!"}}]
["DZB/4/IW","Inicjatywy wspólnotowe",801,80195,2007,"SFUE/",null,null,{"$error":"#DIV/0!"},null,null,{"$error":"#DIV/0!"},{"$error":"#DIV/0!"},{"$f":"IF(SUM(#REF!)>0,\"Tak\",\"\")","v":{"$error":"#REF!"}},{"$f":"IF(OR(G1254<0,J1254<0,#REF!<0,#REF!<0),\"ujemny plan\",\"\")","v":{"$error":"#REF!"}}]
["DZB/4/IW","Inicjatywy wspólnotowe",801,80195,2007,"SFUE/",null,null,{"$error":"#DIV/0!"},null,null,{"$error":"#DIV/0!"},{"$error":"#DIV/0!"},{"$f":"IF(SUM(#REF!)>0,\"Tak\",\"\")","v":{"$error":"#REF!"}},{"$f":"IF(OR(G1255<0,J1255<0,#REF!<0,#REF!<0),\"ujemny plan\",\"\")","v":{"$error":"#REF!"}}]
["DZB/4/IW","Inicjatywy wspólnotowe",801,80195,2007,"SFUE/",null,null,{"$error":"#DIV/0!"},null,null,{"$error":"#DIV/0!"},{"$error":"#DIV/0!"},{"$f":"IF(SUM(#REF!)>0,\"Tak\",\"\")","v":{"$error":"#REF!"}},{"$f":"IF(OR(G1256<0,J1256<0,#REF!<0,#REF!<0),\"ujemny plan\",\"\")","v":{"$error":"#REF!"}}]
["DZB/4/IW","Inicjatywy wspólnotowe",801,80195,2007,"SFUE/",null,null,{"$error":"#DIV/0!"},null,null,{"$error":"#DIV/0!"},{"$error":"#DIV/0!"},{"$f":"IF(SUM(#REF!)>0,\"Tak\",\"\")","v":{"$error":"#REF!"}},{"$f":"IF(OR(G1257<0,J1257<0,#REF!<0,#REF!<0),\"ujemny plan\",\"\")","v":{"$error":"#REF!"}}]
["DZB/4/IW","Inicjatywy wspólnotowe",801,80195,2007,"SFUE/",null,null,{"$error":"#DIV/0!"},null,null,{"$error":"#DIV/0!"},{"$error":"#DIV/0!"},{"$f":"IF(SUM(#REF!)>0,\"Tak\",\"\")","v":{"$error":"#REF!"}},{"$f":"IF(OR(G1258<0,J1258<0,#REF!<0,#REF!<0),\"ujemny plan\",\"\")","v":{"$error":"#REF!"}}]
["DZB/4/IW","Inicjatywy wspólnotowe",801,80195,2007,"SFUE/",null,null,{"$error":"#DIV/0!"},null,null,{"$error":"#DIV/0!"},{"$error":"#DIV/0!"},{"$f":"IF(SUM(#REF!)>0,\"Tak\",\"\")","v":{"$error":"#REF!"}},{"$f":"IF(OR(G1259<0,J1259<0,#REF!<0,#REF!<0),\"ujemny plan\",\"\")","v":{"$error":"#REF!"}}]
["DZB/4/IW","Inicjatywy wspólnotowe",801,80195,2007,"SFUE/",null,null,{"$error":"#DIV/0!"},null,null,{"$error":"#DIV/0!"},{"$error":"#DIV/0!"},{"$f":"IF(SUM(#REF!)>0,\"Tak\",\"\")","v":{"$error":"#REF!"}},{"$f":"IF(OR(G1260<0,J1260<0,#REF!<0,#REF!<0),\"ujemny plan\",\"\")","v":{"$error":"#REF!"}}]
["DZB/4/IW","Inicjatywy wspólnotowe",801,80195,2007,"SFUE/",null,null,{"$error":"#DIV/0!"},null,null,{"$error":"#DIV/0!"},{"$error":"#DIV/0!"},{"$f":"IF(SUM(#REF!)>0,\"Tak\",\"\")","v":{"$error":"#REF!"}},{"$f":"IF(OR(G1261<0,J1261<0,#REF!<0,#REF!<0),\"ujemny plan\",\"\")","v":{"$error":"#REF!"}}]
["DZB/4/IW","Inicjatywy wspólnotowe",801,80195,2007,"SFUE/",null,null,{"$error":"#DIV/0!"},null,null,{"$error":"#DIV/0!"},{"$error":"#DIV/0!"},{"$f":"IF(SUM(#REF!)>0,\"Tak\",\"\")","v":{"$error":"#REF!"}},{"$f":"IF(OR(G1262<0,J1262<0,#REF!<0,#REF!<0),\"ujemny plan\",\"\")","v":{"$error":"#REF!"}}]
["DZB/4/IW","Inicjatywy wspólnotowe",801,80195,2007,"SFUE/",null,null,{"$error":"#DIV/0!"},null,null,{"$error":"#DIV/0!"},{"$error":"#DIV/0!"},{"$f":"IF(SUM(#REF!)>0,\"Tak\",\"\")","v":{"$error":"#REF!"}},{"$f":"IF(OR(G1263<0,J1263<0,#REF!<0,#REF!<0),\"ujemny plan\",\"\")","v":{"$error":"#REF!"}}]
["DZB/4/IW","Inicjatywy wspólnotowe",801,80195,2007,"SFUE/",null,null,{"$error":"#DIV/0!"},null,null,{"$error":"#DIV/0!"},{"$error":"#DIV/0!"},{"$f":"IF(SUM(#REF!)>0,\"Tak\",\"\")","v":{"$error":"#REF!"}},{"$f":"IF(OR(G1264<0,J1264<0,#REF!<0,#REF!<0),\"ujemny plan\",\"\")","v":{"$error":"#REF!"}}]
["DZB/4/IW","Inicjatywy wspólnotowe",801,80195,2007,"SFUE/",null,null,{"$error":"#DIV/0!"},null,null,{"$error":"#DIV/0!"},{"$error":"#DIV/0!"},{"$f":"IF(SUM(#REF!)>0,\"Tak\",\"\")","v":{"$error":"#REF!"}},{"$f":"IF(OR(G1265<0,J1265<0,#REF!<0,#REF!<0),\"ujemny plan\",\"\")","v":{"$error":"#REF!"}}]
["DZB/4/IW","Inicjatywy wspólnotowe",801,80195,2007,"SFUE/",null,null,{"$error":"#DIV/0!"},null,null,{"$error":"#DIV/0!"},{"$error":"#DIV/0!"},{"$f":"IF(SUM(#REF!)>0,\"Tak\",\"\")","v":{"$error":"#REF!"}},{"$f":"IF(OR(G1266<0,J1266<0,#REF!<0,#REF!<0),\"ujemny plan\",\"\")","v":{"$error":"#REF!"}}]
["DZB/4/IW","Inicjatywy wspólnotowe",801,80195,2007,"SFUE/",null,null,{"$error":"#DIV/0!"},null,null,{"$error":"#DIV/0!"},{"$error":"#DIV/0!"},{"$f":"IF(SUM(#REF!)>0,\"Tak\",\"\")","v":{"$error":"#REF!"}},{"$f":"IF(OR(G1267<0,J1267<0,#REF!<0,#REF!<0),\"ujemny plan\",\"\")","v":{"$error":"#REF!"}}]
["DZB/4/IW","Inicjatywy wspólnotowe",801,80195,2007,"SFUE/",null,null,{"$error":"#DIV/0!"},null,null,{"$error":"#DIV/0!"},{"$error":"#DIV/0!"},{"$f":"IF(SUM(#REF!)>0,\"Tak\",\"\")","v":{"$error":"#REF!"}},{"$f":"IF(OR(G1268<0,J1268<0,#REF!<0,#REF!<0),\"ujemny plan\",\"\")","v":{"$error":"#REF!"}}]
["DZB/4/IW","Inicjatywy wspólnotowe",801,80195,2007,"SFUE/",null,null,{"$error":"#DIV/0!"},null,null,{"$error":"#DIV/0!"},{"$error":"#DIV/0!"},{"$f":"IF(SUM(#REF!)>0,\"Tak\",\"\")","v":{"$error":"#REF!"}},{"$f":"IF(OR(G1269<0,J1269<0,#REF!<0,#REF!<0),\"ujemny plan\",\"\")","v":{"$error":"#REF!"}}]
["DZB/4/IW","Inicjatywy wspólnotowe",801,80195,2007,"SFUE/",null,null,{"$error":"#DIV/0!"},null,null,{"$error":"#DIV/0!"},{"$error":"#DIV/0!"},{"$f":"IF(SUM(#REF!)>0,\"Tak\",\"\")","v":{"$error":"#REF!"}},{"$f":"IF(OR(G1270<0,J1270<0,#REF!<0,#REF!<0),\"ujemny plan\",\"\")","v":{"$error":"#REF!"}}]
["DZB/4/IW","Inicjatywy wspólnotowe",801,80195,2007,"SFUE/",null,null,{"$error":"#DIV/0!"},null,null,{"$error":"#DIV/0!"},{"$error":"#DIV/0!"},{"$f":"IF(SUM(#REF!)>0,\"Tak\",\"\")","v":{"$error":"#REF!"}},{"$f":"IF(OR(G1271<0,J1271<0,#REF!<0,#REF!<0),\"ujemny plan\",\"\")","v":{"$error":"#REF!"}}]
["DZB/4/IW","Inicjatywy wspólnotowe",801,80195,2007,"SFUE/",null,null,{"$error":"#DIV/0!"},null,null,{"$error":"#DIV/0!"},{"$error":"#DIV/0!"},{"$f":"IF(SUM(#REF!)>0,\"Tak\",\"\")","v":{"$error":"#REF!"}},{"$f":"IF(OR(G1272<0,J1272<0,#REF!<0,#REF!<0),\"ujemny plan\",\"\")","v":{"$error":"#REF!"}}]
["DZB/4/IW","Inicjatywy wspólnotowe",801,80195,2007,"SFUE/",null,null,{"$error":"#DIV/0!"},null,null,{"$error":"#DIV/0!"},{"$error":"#DIV/0!"},{"$f":"IF(SUM(#REF!)>0,\"Tak\",\"\")","v":{"$error":"#REF!"}},{"$f":"IF(OR(G1273<0,J1273<0,#REF!<0,#REF!<0),\"ujemny plan\",\"\")","v":{"$error":"#REF!"}}]
["DZB/4/IW","Inicjatywy wspólnotowe",801,80195,2007,"SFUE/",null,null,{"$error":"#DIV/0!"},null,null,{"$error":"#DIV/0!"},{"$error":"#DIV/0!"},{"$f":"IF(SUM(#REF!)>0,\"Tak\",\"\")","v":{"$error":"#REF!"}},{"$f":"IF(OR(G1274<0,J1274<0,#REF!<0,#REF!<0),\"ujemny plan\",\"\")","v":{"$error":"#REF!"}}]
["DZB/4/IW","Inicjatywy wspólnotowe",801,80195,2007,"SFUE/",null,null,{"$error":"#DIV/0!"},null,null,{"$error":"#DIV/0!"},{"$error":"#DIV/0!"},{"$f":"IF(SUM(#REF!)>0,\"Tak\",\"\")","v":{"$error":"#REF!"}},{"$f":"IF(OR(G1275<0,J1275<0,#REF!<0,#REF!<0),\"ujemny plan\",\"\")","v":{"$error":"#REF!"}}]
["DZB/4/IW","Inicjatywy wspólnotowe",801,80195,2007,"SFUE/",null,null,{"$error":"#DIV/0!"},null,null,{"$error":"#DIV/0!"},{"$error":"#DIV/0!"},{"$f":"IF(SUM(#REF!)>0,\"Tak\",\"\")","v":{"$error":"#REF!"}},{"$f":"IF(OR(G1276<0,J1276<0,#REF!<0,#REF!<0),\"ujemny plan\",\"\")","v":{"$error":"#REF!"}}]
["DZB/4/IW","Inicjatywy wspólnotowe",801,80195,2007,"SFUE/",null,null,{"$error":"#DIV/0!"},null,null,{"$error":"#DIV/0!"},{"$error":"#DIV/0!"},{"$f":"IF(SUM(#REF!)>0,\"Tak\",\"\")","v":{"$error":"#REF!"}},{"$f":"IF(OR(G1277<0,J1277<0,#REF!<0,#REF!<0),\"ujemny plan\",\"\")","v":{"$error":"#REF!"}}]
["DZB/4/IW","Inicjatywy wspólnotowe",801,80195,2007,"SFUE/",null,null,{"$error":"#DIV/0!"},null,null,{"$error":"#DIV/0!"},{"$error":"#DIV/0!"},{"$f":"IF(SUM(#REF!)>0,\"Tak\",\"\")","v":{"$error":"#REF!"}},{"$f":"IF(OR(G1278<0,J1278<0,#REF!<0,#REF!<0),\"ujemny plan\",\"\")","v":{"$error":"#REF!"}}]
["DZB/4/IW","Inicjatywy wspólnotowe",801,80195,2007,"SFUE/",null,null,{"$error":"#DIV/0!"},null,null,{"$error":"#DIV/0!"},{"$error":"#DIV/0!"},{"$f":"IF(SUM(#REF!)>0,\"Tak\",\"\")","v":{"$error":"#REF!"}},{"$f":"IF(OR(G1279<0,J1279<0,#REF!<0,#REF!<0),\"ujemny plan\",\"\")","v":{"$error":"#REF!"}}]
["DZB/4/IW","Inicjatywy wspólnotowe",801,80195,2007,"SFUE/",null,null,{"$error":"#DIV/0!"},null,null,{"$error":"#DIV/0!"},{"$error":"#DIV/0!"},{"$f":"IF(SUM(#REF!)>0,\"Tak\",\"\")","v":{"$error":"#REF!"}},{"$f":"IF(OR(G1280<0,J1280<0,#REF!<0,#REF!<0),\"ujemny plan\",\"\")","v":{"$error":"#REF!"}}]
["DZB/4/IW","Inicjatywy wspólnotowe",801,80195,2007,"SFUE/",null,null,{"$error":"#DIV/0!"},null,null,{"$error":"#DIV/0!"},{"$error":"#DIV/0!"},{"$f":"IF(SUM(#REF!)>0,\"Tak\",\"\")","v":{"$error":"#REF!"}},{"$f":"IF(OR(G1281<0,J1281<0,#REF!<0,#REF!<0),\"ujemny plan\",\"\")","v":{"$error":"#REF!"}}]
["DZB/4/IW","Inicjatywy wspólnotowe",801,80195,2007,"SFUE/",null,null,{"$error":"#DIV/0!"},null,null,{"$error":"#DIV/0!"},{"$error":"#DIV/0!"},{"$f":"IF(SUM(#REF!)>0,\"Tak\",\"\")","v":{"$error":"#REF!"}},{"$f":"IF(OR(G1282<0,J1282<0,#REF!<0,#REF!<0),\"ujemny plan\",\"\")","v":{"$error":"#REF!"}}]
["DZB/4/IW","Inicjatywy wspólnotowe",801,80195,2007,"SFUE/",null,null,{"$error":"#DIV/0!"},null,null,{"$error":"#DIV/0!"},{"$error":"#DIV/0!"},{"$f":"IF(SUM(#REF!)>0,\"Tak\",\"\")","v":{"$error":"#REF!"}},{"$f":"IF(OR(G1283<0,J1283<0,#REF!<0,#REF!<0),\"ujemny plan\",\"\")","v":{"$error":"#REF!"}}]
["DZB/4/IW","Inicjatywy wspólnotowe",801,80195,2007,"SFUE/",null,null,{"$error":"#DIV/0!"},null,null,{"$error":"#DIV/0!"},{"$error":"#DIV/0!"},{"$f":"IF(SUM(#REF!)>0,\"Tak\",\"\")","v":{"$error":"#REF!"}},{"$f":"IF(OR(G1284<0,J1284<0,#REF!<0,#REF!<0),\"ujemny plan\",\"\")","v":{"$error":"#REF!"}}]
["DZB/4/IW","Inicjatywy wspólnotowe",801,80195,2007,"SFUE/",null,null,{"$error":"#DIV/0!"},null,null,{"$error":"#DIV/0!"},{"$error":"#DIV/0!"},{"$f":"IF(SUM(#REF!)>0,\"Tak\",\"\")","v":{"$error":"#REF!"}},{"$f":"IF(OR(G1285<0,J1285<0,#REF!<0,#REF!<0),\"ujemny plan\",\"\")","v":{"$error":"#REF!"}}]
["DZB/4/IW","Inicjatywy wspólnotowe",801,80195,2007,"SFUE/",null,null,{"$error":"#DIV/0!"},null,null,{"$error":"#DIV/0!"},{"$error":"#DIV/0!"},{"$f":"IF(SUM(#REF!)>0,\"Tak\",\"\")","v":{"$error":"#REF!"}},{"$f":"IF(OR(G1286<0,J1286<0,#REF!<0,#REF!<0),\"ujemny plan\",\"\")","v":{"$error":"#REF!"}}]
["DZB/4/IW","Inicjatywy wspólnotowe",801,80195,2007,"SFUE/",null,null,{"$error":"#DIV/0!"},null,null,{"$error":"#DIV/0!"},{"$error":"#DIV/0!"},{"$f":"IF(SUM(#REF!)>0,\"Tak\",\"\")","v":{"$error":"#REF!"}},{"$f":"IF(OR(G1287<0,J1287<0,#REF!<0,#REF!<0),\"ujemny plan\",\"\")","v":{"$error":"#REF!"}}]
["DZB/4/IW","Inicjatywy wspólnotowe",801,80195,2007,"SFUE/",null,null,{"$error":"#DIV/0!"},null,null,{"$error":"#DIV/0!"},{"$f":"IF(SUM(G1288:L1288)>0,\"Tak\",\"\")","v":{"$error":"#DIV/0!"}},{"$f":"IF(SUM(#REF!)>0,\"Tak\",\"\")","v":{"$error":"#REF!"}},{"$f":"IF(OR(G1288<0,J1288<0,#REF!<0,#REF!<0),\"ujemny plan\",\"\")","v":{"$error":"#REF!"}}]
["DZB/4/IW","Inicjatywy wspólnotowe",801,80195,2007,"SFUE/",null,null,{"$f":"H1289/G1289","v":{"$error":"#DIV/0!"}},null,null,{"$f":"K1289/J1289","v":{"$error":"#DIV/0!"}},{"$error":"#DIV/0!"},{"$f":"IF(SUM(#REF!)>0,\"Tak\",\"\")","v":{"$error":"#REF!"}},{"$f":"IF(OR(G1289<0,J1289<0,#REF!<0,#REF!<0),\"ujemny plan\",\"\")","v":{"$error":"#REF!"}}]
["DZB/4/IW","Inicjatywy wspólnotowe",801,80195,2007,"SFUE/",null,null,{"$error":"#DIV/0!"},null,null,{"$error":"#DIV/0!"},{"$error":"#DIV/0!"},{"$f":"IF(SUM(#REF!)>0,\"Tak\",\"\")","v":{"$error":"#REF!"}},{"$f":"IF(OR(G1290<0,J1290<0,#REF!<0,#REF!<0),\"ujemny plan\",\"\")","v":{"$error":"#REF!"}}]
["DZB/4/IW","Inicjatywy wspólnotowe",801,80195,2007,"SFUE/",null,null,{"$error":"#DIV/0!"},null,null,{"$error":"#DIV/0!"},{"$error":"#DIV/0!"},{"$f":"IF(SUM(#REF!)>0,\"Tak\",\"\")","v":{"$error":"#REF!"}},{"$f":"IF(OR(G1291<0,J1291<0,#REF!<0,#REF!<0),\"ujemny plan\",\"\")","v":{"$error":"#REF!"}}]
["DZB/4/IW","Inicjatywy wspólnotowe",801,80195,2007,"SFUE/",null,null,{"$error":"#DIV/0!"},null,null,{"$error":"#DIV/0!"},{"$error":"#DIV/0!"},{"$f":"IF(SUM(#REF!)>0,\"Tak\",\"\")","v":{"$error":"#REF!"}},{"$f":"IF(OR(G1292<0,J1292<0,#REF!<0,#REF!<0),\"ujemny plan\",\"\")","v":{"$error":"#REF!"}}]
["DZB/4/IW","Inicjatywy wspólnotowe",801,80195,2007,"SFUE/",null,null,{"$error":"#DIV/0!"},null,null,{"$error":"#DIV/0!"},{"$error":"#DIV/0!"},{"$f":"IF(SUM(#REF!)>0,\"Tak\",\"\")","v":{"$error":"#REF!"}},{"$f":"IF(OR(G1293<0,J1293<0,#REF!<0,#REF!<0),\"ujemny plan\",\"\")","v":{"$error":"#REF!"}}]
["DZB/4/IW","Inicjatywy wspólnotowe",801,80195,2007,"SFUE/",null,null,{"$error":"#DIV/0!"},null,null,{"$error":"#DIV/0!"},{"$error":"#DIV/0!"},{"$f":"IF(SUM(#REF!)>0,\"Tak\",\"\")","v":{"$error":"#REF!"}},{"$f":"IF(OR(G1294<0,J1294<0,#REF!<0,#REF!<0),\"ujemny plan\",\"\")","v":{"$error":"#REF!"}}]
["DZB/4/IW","Inicjatywy wspólnotowe",801,80195,2007,"SFUE/",null,null,{"$error":"#DIV/0!"},null,null,{"$error":"#DIV/0!"},{"$error":"#DIV/0!"},{"$f":"IF(SUM(#REF!)>0,\"Tak\",\"\")","v":{"$error":"#REF!"}},{"$f":"IF(OR(G1295<0,J1295<0,#REF!<0,#REF!<0),\"ujemny plan\",\"\")","v":{"$error":"#REF!"}}]
["DZB/4/IW","Inicjatywy wspólnotowe",853,85395,2007,"SFUE/",null,null,{"$error":"#DIV/0!"},null,null,{"$error":"#DIV/0!"},{"$error":"#DIV/0!"},{"$f":"IF(SUM(#REF!)>0,\"Tak\",\"\")","v":{"$error":"#REF!"}},{"$f":"IF(OR(G1296<0,J1296<0,#REF!<0,#REF!<0),\"ujemny plan\",\"\")","v":{"$error":"#REF!"}}]
["DZB/4/IW","Inicjatywy wspólnotowe",853,85395,2007,"SFUE/",null,null,{"$error":"#DIV/0!"},null,null,{"$error":"#DIV/0!"},{"$error":"#DIV/0!"},{"$f":"IF(SUM(#REF!)>0,\"Tak\",\"\")","v":{"$error":"#REF!"}},{"$f":"IF(OR(G1297<0,J1297<0,#REF!<0,#REF!<0),\"ujemny plan\",\"\")","v":{"$error":"#REF!"}}]
["DZB/4/IW","Inicjatywy wspólnotowe",853,85395,2007,"SFUE/",null,null,{"$error":"#DIV/0!"},null,null,{"$error":"#DIV/0!"},{"$error":"#DIV/0!"},{"$f":"IF(SUM(#REF!)>0,\"Tak\",\"\")","v":{"$error":"#REF!"}},{"$f":"IF(OR(G1298<0,J1298<0,#REF!<0,#REF!<0),\"ujemny plan\",\"\")","v":{"$error":"#REF!"}}]
["DZB/4/IW","Inicjatywy wspólnotowe",853,85395,2007,"SFUE/",null,null,{"$error":"#DIV/0!"},null,null,{"$error":"#DIV/0!"},{"$error":"#DIV/0!"},{"$f":"IF(SUM(#REF!)>0,\"Tak\",\"\")","v":{"$error":"#REF!"}},{"$f":"IF(OR(G1299<0,J1299<0,#REF!<0,#REF!<0),\"ujemny plan\",\"\")","v":{"$error":"#REF!"}}]
["DZB/4/IW","Inicjatywy wspólnotowe",853,85395,2007,"SFUE/",null,null,{"$error":"#DIV/0!"},null,null,{"$error":"#DIV/0!"},{"$error":"#DIV/0!"},{"$f":"IF(SUM(#REF!)>0,\"Tak\",\"\")","v":{"$error":"#REF!"}},{"$f":"IF(OR(G1300<0,J1300<0,#REF!<0,#REF!<0),\"ujemny plan\",\"\")","v":{"$error":"#REF!"}}]
["DZB/4/IW","Inicjatywy wspólnotowe",853,85395,2007,"SFUE/",null,null,{"$error":"#DIV/0!"},null,null,{"$error":"#DIV/0!"},{"$error":"#DIV/0!"},{"$f":"IF(SUM(#REF!)>0,\"Tak\",\"\")","v":{"$error":"#REF!"}},{"$f":"IF(OR(G1301<0,J1301<0,#REF!<0,#REF!<0),\"ujemny plan\",\"\")","v":{"$error":"#REF!"}}]
["DZB/4/IW","Inicjatywy wspólnotowe",853,85395,2007,"SFUE/",null,null,{"$error":"#DIV/0!"},null,null,{"$error":"#DIV/0!"},{"$error":"#DIV/0!"},{"$f":"IF(SUM(#REF!)>0,\"Tak\",\"\")","v":{"$error":"#REF!"}},{"$f":"IF(OR(G1302<0,J1302<0,#REF!<0,#REF!<0),\"ujemny plan\",\"\")","v":{"$error":"#REF!"}}]
["DZB/4/IW","Inicjatywy wspólnotowe",853,85395,2007,"SFUE/",null,null,{"$error":"#DIV/0!"},null,null,{"$error":"#DIV/0!"},{"$error":"#DIV/0!"},{"$f":"IF(SUM(#REF!)>0,\"Tak\",\"\")","v":{"$error":"#REF!"}},{"$f":"IF(OR(G1303<0,J1303<0,#REF!<0,#REF!<0),\"ujemny plan\",\"\")","v":{"$error":"#REF!"}}]
["DZB/4/IW","Inicjatywy wspólnotowe",853,85395,2007,"SFUE/",null,null,{"$error":"#DIV/0!"},null,null,{"$error":"#DIV/0!"},{"$error":"#DIV/0!"},{"$f":"IF(SUM(#REF!)>0,\"Tak\",\"\")","v":{"$error":"#REF!"}},{"$f":"IF(OR(G1304<0,J1304<0,#REF!<0,#REF!<0),\"ujemny plan\",\"\")","v":{"$error":"#REF!"}}]
["DZB/4/IW","Inicjatywy wspólnotowe",853,85395,2007,"SFUE/",null,null,{"$error":"#DIV/0!"},null,null,{"$error":"#DIV/0!"},{"$error":"#DIV/0!"},{"$f":"IF(SUM(#REF!)>0,\"Tak\",\"\")","v":{"$error":"#REF!"}},{"$f":"IF(OR(G1305<0,J1305<0,#REF!<0,#REF!<0),\"ujemny plan\",\"\")","v":{"$error":"#REF!"}}]
["DZB/4/IW","Inicjatywy wspólnotowe",853,85395,2007,"SFUE/",null,null,{"$error":"#DIV/0!"},null,null,{"$error":"#DIV/0!"},{"$error":"#DIV/0!"},{"$f":"IF(SUM(#REF!)>0,\"Tak\",\"\")","v":{"$error":"#REF!"}},{"$f":"IF(OR(G1306<0,J1306<0,#REF!<0,#REF!<0),\"ujemny plan\",\"\")","v":{"$error":"#REF!"}}]
["DZB/4/IW","Inicjatywy wspólnotowe",853,85395,2007,"SFUE/",null,null,{"$error":"#DIV/0!"},null,null,{"$error":"#DIV/0!"},{"$error":"#DIV/0!"},{"$f":"IF(SUM(#REF!)>0,\"Tak\",\"\")","v":{"$error":"#REF!"}},{"$f":"IF(OR(G1307<0,J1307<0,#REF!<0,#REF!<0),\"ujemny plan\",\"\")","v":{"$error":"#REF!"}}]
["DZB/4/IW","Inicjatywy wspólnotowe",853,85395,2007,"SFUE/",null,null,{"$error":"#DIV/0!"},null,null,{"$error":"#DIV/0!"},{"$error":"#DIV/0!"},{"$f":"IF(SUM(#REF!)>0,\"Tak\",\"\")","v":{"$error":"#REF!"}},{"$f":"IF(OR(G1308<0,J1308<0,#REF!<0,#REF!<0),\"ujemny plan\",\"\")","v":{"$error":"#REF!"}}]
["DZB/4/IW","Inicjatywy wspólnotowe",853,85395,2007,"SFUE/",null,null,{"$error":"#DIV/0!"},null,null,{"$error":"#DIV/0!"},{"$error":"#DIV/0!"},{"$f":"IF(SUM(#REF!)>0,\"Tak\",\"\")","v":{"$error":"#REF!"}},{"$f":"IF(OR(G1309<0,J1309<0,#REF!<0,#REF!<0),\"ujemny plan\",\"\")","v":{"$error":"#REF!"}}]
["DZB/4/IW","Inicjatywy wspólnotowe",853,85395,2007,"SFUE/",null,null,{"$error":"#DIV/0!"},null,null,{"$error":"#DIV/0!"},{"$error":"#DIV/0!"},{"$f":"IF(SUM(#REF!)>0,\"Tak\",\"\")","v":{"$error":"#REF!"}},{"$f":"IF(OR(G1310<0,J1310<0,#REF!<0,#REF!<0),\"ujemny plan\",\"\")","v":{"$error":"#REF!"}}]
["DZB/4/IW","Inicjatywy wspólnotowe",853,85395,2007,"SFUE/",null,null,{"$error":"#DIV/0!"},null,null,{"$error":"#DIV/0!"},{"$error":"#DIV/0!"},{"$f":"IF(SUM(#REF!)>0,\"Tak\",\"\")","v":{"$error":"#REF!"}},{"$f":"IF(OR(G1311<0,J1311<0,#REF!<0,#REF!<0),\"ujemny plan\",\"\")","v":{"$error":"#REF!"}}]
["DZB/4/IW","Inicjatywy wspólnotowe",853,85395,2007,"SFUE/",null,null,{"$error":"#DIV/0!"},null,null,{"$error":"#DIV/0!"},{"$error":"#DIV/0!"},{"$f":"IF(SUM(#REF!)>0,\"Tak\",\"\")","v":{"$error":"#REF!"}},{"$f":"IF(OR(G1312<0,J1312<0,#REF!<0,#REF!<0),\"ujemny plan\",\"\")","v":{"$error":"#REF!"}}]
["DZB/4/IW","Inicjatywy wspólnotowe",853,85395,2007,"SFUE/",null,null,{"$error":"#DIV/0!"},null,null,{"$error":"#DIV/0!"},{"$error":"#DIV/0!"},{"$f":"IF(SUM(#REF!)>0,\"Tak\",\"\")","v":{"$error":"#REF!"}},{"$f":"IF(OR(G1313<0,J1313<0,#REF!<0,#REF!<0),\"ujemny plan\",\"\")","v":{"$error":"#REF!"}}]
["DZB/4/IW","Inicjatywy wspólnotowe",853,85395,2007,"SFUE/",null,null,{"$error":"#DIV/0!"},null,null,{"$error":"#DIV/0!"},{"$error":"#DIV/0!"},{"$f":"IF(SUM(#REF!)>0,\"Tak\",\"\")","v":{"$error":"#REF!"}},{"$f":"IF(OR(G1314<0,J1314<0,#REF!<0,#REF!<0),\"ujemny plan\",\"\")","v":{"$error":"#REF!"}}]
["DZB/4/IW","Inicjatywy wspólnotowe",853,85395,2007,"SFUE/",null,null,{"$error":"#DIV/0!"},null,null,{"$error":"#DIV/0!"},{"$error":"#DIV/0!"},{"$f":"IF(SUM(#REF!)>0,\"Tak\",\"\")","v":{"$error":"#REF!"}},{"$f":"IF(OR(G1315<0,J1315<0,#REF!<0,#REF!<0),\"ujemny plan\",\"\")","v":{"$error":"#REF!"}}]
["DZB/4/IW","Inicjatywy wspólnotowe",853,85395,2007,"SFUE/",null,null,{"$error":"#DIV/0!"},null,null,{"$error":"#DIV/0!"},{"$error":"#DIV/0!"},{"$f":"IF(SUM(#REF!)>0,\"Tak\",\"\")","v":{"$error":"#REF!"}},{"$f":"IF(OR(G1316<0,J1316<0,#REF!<0,#REF!<0),\"ujemny plan\",\"\")","v":{"$error":"#REF!"}}]
["DZB/4/IW","Inicjatywy wspólnotowe",853,85395,2007,"SFUE/",null,null,{"$error":"#DIV/0!"},null,null,{"$error":"#DIV/0!"},{"$error":"#DIV/0!"},{"$f":"IF(SUM(#REF!)>0,\"Tak\",\"\")","v":{"$error":"#REF!"}},{"$f":"IF(OR(G1317<0,J1317<0,#REF!<0,#REF!<0),\"ujemny plan\",\"\")","v":{"$error":"#REF!"}}]
["DZB/4/IW","Inicjatywy wspólnotowe",853,85395,2007,"SFUE/",null,null,{"$error":"#DIV/0!"},null,null,{"$error":"#DIV/0!"},{"$error":"#DIV/0!"},{"$f":"IF(SUM(#REF!)>0,\"Tak\",\"\")","v":{"$error":"#REF!"}},{"$f":"IF(OR(G1318<0,J1318<0,#REF!<0,#REF!<0),\"ujemny plan\",\"\")","v":{"$error":"#REF!"}}]
["DZB/4/IW","Inicjatywy wspólnotowe",853,85395,2007,"SFUE/",null,null,{"$error":"#DIV/0!"},null,null,{"$error":"#DIV/0!"},{"$error":"#DIV/0!"},{"$f":"IF(SUM(#REF!)>0,\"Tak\",\"\")","v":{"$error":"#REF!"}},{"$f":"IF(OR(G1319<0,J1319<0,#REF!<0,#REF!<0),\"ujemny plan\",\"\")","v":{"$error":"#REF!"}}]
["DZB/4/IW","Inicjatywy wspólnotowe",853,85395,2007,"SFUE/",null,null,{"$error":"#DIV/0!"},null,null,{"$error":"#DIV/0!"},{"$error":"#DIV/0!"},{"$f":"IF(SUM(#REF!)>0,\"Tak\",\"\")","v":{"$error":"#REF!"}},{"$f":"IF(OR(G1320<0,J1320<0,#REF!<0,#REF!<0),\"ujemny plan\",\"\")","v":{"$error":"#REF!"}}]
["DZB/4/IW","Inicjatywy wspólnotowe",853,85395,2007,"SFUE/",null,null,{"$error":"#DIV/0!"},null,null,{"$error":"#DIV/0!"},{"$error":"#DIV/0!"},{"$f":"IF(SUM(#REF!)>0,\"Tak\",\"\")","v":{"$error":"#REF!"}},{"$f":"IF(OR(G1321<0,J1321<0,#REF!<0,#REF!<0),\"ujemny plan\",\"\")","v":{"$error":"#REF!"}}]
["DZB/4/IW","Inicjatywy wspólnotowe",853,85395,2007,"SFUE/",null,null,{"$error":"#DIV/0!"},null,null,{"$error":"#DIV/0!"},{"$error":"#DIV/0!"},{"$f":"IF(SUM(#REF!)>0,\"Tak\",\"\")","v":{"$error":"#REF!"}},{"$f":"IF(OR(G1322<0,J1322<0,#REF!<0,#REF!<0),\"ujemny plan\",\"\")","v":{"$error":"#REF!"}}]
["DZB/4/IW","Inicjatywy wspólnotowe",853,85395,2007,"SFUE/",null,null,{"$error":"#DIV/0!"},null,null,{"$error":"#DIV/0!"},{"$error":"#DIV/0!"},{"$f":"IF(SUM(#REF!)>0,\"Tak\",\"\")","v":{"$error":"#REF!"}},{"$f":"IF(OR(G1323<0,J1323<0,#REF!<0,#REF!<0),\"ujemny plan\",\"\")","v":{"$error":"#REF!"}}]
["DZB/4/IW","Inicjatywy wspólnotowe",853,85395,2007,"SFUE/",null,null,{"$error":"#DIV/0!"},null,null,{"$error":"#DIV/0!"},{"$error":"#DIV/0!"},{"$f":"IF(SUM(#REF!)>0,\"Tak\",\"\")","v":{"$error":"#REF!"}},{"$f":"IF(OR(G1324<0,J1324<0,#REF!<0,#REF!<0),\"ujemny plan\",\"\")","v":{"$error":"#REF!"}}]
["DZB/4/IW","Inicjatywy wspólnotowe",853,85395,2007,"SFUE/",null,null,{"$error":"#DIV/0!"},null,null,{"$error":"#DIV/0!"},{"$error":"#DIV/0!"},{"$f":"IF(SUM(#REF!)>0,\"Tak\",\"\")","v":{"$error":"#REF!"}},{"$f":"IF(OR(G1325<0,J1325<0,#REF!<0,#REF!<0),\"ujemny plan\",\"\")","v":{"$error":"#REF!"}}]
["DZB/4/IW","Inicjatywy wspólnotowe",853,85395,2007,"SFUE/",null,null,{"$error":"#DIV/0!"},null,null,{"$error":"#DIV/0!"},{"$error":"#DIV/0!"},{"$f":"IF(SUM(#REF!)>0,\"Tak\",\"\")","v":{"$error":"#REF!"}},{"$f":"IF(OR(G1326<0,J1326<0,#REF!<0,#REF!<0),\"ujemny plan\",\"\")","v":{"$error":"#REF!"}}]
["DZB/4/IW","Inicjatywy wspólnotowe",853,85395,2007,"SFUE/",null,null,{"$error":"#DIV/0!"},null,null,{"$error":"#DIV/0!"},{"$error":"#DIV/0!"},{"$f":"IF(SUM(#REF!)>0,\"Tak\",\"\")","v":{"$error":"#REF!"}},{"$f":"IF(OR(G1327<0,J1327<0,#REF!<0,#REF!<0),\"ujemny plan\",\"\")","v":{"$error":"#REF!"}}]
["DZB/4/IW","Inicjatywy wspólnotowe",853,85395,2007,"SFUE/",null,null,{"$error":"#DIV/0!"},null,null,{"$error":"#DIV/0!"},{"$error":"#DIV/0!"},{"$f":"IF(SUM(#REF!)>0,\"Tak\",\"\")","v":{"$error":"#REF!"}},{"$f":"IF(OR(G1328<0,J1328<0,#REF!<0,#REF!<0),\"ujemny plan\",\"\")","v":{"$error":"#REF!"}}]
["DZB/4/IW","Inicjatywy wspólnotowe",853,85395,2007,"SFUE/",null,null,{"$error":"#DIV/0!"},null,null,{"$error":"#DIV/0!"},{"$error":"#DIV/0!"},{"$f":"IF(SUM(#REF!)>0,\"Tak\",\"\")","v":{"$error":"#REF!"}},{"$f":"IF(OR(G1329<0,J1329<0,#REF!<0,#REF!<0),\"ujemny plan\",\"\")","v":{"$error":"#REF!"}}]
["DZB/4/IW","Inicjatywy wspólnotowe",853,85395,2007,"SFUE/",null,null,{"$error":"#DIV/0!"},null,null,{"$error":"#DIV/0!"},{"$error":"#DIV/0!"},{"$f":"IF(SUM(#REF!)>0,\"Tak\",\"\")","v":{"$error":"#REF!"}},{"$f":"IF(OR(G1330<0,J1330<0,#REF!<0,#REF!<0),\"ujemny plan\",\"\")","v":{"$error":"#REF!"}}]
["DZB/4/IW","Inicjatywy wspólnotowe",853,85395,2007,"SFUE/",null,null,{"$error":"#DIV/0!"},null,null,{"$error":"#DIV/0!"},{"$error":"#DIV/0!"},{"$f":"IF(SUM(#REF!)>0,\"Tak\",\"\")","v":{"$error":"#REF!"}},{"$f":"IF(OR(G1331<0,J1331<0,#REF!<0,#REF!<0),\"ujemny plan\",\"\")","v":{"$error":"#REF!"}}]
["DZB/4/IW","Inicjatywy wspólnotowe",853,85395,2007,"SFUE/",null,null,{"$error":"#DIV/0!"},null,null,{"$error":"#DIV/0!"},{"$error":"#DIV/0!"},{"$f":"IF(SUM(#REF!)>0,\"Tak\",\"\")","v":{"$error":"#REF!"}},{"$f":"IF(OR(G1332<0,J1332<0,#REF!<0,#REF!<0),\"ujemny plan\",\"\")","v":{"$error":"#REF!"}}]
["DZB/4/IW","Inicjatywy wspólnotowe",853,85395,2007,"SFUE/",null,null,{"$error":"#DIV/0!"},null,null,{"$error":"#DIV/0!"},{"$error":"#DIV/0!"},{"$f":"IF(SUM(#REF!)>0,\"Tak\",\"\")","v":{"$error":"#REF!"}},{"$f":"IF(OR(G1333<0,J1333<0,#REF!<0,#REF!<0),\"ujemny plan\",\"\")","v":{"$error":"#REF!"}}]
["DZB/4/IW","Inicjatywy wspólnotowe",853,85395,2007,"SFUE/",null,null,{"$error":"#DIV/0!"},null,null,{"$error":"#DIV/0!"},{"$error":"#DIV/0!"},{"$f":"IF(SUM(#REF!)>0,\"Tak\",\"\")","v":{"$error":"#REF!"}},{"$f":"IF(OR(G1334<0,J1334<0,#REF!<0,#REF!<0),\"ujemny plan\",\"\")","v":{"$error":"#REF!"}}]
["DZB/4/IW","Inicjatywy wspólnotowe",853,85395,2007,"SFUE/",null,null,{"$error":"#DIV/0!"},null,null,{"$error":"#DIV/0!"},{"$error":"#DIV/0!"},{"$f":"IF(SUM(#REF!)>0,\"Tak\",\"\")","v":{"$error":"#REF!"}},{"$f":"IF(OR(G1335<0,J1335<0,#REF!<0,#REF!<0),\"ujemny plan\",\"\")","v":{"$error":"#REF!"}}]
["DZB/4/IW","Inicjatywy wspólnotowe",900,90008,2007,"SFUE/",null,null,{"$error":"#DIV/0!"},null,null,{"$error":"#DIV/0!"},{"$error":"#DIV/0!"},{"$f":"IF(SUM(#REF!)>0,\"Tak\",\"\")","v":{"$error":"#REF!"}},{"$f":"IF(OR(G1336<0,J1336<0,#REF!<0,#REF!<0),\"ujemny plan\",\"\")","v":{"$error":"#REF!"}}]
["DZB/4/IW","Inicjatywy wspólnotowe",921,92195,2007,"SFUE/",null,null,{"$error":"#DIV/0!"},null,null,{"$error":"#DIV/0!"},{"$error":"#DIV/0!"},{"$f":"IF(SUM(#REF!)>0,\"Tak\",\"\")","v":{"$error":"#REF!"}},{"$f":"IF(OR(G1337<0,J1337<0,#REF!<0,#REF!<0),\"ujemny plan\",\"\")","v":{"$error":"#REF!"}}]
["DZB/4/IW","Inicjatywy wspólnotowe",null,null,2008,null,{"$f":"SUM(G1339:G1366)","v":0},null,{"$error":"#DIV/0!"},0,null,{"$error":"#DIV/0!"},{"$error":"#DIV/0!"},{"$f":"IF(SUM(#REF!)>0,\"Tak\",\"\")","v":{"$error":"#REF!"}},{"$f":"IF(OR(G1338<0,J1338<0,#REF!<0,#REF!<0),\"ujemny plan\",\"\")","v":{"$error":"#REF!"}}]
["DZB/4/IW","Inicjatywy wspólnotowe",600,60004,2008,"SFUE/",null,null,{"$error":"#DIV/0!"},null,null,{"$error":"#DIV/0!"},{"$error":"#DIV/0!"},{"$f":"IF(SUM(#REF!)>0,\"Tak\",\"\")","v":{"$error":"#REF!"}},{"$f":"IF(OR(G1339<0,J1339<0,#REF!<0,#REF!<0),\"ujemny plan\",\"\")","v":{"$error":"#REF!"}}]
["DZB/4/IW","Inicjatywy wspólnotowe",600,60004,2008,"SFUE/",null,null,{"$error":"#DIV/0!"},null,null,{"$error":"#DIV/0!"},{"$error":"#DIV/0!"},{"$f":"IF(SUM(#REF!)>0,\"Tak\",\"\")","v":{"$error":"#REF!"}},{"$f":"IF(OR(G1340<0,J1340<0,#REF!<0,#REF!<0),\"ujemny plan\",\"\")","v":{"$error":"#REF!"}}]
["DZB/4/IW","Inicjatywy wspólnotowe",710,71095,2008,"SFUE/",null,null,{"$error":"#DIV/0!"},null,null,{"$error":"#DIV/0!"},{"$error":"#DIV/0!"},{"$f":"IF(SUM(#REF!)>0,\"Tak\",\"\")","v":{"$error":"#REF!"}},{"$f":"IF(OR(G1341<0,J1341<0,#REF!<0,#REF!<0),\"ujemny plan\",\"\")","v":{"$error":"#REF!"}}]
["DZB/4/IW","Inicjatywy wspólnotowe",710,71095,2008,"SFUE/",null,null,{"$error":"#DIV/0!"},null,null,{"$error":"#DIV/0!"},{"$error":"#DIV/0!"},{"$f":"IF(SUM(#REF!)>0,\"Tak\",\"\")","v":{"$error":"#REF!"}},{"$f":"IF(OR(G1342<0,J1342<0,#REF!<0,#REF!<0),\"ujemny plan\",\"\")","v":{"$error":"#REF!"}}]
["DZB/4/IW","Inicjatywy wspólnotowe",710,71095,2008,"SFUE/",null,null,{"$error":"#DIV/0!"},null,null,{"$error":"#DIV/0!"},{"$error":"#DIV/0!"},{"$f":"IF(SUM(#REF!)>0,\"Tak\",\"\")","v":{"$error":"#REF!"}},{"$f":"IF(OR(G1343<0,J1343<0,#REF!<0,#REF!<0),\"ujemny plan\",\"\")","v":{"$error":"#REF!"}}]
["DZB/4/IW","Inicjatywy wspólnotowe",710,71095,2008,"SFUE/",null,null,{"$error":"#DIV/0!"},null,null,{"$error":"#DIV/0!"},{"$error":"#DIV/0!"},{"$f":"IF(SUM(#REF!)>0,\"Tak\",\"\")","v":{"$error":"#REF!"}},{"$f":"IF(OR(G1344<0,J1344<0,#REF!<0,#REF!<0),\"ujemny plan\",\"\")","v":{"$error":"#REF!"}}]
["DZB/4/IW","Inicjatywy wspólnotowe",750,75023,2008,"SFUE/",null,null,{"$error":"#DIV/0!"},null,null,{"$error":"#DIV/0!"},{"$error":"#DIV/0!"},{"$f":"IF(SUM(#REF!)>0,\"Tak\",\"\")","v":{"$error":"#REF!"}},{"$f":"IF(OR(G1345<0,J1345<0,#REF!<0,#REF!<0),\"ujemny plan\",\"\")","v":{"$error":"#REF!"}}]
["DZB/4/IW","Inicjatywy wspólnotowe",750,75023,2008,"SFUE/",null,null,{"$error":"#DIV/0!"},null,null,{"$error":"#DIV/0!"},{"$error":"#DIV/0!"},{"$f":"IF(SUM(#REF!)>0,\"Tak\",\"\")","v":{"$error":"#REF!"}},{"$f":"IF(OR(G1346<0,J1346<0,#REF!<0,#REF!<0),\"ujemny plan\",\"\")","v":{"$error":"#REF!"}}]
["DZB/4/IW","Inicjatywy wspólnotowe",750,75023,2008,"SFUE/",null,null,{"$error":"#DIV/0!"},null,null,{"$error":"#DIV/0!"},{"$error":"#DIV/0!"},{"$f":"IF(SUM(#REF!)>0,\"Tak\",\"\")","v":{"$error":"#REF!"}},{"$f":"IF(OR(G1347<0,J1347<0,#REF!<0,#REF!<0),\"ujemny plan\",\"\")","v":{"$error":"#REF!"}}]
["DZB/4/IW","Inicjatywy wspólnotowe",750,75023,2008,"SFUE/",null,null,{"$error":"#DIV/0!"},null,null,{"$error":"#DIV/0!"},{"$error":"#DIV/0!"},{"$f":"IF(SUM(#REF!)>0,\"Tak\",\"\")","v":{"$error":"#REF!"}},{"$f":"IF(OR(G1348<0,J1348<0,#REF!<0,#REF!<0),\"ujemny plan\",\"\")","v":{"$error":"#REF!"}}]
["DZB/4/IW","Inicjatywy wspólnotowe",750,75023,2008,"SFUE/",null,null,{"$error":"#DIV/0!"},null,null,{"$error":"#DIV/0!"},{"$error":"#DIV/0!"},{"$f":"IF(SUM(#REF!)>0,\"Tak\",\"\")","v":{"$error":"#REF!"}},{"$f":"IF(OR(G1349<0,J1349<0,#REF!<0,#REF!<0),\"ujemny plan\",\"\")","v":{"$error":"#REF!"}}]
["DZB/4/IW","Inicjatywy wspólnotowe",750,75023,2008,"SFUE/",null,null,{"$error":"#DIV/0!"},null,null,{"$error":"#DIV/0!"},{"$error":"#DIV/0!"},{"$f":"IF(SUM(#REF!)>0,\"Tak\",\"\")","v":{"$error":"#REF!"}},{"$f":"IF(OR(G1350<0,J1350<0,#REF!<0,#REF!<0),\"ujemny plan\",\"\")","v":{"$error":"#REF!"}}]
["DZB/4/IW","Inicjatywy wspólnotowe",750,75023,2008,"SFUE/",null,null,{"$error":"#DIV/0!"},null,null,{"$error":"#DIV/0!"},{"$error":"#DIV/0!"},{"$f":"IF(SUM(#REF!)>0,\"Tak\",\"\")","v":{"$error":"#REF!"}},{"$f":"IF(OR(G1351<0,J1351<0,#REF!<0,#REF!<0),\"ujemny plan\",\"\")","v":{"$error":"#REF!"}}]
["DZB/4/IW","Inicjatywy wspólnotowe",750,75023,2008,"SFUE/",null,null,{"$error":"#DIV/0!"},null,null,{"$error":"#DIV/0!"},{"$f":"IF(SUM(G1352:L1352)>0,\"Tak\",\"\")","v":{"$error":"#DIV/0!"}},{"$f":"IF(SUM(#REF!)>0,\"Tak\",\"\")","v":{"$error":"#REF!"}},{"$f":"IF(OR(G1352<0,J1352<0,#REF!<0,#REF!<0),\"ujemny plan\",\"\")","v":{"$error":"#REF!"}}]
["DZB/4/IW","Inicjatywy wspólnotowe",750,75023,2008,"SFUE/",null,null,{"$f":"H1353/G1353","v":{"$error":"#DIV/0!"}},null,null,{"$f":"K1353/J1353","v":{"$error":"#DIV/0!"}},{"$error":"#DIV/0!"},{"$f":"IF(SUM(#REF!)>0,\"Tak\",\"\")","v":{"$error":"#REF!"}},{"$f":"IF(OR(G1353<0,J1353<0,#REF!<0,#REF!<0),\"ujemny plan\",\"\")","v":{"$error":"#REF!"}}]
["DZB/4/IW","Inicjatywy wspólnotowe",750,75023,2008,"SFUE/",null,null,{"$error":"#DIV/0!"},null,null,{"$error":"#DIV/0!"},{"$error":"#DIV/0!"},{"$f":"IF(SUM(#REF!)>0,\"Tak\",\"\")","v":{"$error":"#REF!"}},{"$f":"IF(OR(G1354<0,J1354<0,#REF!<0,#REF!<0),\"ujemny plan\",\"\")","v":{"$error":"#REF!"}}]
["DZB/4/IW","Inicjatywy wspólnotowe",750,75023,2008,"SFUE/",null,null,{"$error":"#DIV/0!"},null,null,{"$error":"#DIV/0!"},{"$error":"#DIV/0!"},{"$f":"IF(SUM(#REF!)>0,\"Tak\",\"\")","v":{"$error":"#REF!"}},{"$f":"IF(OR(G1355<0,J1355<0,#REF!<0,#REF!<0),\"ujemny plan\",\"\")","v":{"$error":"#REF!"}}]
["DZB/4/IW","Inicjatywy wspólnotowe",750,75023,2008,"SFUE/",null,null,{"$error":"#DIV/0!"},null,null,{"$error":"#DIV/0!"},{"$error":"#DIV/0!"},{"$f":"IF(SUM(#REF!)>0,\"Tak\",\"\")","v":{"$error":"#REF!"}},{"$f":"IF(OR(G1356<0,J1356<0,#REF!<0,#REF!<0),\"ujemny plan\",\"\")","v":{"$error":"#REF!"}}]
["DZB/4/IW","Inicjatywy wspólnotowe",750,75023,2008,"SFUE/",null,null,{"$error":"#DIV/0!"},null,null,{"$error":"#DIV/0!"},{"$error":"#DIV/0!"},{"$f":"IF(SUM(#REF!)>0,\"Tak\",\"\")","v":{"$error":"#REF!"}},{"$f":"IF(OR(G1357<0,J1357<0,#REF!<0,#REF!<0),\"ujemny plan\",\"\")","v":{"$error":"#REF!"}}]
["DZB/4/IW","Inicjatywy wspólnotowe",801,80195,2008,"SFUE/",null,null,{"$error":"#DIV/0!"},null,null,{"$error":"#DIV/0!"},{"$error":"#DIV/0!"},{"$f":"IF(SUM(#REF!)>0,\"Tak\",\"\")","v":{"$error":"#REF!"}},{"$f":"IF(OR(G1358<0,J1358<0,#REF!<0,#REF!<0),\"ujemny plan\",\"\")","v":{"$error":"#REF!"}}]
["DZB/4/IW","Inicjatywy wspólnotowe",801,80195,2008,"SFUE/",null,null,{"$error":"#DIV/0!"},null,null,{"$error":"#DIV/0!"},{"$error":"#DIV/0!"},{"$f":"IF(SUM(#REF!)>0,\"Tak\",\"\")","v":{"$error":"#REF!"}},{"$f":"IF(OR(G1359<0,J1359<0,#REF!<0,#REF!<0),\"ujemny plan\",\"\")","v":{"$error":"#REF!"}}]
["DZB/4/IW","Inicjatywy wspólnotowe",853,85395,2008,"SFUE/",null,null,{"$error":"#DIV/0!"},null,null,{"$error":"#DIV/0!"},{"$error":"#DIV/0!"},{"$f":"IF(SUM(#REF!)>0,\"Tak\",\"\")","v":{"$error":"#REF!"}},{"$f":"IF(OR(G1360<0,J1360<0,#REF!<0,#REF!<0),\"ujemny plan\",\"\")","v":{"$error":"#REF!"}}]
["DZB/4/IW","Inicjatywy wspólnotowe",900,90008,2008,"SFUE/",null,null,{"$error":"#DIV/0!"},null,null,{"$error":"#DIV/0!"},{"$error":"#DIV/0!"},{"$f":"IF(SUM(#REF!)>0,\"Tak\",\"\")","v":{"$error":"#REF!"}},{"$f":"IF(OR(G1361<0,J1361<0,#REF!<0,#REF!<0),\"ujemny plan\",\"\")","v":{"$error":"#REF!"}}]
["DZB/4/IW","Inicjatywy wspólnotowe",900,90008,2008,"SFUE/",null,null,{"$error":"#DIV/0!"},null,null,{"$error":"#DIV/0!"},{"$error":"#DIV/0!"},{"$f":"IF(SUM(#REF!)>0,\"Tak\",\"\")","v":{"$error":"#REF!"}},{"$f":"IF(OR(G1362<0,J1362<0,#REF!<0,#REF!<0),\"ujemny plan\",\"\")","v":{"$error":"#REF!"}}]
["DZB/4/IW","Inicjatywy wspólnotowe",801,80195,2008,"SFUE/",null,null,{"$error":"#DIV/0!"},null,null,{"$error":"#DIV/0!"},{"$error":"#DIV/0!"},{"$f":"IF(SUM(#REF!)>0,\"Tak\",\"\")","v":{"$error":"#REF!"}},{"$f":"IF(OR(G1363<0,J1363<0,#REF!<0,#REF!<0),\"ujemny plan\",\"\")","v":{"$error":"#REF!"}}]
["DZB/4/IW","Inicjatywy wspólnotowe",900,90008,2008,"SFUE/",null,null,{"$error":"#DIV/0!"},null,null,{"$error":"#DIV/0!"},{"$error":"#DIV/0!"},{"$f":"IF(SUM(#REF!)>0,\"Tak\",\"\")","v":{"$error":"#REF!"}},{"$f":"IF(OR(G1364<0,J1364<0,#REF!<0,#REF!<0),\"ujemny plan\",\"\")","v":{"$error":"#REF!"}}]
["DZB/4/IW","Inicjatywy wspólnotowe",900,90008,2008,"SFUE/",null,null,{"$error":"#DIV/0!"},null,null,{"$error":"#DIV/0!"},{"$error":"#DIV/0!"},{"$f":"IF(SUM(#REF!)>0,\"Tak\",\"\")","v":{"$error":"#REF!"}},{"$f":"IF(OR(G1365<0,J1365<0,#REF!<0,#REF!<0),\"ujemny plan\",\"\")","v":{"$error":"#REF!"}}]
["DZB/4/IW","Inicjatywy wspólnotowe",926,92605,2008,"SFUE/",null,null,{"$error":"#DIV/0!"},null,null,{"$error":"#DIV/0!"},{"$error":"#DIV/0!"},{"$f":"IF(SUM(#REF!)>0,\"Tak\",\"\")","v":{"$error":"#REF!"}},{"$f":"IF(OR(G1366<0,J1366<0,#REF!<0,#REF!<0),\"ujemny plan\",\"\")","v":{"$error":"#REF!"}}]
["DZB/4/IW","Inicjatywy wspólnotowe",null,null,2009,null,{"$f":"SUM(G1368:G1472)","v":0},null,{"$error":"#DIV/0!"},0,null,{"$error":"#DIV/0!"},{"$error":"#DIV/0!"},{"$f":"IF(SUM(#REF!)>0,\"Tak\",\"\")","v":{"$error":"#REF!"}},{"$f":"IF(OR(G1367<0,J1367<0,#REF!<0,#REF!<0),\"ujemny plan\",\"\")","v":{"$error":"#REF!"}}]
["DZB/4/IW","Inicjatywy wspólnotowe",600,60095,2009,"SFUE/",null,null,{"$error":"#DIV/0!"},null,null,{"$error":"#DIV/0!"},{"$error":"#DIV/0!"},{"$f":"IF(SUM(#REF!)>0,\"Tak\",\"\")","v":{"$error":"#REF!"}},{"$f":"IF(OR(G1368<0,J1368<0,#REF!<0,#REF!<0),\"ujemny plan\",\"\")","v":{"$error":"#REF!"}}]
["DZB/4/IW","Inicjatywy wspólnotowe",710,71095,2009,"SFUE/",null,null,{"$error":"#DIV/0!"},null,null,{"$error":"#DIV/0!"},{"$error":"#DIV/0!"},{"$f":"IF(SUM(#REF!)>0,\"Tak\",\"\")","v":{"$error":"#REF!"}},{"$f":"IF(OR(G1369<0,J1369<0,#REF!<0,#REF!<0),\"ujemny plan\",\"\")","v":{"$error":"#REF!"}}]
["DZB/4/IW","Inicjatywy wspólnotowe",710,71095,2009,"SFUE/",null,null,{"$error":"#DIV/0!"},null,null,{"$error":"#DIV/0!"},{"$error":"#DIV/0!"},{"$f":"IF(SUM(#REF!)>0,\"Tak\",\"\")","v":{"$error":"#REF!"}},{"$f":"IF(OR(G1370<0,J1370<0,#REF!<0,#REF!<0),\"ujemny plan\",\"\")","v":{"$error":"#REF!"}}]
["DZB/4/IW","Inicjatywy wspólnotowe",710,71095,2009,"SFUE/",null,null,{"$error":"#DIV/0!"},null,null,{"$error":"#DIV/0!"},{"$error":"#DIV/0!"},{"$f":"IF(SUM(#REF!)>0,\"Tak\",\"\")","v":{"$error":"#REF!"}},{"$f":"IF(OR(G1371<0,J1371<0,#REF!<0,#REF!<0),\"ujemny plan\",\"\")","v":{"$error":"#REF!"}}]
["DZB/4/IW","Inicjatywy wspólnotowe",750,75023,2009,"SFUE/",null,null,{"$error":"#DIV/0!"},null,null,{"$error":"#DIV/0!"},{"$error":"#DIV/0!"},{"$f":"IF(SUM(#REF!)>0,\"Tak\",\"\")","v":{"$error":"#REF!"}},{"$f":"IF(OR(G1372<0,J1372<0,#REF!<0,#REF!<0),\"ujemny plan\",\"\")","v":{"$error":"#REF!"}}]
["DZB/4/IW","Inicjatywy wspólnotowe",750,75023,2009,"SFUE/",null,null,{"$error":"#DIV/0!"},null,null,{"$error":"#DIV/0!"},{"$error":"#DIV/0!"},{"$f":"IF(SUM(#REF!)>0,\"Tak\",\"\")","v":{"$error":"#REF!"}},{"$f":"IF(OR(G1373<0,J1373<0,#REF!<0,#REF!<0),\"ujemny plan\",\"\")","v":{"$error":"#REF!"}}]
["DZB/4/IW","Inicjatywy wspólnotowe",750,75023,2009,"SFUE/",null,null,{"$error":"#DIV/0!"},null,null,{"$error":"#DIV/0!"},{"$error":"#DIV/0!"},{"$f":"IF(SUM(#REF!)>0,\"Tak\",\"\")","v":{"$error":"#REF!"}},{"$f":"IF(OR(G1374<0,J1374<0,#REF!<0,#REF!<0),\"ujemny plan\",\"\")","v":{"$error":"#REF!"}}]
["DZB/4/IW","Inicjatywy wspólnotowe",750,75023,2009,"SFUE/",null,null,{"$error":"#DIV/0!"},null,null,{"$error":"#DIV/0!"},{"$error":"#DIV/0!"},{"$f":"IF(SUM(#REF!)>0,\"Tak\",\"\")","v":{"$error":"#REF!"}},{"$f":"IF(OR(G1375<0,J1375<0,#REF!<0,#REF!<0),\"ujemny plan\",\"\")","v":{"$error":"#REF!"}}]
["DZB/4/IW","Inicjatywy wspólnotowe",750,75023,2009,"SFUE/",null,null,{"$error":"#DIV/0!"},null,null,{"$error":"#DIV/0!"},{"$error":"#DIV/0!"},{"$f":"IF(SUM(#REF!)>0,\"Tak\",\"\")","v":{"$error":"#REF!"}},{"$f":"IF(OR(G1376<0,J1376<0,#REF!<0,#REF!<0),\"ujemny plan\",\"\")","v":{"$error":"#REF!"}}]
["DZB/4/IW","Inicjatywy wspólnotowe",750,75023,2009,"SFUE/",null,null,{"$error":"#DIV/0!"},null,null,{"$error":"#DIV/0!"},{"$error":"#DIV/0!"},{"$f":"IF(SUM(#REF!)>0,\"Tak\",\"\")","v":{"$error":"#REF!"}},{"$f":"IF(OR(G1377<0,J1377<0,#REF!<0,#REF!<0),\"ujemny plan\",\"\")","v":{"$error":"#REF!"}}]
["DZB/4/IW","Inicjatywy wspólnotowe",750,75023,2009,"SFUE/",null,null,{"$error":"#DIV/0!"},null,null,{"$error":"#DIV/0!"},{"$error":"#DIV/0!"},{"$f":"IF(SUM(#REF!)>0,\"Tak\",\"\")","v":{"$error":"#REF!"}},{"$f":"IF(OR(G1378<0,J1378<0,#REF!<0,#REF!<0),\"ujemny plan\",\"\")","v":{"$error":"#REF!"}}]
["DZB/4/IW","Inicjatywy wspólnotowe",750,75023,2009,"SFUE/",null,null,{"$error":"#DIV/0!"},null,null,{"$error":"#DIV/0!"},{"$error":"#DIV/0!"},{"$f":"IF(SUM(#REF!)>0,\"Tak\",\"\")","v":{"$error":"#REF!"}},{"$f":"IF(OR(G1379<0,J1379<0,#REF!<0,#REF!<0),\"ujemny plan\",\"\")","v":{"$error":"#REF!"}}]
["DZB/4/IW","Inicjatywy wspólnotowe",750,75023,2009,"SFUE/",null,null,{"$error":"#DIV/0!"},null,null,{"$error":"#DIV/0!"},{"$error":"#DIV/0!"},{"$f":"IF(SUM(#REF!)>0,\"Tak\",\"\")","v":{"$error":"#REF!"}},{"$f":"IF(OR(G1380<0,J1380<0,#REF!<0,#REF!<0),\"ujemny plan\",\"\")","v":{"$error":"#REF!"}}]
["DZB/4/IW","Inicjatywy wspólnotowe",750,75023,2009,"SFUE/",null,null,{"$error":"#DIV/0!"},null,null,{"$error":"#DIV/0!"},{"$error":"#DIV/0!"},{"$f":"IF(SUM(#REF!)>0,\"Tak\",\"\")","v":{"$error":"#REF!"}},{"$f":"IF(OR(G1381<0,J1381<0,#REF!<0,#REF!<0),\"ujemny plan\",\"\")","v":{"$error":"#REF!"}}]
["DZB/4/IW","Inicjatywy wspólnotowe",750,75023,2009,"SFUE/",null,null,{"$error":"#DIV/0!"},null,null,{"$error":"#DIV/0!"},{"$error":"#DIV/0!"},{"$f":"IF(SUM(#REF!)>0,\"Tak\",\"\")","v":{"$error":"#REF!"}},{"$f":"IF(OR(G1382<0,J1382<0,#REF!<0,#REF!<0),\"ujemny plan\",\"\")","v":{"$error":"#REF!"}}]
["DZB/4/IW","Inicjatywy wspólnotowe",750,75023,2009,"SFUE/",null,null,{"$error":"#DIV/0!"},null,null,{"$error":"#DIV/0!"},{"$error":"#DIV/0!"},{"$f":"IF(SUM(#REF!)>0,\"Tak\",\"\")","v":{"$error":"#REF!"}},{"$f":"IF(OR(G1383<0,J1383<0,#REF!<0,#REF!<0),\"ujemny plan\",\"\")","v":{"$error":"#REF!"}}]
["DZB/4/IW","Inicjatywy wspólnotowe",750,75023,2009,"SFUE/",null,null,{"$error":"#DIV/0!"},null,null,{"$error":"#DIV/0!"},{"$error":"#DIV/0!"},{"$f":"IF(SUM(#REF!)>0,\"Tak\",\"\")","v":{"$error":"#REF!"}},{"$f":"IF(OR(G1384<0,J1384<0,#REF!<0,#REF!<0),\"ujemny plan\",\"\")","v":{"$error":"#REF!"}}]
["DZB/4/IW","Inicjatywy wspólnotowe",750,75023,2009,"SFUE/",null,null,{"$error":"#DIV/0!"},null,null,{"$error":"#DIV/0!"},{"$error":"#DIV/0!"},{"$f":"IF(SUM(#REF!)>0,\"Tak\",\"\")","v":{"$error":"#REF!"}},{"$f":"IF(OR(G1385<0,J1385<0,#REF!<0,#REF!<0),\"ujemny plan\",\"\")","v":{"$error":"#REF!"}}]
["DZB/4/IW","Inicjatywy wspólnotowe",750,75023,2009,"SFUE/",null,null,{"$error":"#DIV/0!"},null,null,{"$error":"#DIV/0!"},{"$error":"#DIV/0!"},{"$f":"IF(SUM(#REF!)>0,\"Tak\",\"\")","v":{"$error":"#REF!"}},{"$f":"IF(OR(G1386<0,J1386<0,#REF!<0,#REF!<0),\"ujemny plan\",\"\")","v":{"$error":"#REF!"}}]
["DZB/4/IW","Inicjatywy wspólnotowe",750,75023,2009,"SFUE/",null,null,{"$error":"#DIV/0!"},null,null,{"$error":"#DIV/0!"},{"$error":"#DIV/0!"},{"$f":"IF(SUM(#REF!)>0,\"Tak\",\"\")","v":{"$error":"#REF!"}},{"$f":"IF(OR(G1387<0,J1387<0,#REF!<0,#REF!<0),\"ujemny plan\",\"\")","v":{"$error":"#REF!"}}]
["DZB/4/IW","Inicjatywy wspólnotowe",750,75023,2009,"SFUE/",null,null,{"$error":"#DIV/0!"},null,null,{"$error":"#DIV/0!"},{"$error":"#DIV/0!"},{"$f":"IF(SUM(#REF!)>0,\"Tak\",\"\")","v":{"$error":"#REF!"}},{"$f":"IF(OR(G1388<0,J1388<0,#REF!<0,#REF!<0),\"ujemny plan\",\"\")","v":{"$error":"#REF!"}}]
["DZB/4/IW","Inicjatywy wspólnotowe",750,75023,2009,"SFUE/",null,null,{"$error":"#DIV/0!"},null,null,{"$error":"#DIV/0!"},{"$error":"#DIV/0!"},{"$f":"IF(SUM(#REF!)>0,\"Tak\",\"\")","v":{"$error":"#REF!"}},{"$f":"IF(OR(G1389<0,J1389<0,#REF!<0,#REF!<0),\"ujemny plan\",\"\")","v":{"$error":"#REF!"}}]
["DZB/4/IW","Inicjatywy wspólnotowe",750,75023,2009,"SFUE/",null,null,{"$error":"#DIV/0!"},null,null,{"$error":"#DIV/0!"},{"$error":"#DIV/0!"},{"$f":"IF(SUM(#REF!)>0,\"Tak\",\"\")","v":{"$error":"#REF!"}},{"$f":"IF(OR(G1390<0,J1390<0,#REF!<0,#REF!<0),\"ujemny plan\",\"\")","v":{"$error":"#REF!"}}]
["DZB/4/IW","Inicjatywy wspólnotowe",750,75023,2009,"SFUE/",null,null,{"$error":"#DIV/0!"},null,null,{"$error":"#DIV/0!"},{"$error":"#DIV/0!"},{"$f":"IF(SUM(#REF!)>0,\"Tak\",\"\")","v":{"$error":"#REF!"}},{"$f":"IF(OR(G1391<0,J1391<0,#REF!<0,#REF!<0),\"ujemny plan\",\"\")","v":{"$error":"#REF!"}}]
["DZB/4/IW","Inicjatywy wspólnotowe",750,75023,2009,"SFUE/",null,null,{"$error":"#DIV/0!"},null,null,{"$error":"#DIV/0!"},{"$error":"#DIV/0!"},{"$f":"IF(SUM(#REF!)>0,\"Tak\",\"\")","v":{"$error":"#REF!"}},{"$f":"IF(OR(G1392<0,J1392<0,#REF!<0,#REF!<0),\"ujemny plan\",\"\")","v":{"$error":"#REF!"}}]
["DZB/4/IW","Inicjatywy wspólnotowe",750,75023,2009,"SFUE/",null,null,{"$error":"#DIV/0!"},null,null,{"$error":"#DIV/0!"},{"$error":"#DIV/0!"},{"$f":"IF(SUM(#REF!)>0,\"Tak\",\"\")","v":{"$error":"#REF!"}},{"$f":"IF(OR(G1393<0,J1393<0,#REF!<0,#REF!<0),\"ujemny plan\",\"\")","v":{"$error":"#REF!"}}]
["DZB/4/IW","Inicjatywy wspólnotowe",750,75023,2009,"SFUE/",null,null,{"$error":"#DIV/0!"},null,null,{"$error":"#DIV/0!"},{"$error":"#DIV/0!"},{"$f":"IF(SUM(#REF!)>0,\"Tak\",\"\")","v":{"$error":"#REF!"}},{"$f":"IF(OR(G1394<0,J1394<0,#REF!<0,#REF!<0),\"ujemny plan\",\"\")","v":{"$error":"#REF!"}}]
["DZB/4/IW","Inicjatywy wspólnotowe",750,75023,2009,"SFUE/",null,null,{"$error":"#DIV/0!"},null,null,{"$error":"#DIV/0!"},{"$error":"#DIV/0!"},{"$f":"IF(SUM(#REF!)>0,\"Tak\",\"\")","v":{"$error":"#REF!"}},{"$f":"IF(OR(G1395<0,J1395<0,#REF!<0,#REF!<0),\"ujemny plan\",\"\")","v":{"$error":"#REF!"}}]
["DZB/4/IW","Inicjatywy wspólnotowe",750,75023,2009,"SFUE/",null,null,{"$error":"#DIV/0!"},null,null,{"$error":"#DIV/0!"},{"$error":"#DIV/0!"},{"$f":"IF(SUM(#REF!)>0,\"Tak\",\"\")","v":{"$error":"#REF!"}},{"$f":"IF(OR(G1396<0,J1396<0,#REF!<0,#REF!<0),\"ujemny plan\",\"\")","v":{"$error":"#REF!"}}]
["DZB/4/IW","Inicjatywy wspólnotowe",750,75023,2009,"SFUE/",null,null,{"$error":"#DIV/0!"},null,null,{"$error":"#DIV/0!"},{"$error":"#DIV/0!"},{"$f":"IF(SUM(#REF!)>0,\"Tak\",\"\")","v":{"$error":"#REF!"}},{"$f":"IF(OR(G1397<0,J1397<0,#REF!<0,#REF!<0),\"ujemny plan\",\"\")","v":{"$error":"#REF!"}}]
["DZB/4/IW","Inicjatywy wspólnotowe",801,80195,2009,"SFUE/",null,null,{"$error":"#DIV/0!"},null,null,{"$error":"#DIV/0!"},{"$error":"#DIV/0!"},{"$f":"IF(SUM(#REF!)>0,\"Tak\",\"\")","v":{"$error":"#REF!"}},{"$f":"IF(OR(G1398<0,J1398<0,#REF!<0,#REF!<0),\"ujemny plan\",\"\")","v":{"$error":"#REF!"}}]
["DZB/4/IW","Inicjatywy wspólnotowe",801,80195,2009,"SFUE/",null,null,{"$error":"#DIV/0!"},null,null,{"$error":"#DIV/0!"},{"$error":"#DIV/0!"},{"$f":"IF(SUM(#REF!)>0,\"Tak\",\"\")","v":{"$error":"#REF!"}},{"$f":"IF(OR(G1399<0,J1399<0,#REF!<0,#REF!<0),\"ujemny plan\",\"\")","v":{"$error":"#REF!"}}]
["DZB/4/IW","Inicjatywy wspólnotowe",801,80195,2009,"SFUE/",null,null,{"$error":"#DIV/0!"},null,null,{"$error":"#DIV/0!"},{"$error":"#DIV/0!"},{"$f":"IF(SUM(#REF!)>0,\"Tak\",\"\")","v":{"$error":"#REF!"}},{"$f":"IF(OR(G1400<0,J1400<0,#REF!<0,#REF!<0),\"ujemny plan\",\"\")","v":{"$error":"#REF!"}}]
["DZB/4/IW","Inicjatywy wspólnotowe",801,80195,2009,"SFUE/",null,null,{"$error":"#DIV/0!"},null,null,{"$error":"#DIV/0!"},{"$error":"#DIV/0!"},{"$f":"IF(SUM(#REF!)>0,\"Tak\",\"\")","v":{"$error":"#REF!"}},{"$f":"IF(OR(G1401<0,J1401<0,#REF!<0,#REF!<0),\"ujemny plan\",\"\")","v":{"$error":"#REF!"}}]
["DZB/4/IW","Inicjatywy wspólnotowe",801,80195,2009,"SFUE/",null,null,{"$error":"#DIV/0!"},null,null,{"$error":"#DIV/0!"},{"$error":"#DIV/0!"},{"$f":"IF(SUM(#REF!)>0,\"Tak\",\"\")","v":{"$error":"#REF!"}},{"$f":"IF(OR(G1402<0,J1402<0,#REF!<0,#REF!<0),\"ujemny plan\",\"\")","v":{"$error":"#REF!"}}]
["DZB/4/IW","Inicjatywy wspólnotowe",801,80195,2009,"SFUE/",null,null,{"$error":"#DIV/0!"},null,null,{"$error":"#DIV/0!"},{"$error":"#DIV/0!"},{"$f":"IF(SUM(#REF!)>0,\"Tak\",\"\")","v":{"$error":"#REF!"}},{"$f":"IF(OR(G1403<0,J1403<0,#REF!<0,#REF!<0),\"ujemny plan\",\"\")","v":{"$error":"#REF!"}}]
["DZB/4/IW","Inicjatywy wspólnotowe",801,80195,2009,"SFUE/",null,null,{"$error":"#DIV/0!"},null,null,{"$error":"#DIV/0!"},{"$error":"#DIV/0!"},{"$f":"IF(SUM(#REF!)>0,\"Tak\",\"\")","v":{"$error":"#REF!"}},{"$f":"IF(OR(G1404<0,J1404<0,#REF!<0,#REF!<0),\"ujemny plan\",\"\")","v":{"$error":"#REF!"}}]
["DZB/4/IW","Inicjatywy wspólnotowe",801,80195,2009,"SFUE/",null,null,{"$error":"#DIV/0!"},null,null,{"$error":"#DIV/0!"},{"$error":"#DIV/0!"},{"$f":"IF(SUM(#REF!)>0,\"Tak\",\"\")","v":{"$error":"#REF!"}},{"$f":"IF(OR(G1405<0,J1405<0,#REF!<0,#REF!<0),\"ujemny plan\",\"\")","v":{"$error":"#REF!"}}]
["DZB/4/IW","Inicjatywy wspólnotowe",801,80195,2009,"SFUE/",null,null,{"$error":"#DIV/0!"},null,null,{"$error":"#DIV/0!"},{"$error":"#DIV/0!"},{"$f":"IF(SUM(#REF!)>0,\"Tak\",\"\")","v":{"$error":"#REF!"}},{"$f":"IF(OR(G1406<0,J1406<0,#REF!<0,#REF!<0),\"ujemny plan\",\"\")","v":{"$error":"#REF!"}}]
["DZB/4/IW","Inicjatywy wspólnotowe",801,80195,2009,"SFUE/",null,null,{"$error":"#DIV/0!"},null,null,{"$error":"#DIV/0!"},{"$error":"#DIV/0!"},{"$f":"IF(SUM(#REF!)>0,\"Tak\",\"\")","v":{"$error":"#REF!"}},{"$f":"IF(OR(G1407<0,J1407<0,#REF!<0,#REF!<0),\"ujemny plan\",\"\")","v":{"$error":"#REF!"}}]
["DZB/4/IW","Inicjatywy wspólnotowe",801,80195,2009,"SFUE/",null,null,{"$error":"#DIV/0!"},null,null,{"$error":"#DIV/0!"},{"$error":"#DIV/0!"},{"$f":"IF(SUM(#REF!)>0,\"Tak\",\"\")","v":{"$error":"#REF!"}},{"$f":"IF(OR(G1408<0,J1408<0,#REF!<0,#REF!<0),\"ujemny plan\",\"\")","v":{"$error":"#REF!"}}]
["DZB/4/IW","Inicjatywy wspólnotowe",801,80195,2009,"SFUE/",null,null,{"$error":"#DIV/0!"},null,null,{"$error":"#DIV/0!"},{"$error":"#DIV/0!"},{"$f":"IF(SUM(#REF!)>0,\"Tak\",\"\")","v":{"$error":"#REF!"}},{"$f":"IF(OR(G1409<0,J1409<0,#REF!<0,#REF!<0),\"ujemny plan\",\"\")","v":{"$error":"#REF!"}}]
["DZB/4/IW","Inicjatywy wspólnotowe",801,80195,2009,"SFUE/",null,null,{"$error":"#DIV/0!"},null,null,{"$error":"#DIV/0!"},{"$error":"#DIV/0!"},{"$f":"IF(SUM(#REF!)>0,\"Tak\",\"\")","v":{"$error":"#REF!"}},{"$f":"IF(OR(G1410<0,J1410<0,#REF!<0,#REF!<0),\"ujemny plan\",\"\")","v":{"$error":"#REF!"}}]
["DZB/4/IW","Inicjatywy wspólnotowe",801,80195,2009,"SFUE/",null,null,{"$error":"#DIV/0!"},null,null,{"$error":"#DIV/0!"},{"$error":"#DIV/0!"},{"$f":"IF(SUM(#REF!)>0,\"Tak\",\"\")","v":{"$error":"#REF!"}},{"$f":"IF(OR(G1411<0,J1411<0,#REF!<0,#REF!<0),\"ujemny plan\",\"\")","v":{"$error":"#REF!"}}]
["DZB/4/IW","Inicjatywy wspólnotowe",801,80195,2009,"SFUE/",null,null,{"$error":"#DIV/0!"},null,null,{"$error":"#DIV/0!"},{"$error":"#DIV/0!"},{"$f":"IF(SUM(#REF!)>0,\"Tak\",\"\")","v":{"$error":"#REF!"}},{"$f":"IF(OR(G1412<0,J1412<0,#REF!<0,#REF!<0),\"ujemny plan\",\"\")","v":{"$error":"#REF!"}}]
["DZB/4/IW","Inicjatywy wspólnotowe",801,80195,2009,"SFUE/",null,null,{"$error":"#DIV/0!"},null,null,{"$error":"#DIV/0!"},{"$error":"#DIV/0!"},{"$f":"IF(SUM(#REF!)>0,\"Tak\",\"\")","v":{"$error":"#REF!"}},{"$f":"IF(OR(G1413<0,J1413<0,#REF!<0,#REF!<0),\"ujemny plan\",\"\")","v":{"$error":"#REF!"}}]
["DZB/4/IW","Inicjatywy wspólnotowe",801,80195,2009,"SFUE/",null,null,{"$error":"#DIV/0!"},null,null,{"$error":"#DIV/0!"},{"$error":"#DIV/0!"},{"$f":"IF(SUM(#REF!)>0,\"Tak\",\"\")","v":{"$error":"#REF!"}},{"$f":"IF(OR(G1414<0,J1414<0,#REF!<0,#REF!<0),\"ujemny plan\",\"\")","v":{"$error":"#REF!"}}]
["DZB/4/IW","Inicjatywy wspólnotowe",801,80195,2009,"SFUE/",null,null,{"$error":"#DIV/0!"},null,null,{"$error":"#DIV/0!"},{"$error":"#DIV/0!"},{"$f":"IF(SUM(#REF!)>0,\"Tak\",\"\")","v":{"$error":"#REF!"}},{"$f":"IF(OR(G1415<0,J1415<0,#REF!<0,#REF!<0),\"ujemny plan\",\"\")","v":{"$error":"#REF!"}}]
["DZB/4/IW","Inicjatywy wspólnotowe",801,80195,2009,"SFUE/",null,null,{"$error":"#DIV/0!"},null,null,{"$error":"#DIV/0!"},{"$f":"IF(SUM(G1416:L1416)>0,\"Tak\",\"\")","v":{"$error":"#DIV/0!"}},{"$f":"IF(SUM(#REF!)>0,\"Tak\",\"\")","v":{"$error":"#REF!"}},{"$f":"IF(OR(G1416<0,J1416<0,#REF!<0,#REF!<0),\"ujemny plan\",\"\")","v":{"$error":"#REF!"}}]
["DZB/4/IW","Inicjatywy wspólnotowe",801,80195,2009,"SFUE/",null,null,{"$f":"H1417/G1417","v":{"$error":"#DIV/0!"}},null,null,{"$f":"K1417/J1417","v":{"$error":"#DIV/0!"}},{"$error":"#DIV/0!"},{"$f":"IF(SUM(#REF!)>0,\"Tak\",\"\")","v":{"$error":"#REF!"}},{"$f":"IF(OR(G1417<0,J1417<0,#REF!<0,#REF!<0),\"ujemny plan\",\"\")","v":{"$error":"#REF!"}}]
["DZB/4/IW","Inicjatywy wspólnotowe",801,80195,2009,"SFUE/",null,null,{"$error":"#DIV/0!"},null,null,{"$error":"#DIV/0!"},{"$error":"#DIV/0!"},{"$f":"IF(SUM(#REF!)>0,\"Tak\",\"\")","v":{"$error":"#REF!"}},{"$f":"IF(OR(G1418<0,J1418<0,#REF!<0,#REF!<0),\"ujemny plan\",\"\")","v":{"$error":"#REF!"}}]
["DZB/4/IW","Inicjatywy wspólnotowe",801,80195,2009,"SFUE/",null,null,{"$error":"#DIV/0!"},null,null,{"$error":"#DIV/0!"},{"$error":"#DIV/0!"},{"$f":"IF(SUM(#REF!)>0,\"Tak\",\"\")","v":{"$error":"#REF!"}},{"$f":"IF(OR(G1419<0,J1419<0,#REF!<0,#REF!<0),\"ujemny plan\",\"\")","v":{"$error":"#REF!"}}]
["DZB/4/IW","Inicjatywy wspólnotowe",801,80195,2009,"SFUE/",null,null,{"$error":"#DIV/0!"},null,null,{"$error":"#DIV/0!"},{"$error":"#DIV/0!"},{"$f":"IF(SUM(#REF!)>0,\"Tak\",\"\")","v":{"$error":"#REF!"}},{"$f":"IF(OR(G1420<0,J1420<0,#REF!<0,#REF!<0),\"ujemny plan\",\"\")","v":{"$error":"#REF!"}}]
["DZB/4/IW","Inicjatywy wspólnotowe",801,80195,2009,"SFUE/",null,null,{"$error":"#DIV/0!"},null,null,{"$error":"#DIV/0!"},{"$error":"#DIV/0!"},{"$f":"IF(SUM(#REF!)>0,\"Tak\",\"\")","v":{"$error":"#REF!"}},{"$f":"IF(OR(G1421<0,J1421<0,#REF!<0,#REF!<0),\"ujemny plan\",\"\")","v":{"$error":"#REF!"}}]
["DZB/4/IW","Inicjatywy wspólnotowe",801,80195,2009,"SFUE/",null,null,{"$error":"#DIV/0!"},null,null,{"$error":"#DIV/0!"},{"$error":"#DIV/0!"},{"$f":"IF(SUM(#REF!)>0,\"Tak\",\"\")","v":{"$error":"#REF!"}},{"$f":"IF(OR(G1422<0,J1422<0,#REF!<0,#REF!<0),\"ujemny plan\",\"\")","v":{"$error":"#REF!"}}]
["DZB/4/IW","Inicjatywy wspólnotowe",801,80195,2009,"SFUE/",null,null,{"$error":"#DIV/0!"},null,null,{"$error":"#DIV/0!"},{"$error":"#DIV/0!"},{"$f":"IF(SUM(#REF!)>0,\"Tak\",\"\")","v":{"$error":"#REF!"}},{"$f":"IF(OR(G1423<0,J1423<0,#REF!<0,#REF!<0),\"ujemny plan\",\"\")","v":{"$error":"#REF!"}}]
["DZB/4/IW","Inicjatywy wspólnotowe",801,80195,2009,"SFUE/",null,null,{"$error":"#DIV/0!"},null,null,{"$error":"#DIV/0!"},{"$error":"#DIV/0!"},{"$f":"IF(SUM(#REF!)>0,\"Tak\",\"\")","v":{"$error":"#REF!"}},{"$f":"IF(OR(G1424<0,J1424<0,#REF!<0,#REF!<0),\"ujemny plan\",\"\")","v":{"$error":"#REF!"}}]
["DZB/4/IW","Inicjatywy wspólnotowe",801,80195,2009,"SFUE/",null,null,{"$error":"#DIV/0!"},null,null,{"$error":"#DIV/0!"},{"$error":"#DIV/0!"},{"$f":"IF(SUM(#REF!)>0,\"Tak\",\"\")","v":{"$error":"#REF!"}},{"$f":"IF(OR(G1425<0,J1425<0,#REF!<0,#REF!<0),\"ujemny plan\",\"\")","v":{"$error":"#REF!"}}]
["DZB/4/IW","Inicjatywy wspólnotowe",801,80195,2009,"SFUE/",null,null,{"$error":"#DIV/0!"},null,null,{"$error":"#DIV/0!"},{"$error":"#DIV/0!"},{"$f":"IF(SUM(#REF!)>0,\"Tak\",\"\")","v":{"$error":"#REF!"}},{"$f":"IF(OR(G1426<0,J1426<0,#REF!<0,#REF!<0),\"ujemny plan\",\"\")","v":{"$error":"#REF!"}}]
["DZB/4/IW","Inicjatywy wspólnotowe",801,80195,2009,"SFUE/",null,null,{"$error":"#DIV/0!"},null,null,{"$error":"#DIV/0!"},{"$error":"#DIV/0!"},{"$f":"IF(SUM(#REF!)>0,\"Tak\",\"\")","v":{"$error":"#REF!"}},{"$f":"IF(OR(G1427<0,J1427<0,#REF!<0,#REF!<0),\"ujemny plan\",\"\")","v":{"$error":"#REF!"}}]
["DZB/4/IW","Inicjatywy wspólnotowe",801,80195,2009,"SFUE/",null,null,{"$error":"#DIV/0!"},null,null,{"$error":"#DIV/0!"},{"$error":"#DIV/0!"},{"$f":"IF(SUM(#REF!)>0,\"Tak\",\"\")","v":{"$error":"#REF!"}},{"$f":"IF(OR(G1428<0,J1428<0,#REF!<0,#REF!<0),\"ujemny plan\",\"\")","v":{"$error":"#REF!"}}]
["DZB/4/IW","Inicjatywy wspólnotowe",801,80195,2009,"SFUE/",null,null,{"$error":"#DIV/0!"},null,null,{"$error":"#DIV/0!"},{"$error":"#DIV/0!"},{"$f":"IF(SUM(#REF!)>0,\"Tak\",\"\")","v":{"$error":"#REF!"}},{"$f":"IF(OR(G1429<0,J1429<0,#REF!<0,#REF!<0),\"ujemny plan\",\"\")","v":{"$error":"#REF!"}}]
["DZB/4/IW","Inicjatywy wspólnotowe",801,80195,2009,"SFUE/",null,null,{"$error":"#DIV/0!"},null,null,{"$error":"#DIV/0!"},{"$error":"#DIV/0!"},{"$f":"IF(SUM(#REF!)>0,\"Tak\",\"\")","v":{"$error":"#REF!"}},{"$f":"IF(OR(G1430<0,J1430<0,#REF!<0,#REF!<0),\"ujemny plan\",\"\")","v":{"$error":"#REF!"}}]
["DZB/4/IW","Inicjatywy wspólnotowe",801,80195,2009,"SFUE/",null,null,{"$error":"#DIV/0!"},null,null,{"$error":"#DIV/0!"},{"$error":"#DIV/0!"},{"$f":"IF(SUM(#REF!)>0,\"Tak\",\"\")","v":{"$error":"#REF!"}},{"$f":"IF(OR(G1431<0,J1431<0,#REF!<0,#REF!<0),\"ujemny plan\",\"\")","v":{"$error":"#REF!"}}]
["DZB/4/IW","Inicjatywy wspólnotowe",801,80195,2009,"SFUE/",null,null,{"$error":"#DIV/0!"},null,null,{"$error":"#DIV/0!"},{"$error":"#DIV/0!"},{"$f":"IF(SUM(#REF!)>0,\"Tak\",\"\")","v":{"$error":"#REF!"}},{"$f":"IF(OR(G1432<0,J1432<0,#REF!<0,#REF!<0),\"ujemny plan\",\"\")","v":{"$error":"#REF!"}}]
["DZB/4/IW","Inicjatywy wspólnotowe",801,80195,2009,"SFUE/",null,null,{"$error":"#DIV/0!"},null,null,{"$error":"#DIV/0!"},{"$error":"#DIV/0!"},{"$f":"IF(SUM(#REF!)>0,\"Tak\",\"\")","v":{"$error":"#REF!"}},{"$f":"IF(OR(G1433<0,J1433<0,#REF!<0,#REF!<0),\"ujemny plan\",\"\")","v":{"$error":"#REF!"}}]
["DZB/4/IW","Inicjatywy wspólnotowe",801,80195,2009,"SFUE/",null,null,{"$error":"#DIV/0!"},null,null,{"$error":"#DIV/0!"},{"$error":"#DIV/0!"},{"$f":"IF(SUM(#REF!)>0,\"Tak\",\"\")","v":{"$error":"#REF!"}},{"$f":"IF(OR(G1434<0,J1434<0,#REF!<0,#REF!<0),\"ujemny plan\",\"\")","v":{"$error":"#REF!"}}]
["DZB/4/IW","Inicjatywy wspólnotowe",801,80195,2009,"SFUE/",null,null,{"$error":"#DIV/0!"},null,null,{"$error":"#DIV/0!"},{"$error":"#DIV/0!"},{"$f":"IF(SUM(#REF!)>0,\"Tak\",\"\")","v":{"$error":"#REF!"}},{"$f":"IF(OR(G1435<0,J1435<0,#REF!<0,#REF!<0),\"ujemny plan\",\"\")","v":{"$error":"#REF!"}}]
["DZB/4/IW","Inicjatywy wspólnotowe",801,80195,2009,"SFUE/",null,null,{"$error":"#DIV/0!"},null,null,{"$error":"#DIV/0!"},{"$error":"#DIV/0!"},{"$f":"IF(SUM(#REF!)>0,\"Tak\",\"\")","v":{"$error":"#REF!"}},{"$f":"IF(OR(G1436<0,J1436<0,#REF!<0,#REF!<0),\"ujemny plan\",\"\")","v":{"$error":"#REF!"}}]
["DZB/4/IW","Inicjatywy wspólnotowe",801,80195,2009,"SFUE/",null,null,{"$error":"#DIV/0!"},null,null,{"$error":"#DIV/0!"},{"$error":"#DIV/0!"},{"$f":"IF(SUM(#REF!)>0,\"Tak\",\"\")","v":{"$error":"#REF!"}},{"$f":"IF(OR(G1437<0,J1437<0,#REF!<0,#REF!<0),\"ujemny plan\",\"\")","v":{"$error":"#REF!"}}]
["DZB/4/IW","Inicjatywy wspólnotowe",801,80195,2009,"SFUE/",null,null,{"$error":"#DIV/0!"},null,null,{"$error":"#DIV/0!"},{"$error":"#DIV/0!"},{"$f":"IF(SUM(#REF!)>0,\"Tak\",\"\")","v":{"$error":"#REF!"}},{"$f":"IF(OR(G1438<0,J1438<0,#REF!<0,#REF!<0),\"ujemny plan\",\"\")","v":{"$error":"#REF!"}}]
["DZB/4/IW","Inicjatywy wspólnotowe",801,80195,2009,"SFUE/",null,null,{"$error":"#DIV/0!"},null,null,{"$error":"#DIV/0!"},{"$error":"#DIV/0!"},{"$f":"IF(SUM(#REF!)>0,\"Tak\",\"\")","v":{"$error":"#REF!"}},{"$f":"IF(OR(G1439<0,J1439<0,#REF!<0,#REF!<0),\"ujemny plan\",\"\")","v":{"$error":"#REF!"}}]
["DZB/4/IW","Inicjatywy wspólnotowe",801,80195,2009,"SFUE/",null,null,{"$error":"#DIV/0!"},null,null,{"$error":"#DIV/0!"},{"$error":"#DIV/0!"},{"$f":"IF(SUM(#REF!)>0,\"Tak\",\"\")","v":{"$error":"#REF!"}},{"$f":"IF(OR(G1440<0,J1440<0,#REF!<0,#REF!<0),\"ujemny plan\",\"\")","v":{"$error":"#REF!"}}]
["DZB/4/IW","Inicjatywy wspólnotowe",801,80195,2009,"SFUE/",null,null,{"$error":"#DIV/0!"},null,null,{"$error":"#DIV/0!"},{"$error":"#DIV/0!"},{"$f":"IF(SUM(#REF!)>0,\"Tak\",\"\")","v":{"$error":"#REF!"}},{"$f":"IF(OR(G1441<0,J1441<0,#REF!<0,#REF!<0),\"ujemny plan\",\"\")","v":{"$error":"#REF!"}}]
["DZB/4/IW","Inicjatywy wspólnotowe",801,80195,2009,"SFUE/",null,null,{"$error":"#DIV/0!"},null,null,{"$error":"#DIV/0!"},{"$error":"#DIV/0!"},{"$f":"IF(SUM(#REF!)>0,\"Tak\",\"\")","v":{"$error":"#REF!"}},{"$f":"IF(OR(G1442<0,J1442<0,#REF!<0,#REF!<0),\"ujemny plan\",\"\")","v":{"$error":"#REF!"}}]
["DZB/4/IW","Inicjatywy wspólnotowe",853,85395,2009,"SFUE/",null,null,{"$error":"#DIV/0!"},null,null,{"$error":"#DIV/0!"},{"$error":"#DIV/0!"},{"$f":"IF(SUM(#REF!)>0,\"Tak\",\"\")","v":{"$error":"#REF!"}},{"$f":"IF(OR(G1443<0,J1443<0,#REF!<0,#REF!<0),\"ujemny plan\",\"\")","v":{"$error":"#REF!"}}]
["DZB/4/IW","Inicjatywy wspólnotowe",853,85395,2009,"SFUE/",null,null,{"$error":"#DIV/0!"},null,null,{"$error":"#DIV/0!"},{"$error":"#DIV/0!"},{"$f":"IF(SUM(#REF!)>0,\"Tak\",\"\")","v":{"$error":"#REF!"}},{"$f":"IF(OR(G1444<0,J1444<0,#REF!<0,#REF!<0),\"ujemny plan\",\"\")","v":{"$error":"#REF!"}}]
["DZB/4/IW","Inicjatywy wspólnotowe",853,85395,2009,"SFUE/",null,null,{"$error":"#DIV/0!"},null,null,{"$error":"#DIV/0!"},{"$error":"#DIV/0!"},{"$f":"IF(SUM(#REF!)>0,\"Tak\",\"\")","v":{"$error":"#REF!"}},{"$f":"IF(OR(G1445<0,J1445<0,#REF!<0,#REF!<0),\"ujemny plan\",\"\")","v":{"$error":"#REF!"}}]
["DZB/4/IW","Inicjatywy wspólnotowe",853,85395,2009,"SFUE/",null,null,{"$error":"#DIV/0!"},null,null,{"$error":"#DIV/0!"},{"$error":"#DIV/0!"},{"$f":"IF(SUM(#REF!)>0,\"Tak\",\"\")","v":{"$error":"#REF!"}},{"$f":"IF(OR(G1446<0,J1446<0,#REF!<0,#REF!<0),\"ujemny plan\",\"\")","v":{"$error":"#REF!"}}]
["DZB/4/IW","Inicjatywy wspólnotowe",853,85395,2009,"SFUE/",null,null,{"$error":"#DIV/0!"},null,null,{"$error":"#DIV/0!"},{"$error":"#DIV/0!"},{"$f":"IF(SUM(#REF!)>0,\"Tak\",\"\")","v":{"$error":"#REF!"}},{"$f":"IF(OR(G1447<0,J1447<0,#REF!<0,#REF!<0),\"ujemny plan\",\"\")","v":{"$error":"#REF!"}}]
["DZB/4/IW","Inicjatywy wspólnotowe",853,85395,2009,"SFUE/",null,null,{"$error":"#DIV/0!"},null,null,{"$error":"#DIV/0!"},{"$error":"#DIV/0!"},{"$f":"IF(SUM(#REF!)>0,\"Tak\",\"\")","v":{"$error":"#REF!"}},{"$f":"IF(OR(G1448<0,J1448<0,#REF!<0,#REF!<0),\"ujemny plan\",\"\")","v":{"$error":"#REF!"}}]
["DZB/4/IW","Inicjatywy wspólnotowe",853,85395,2009,"SFUE/",null,null,{"$error":"#DIV/0!"},null,null,{"$error":"#DIV/0!"},{"$error":"#DIV/0!"},{"$f":"IF(SUM(#REF!)>0,\"Tak\",\"\")","v":{"$error":"#REF!"}},{"$f":"IF(OR(G1449<0,J1449<0,#REF!<0,#REF!<0),\"ujemny plan\",\"\")","v":{"$error":"#REF!"}}]
["DZB/4/IW","Inicjatywy wspólnotowe",853,85395,2009,"SFUE/",null,null,{"$error":"#DIV/0!"},null,null,{"$error":"#DIV/0!"},{"$error":"#DIV/0!"},{"$f":"IF(SUM(#REF!)>0,\"Tak\",\"\")","v":{"$error":"#REF!"}},{"$f":"IF(OR(G1450<0,J1450<0,#REF!<0,#REF!<0),\"ujemny plan\",\"\")","v":{"$error":"#REF!"}}]
["DZB/4/IW","Inicjatywy wspólnotowe",853,85395,2009,"SFUE/",null,null,{"$error":"#DIV/0!"},null,null,{"$error":"#DIV/0!"},{"$error":"#DIV/0!"},{"$f":"IF(SUM(#REF!)>0,\"Tak\",\"\")","v":{"$error":"#REF!"}},{"$f":"IF(OR(G1451<0,J1451<0,#REF!<0,#REF!<0),\"ujemny plan\",\"\")","v":{"$error":"#REF!"}}]
["DZB/4/IW","Inicjatywy wspólnotowe",853,85395,2009,"SFUE/",null,null,{"$error":"#DIV/0!"},null,null,{"$error":"#DIV/0!"},{"$error":"#DIV/0!"},{"$f":"IF(SUM(#REF!)>0,\"Tak\",\"\")","v":{"$error":"#REF!"}},{"$f":"IF(OR(G1452<0,J1452<0,#REF!<0,#REF!<0),\"ujemny plan\",\"\")","v":{"$error":"#REF!"}}]
["DZB/4/IW","Inicjatywy wspólnotowe",853,85395,2009,"SFUE/",null,null,{"$error":"#DIV/0!"},null,null,{"$error":"#DIV/0!"},{"$error":"#DIV/0!"},{"$f":"IF(SUM(#REF!)>0,\"Tak\",\"\")","v":{"$error":"#REF!"}},{"$f":"IF(OR(G1453<0,J1453<0,#REF!<0,#REF!<0),\"ujemny plan\",\"\")","v":{"$error":"#REF!"}}]
["DZB/4/IW","Inicjatywy wspólnotowe",853,85395,2009,"SFUE/",null,null,{"$error":"#DIV/0!"},null,null,{"$error":"#DIV/0!"},{"$error":"#DIV/0!"},{"$f":"IF(SUM(#REF!)>0,\"Tak\",\"\")","v":{"$error":"#REF!"}},{"$f":"IF(OR(G1454<0,J1454<0,#REF!<0,#REF!<0),\"ujemny plan\",\"\")","v":{"$error":"#REF!"}}]
["DZB/4/IW","Inicjatywy wspólnotowe",853,85395,2009,"SFUE/",null,null,{"$error":"#DIV/0!"},null,null,{"$error":"#DIV/0!"},{"$error":"#DIV/0!"},{"$f":"IF(SUM(#REF!)>0,\"Tak\",\"\")","v":{"$error":"#REF!"}},{"$f":"IF(OR(G1455<0,J1455<0,#REF!<0,#REF!<0),\"ujemny plan\",\"\")","v":{"$error":"#REF!"}}]
["DZB/4/IW","Inicjatywy wspólnotowe",853,85395,2009,"SFUE/",null,null,{"$error":"#DIV/0!"},null,null,{"$error":"#DIV/0!"},{"$error":"#DIV/0!"},{"$f":"IF(SUM(#REF!)>0,\"Tak\",\"\")","v":{"$error":"#REF!"}},{"$f":"IF(OR(G1456<0,J1456<0,#REF!<0,#REF!<0),\"ujemny plan\",\"\")","v":{"$error":"#REF!"}}]
["DZB/4/IW","Inicjatywy wspólnotowe",853,85395,2009,"SFUE/",null,null,{"$error":"#DIV/0!"},null,null,{"$error":"#DIV/0!"},{"$error":"#DIV/0!"},{"$f":"IF(SUM(#REF!)>0,\"Tak\",\"\")","v":{"$error":"#REF!"}},{"$f":"IF(OR(G1457<0,J1457<0,#REF!<0,#REF!<0),\"ujemny plan\",\"\")","v":{"$error":"#REF!"}}]
["DZB/4/IW","Inicjatywy wspólnotowe",853,85395,2009,"SFUE/",null,null,{"$error":"#DIV/0!"},null,null,{"$error":"#DIV/0!"},{"$error":"#DIV/0!"},{"$f":"IF(SUM(#REF!)>0,\"Tak\",\"\")","v":{"$error":"#REF!"}},{"$f":"IF(OR(G1458<0,J1458<0,#REF!<0,#REF!<0),\"ujemny plan\",\"\")","v":{"$error":"#REF!"}}]
["DZB/4/IW","Inicjatywy wspólnotowe",853,85395,2009,"SFUE/",null,null,{"$error":"#DIV/0!"},null,null,{"$error":"#DIV/0!"},{"$error":"#DIV/0!"},{"$f":"IF(SUM(#REF!)>0,\"Tak\",\"\")","v":{"$error":"#REF!"}},{"$f":"IF(OR(G1459<0,J1459<0,#REF!<0,#REF!<0),\"ujemny plan\",\"\")","v":{"$error":"#REF!"}}]
["DZB/4/IW","Inicjatywy wspólnotowe",853,85395,2009,"SFUE/",null,null,{"$error":"#DIV/0!"},null,null,{"$error":"#DIV/0!"},{"$error":"#DIV/0!"},{"$f":"IF(SUM(#REF!)>0,\"Tak\",\"\")","v":{"$error":"#REF!"}},{"$f":"IF(OR(G1460<0,J1460<0,#REF!<0,#REF!<0),\"ujemny plan\",\"\")","v":{"$error":"#REF!"}}]
["DZB/4/IW","Inicjatywy wspólnotowe",853,85395,2009,"SFUE/",null,null,{"$error":"#DIV/0!"},null,null,{"$error":"#DIV/0!"},{"$error":"#DIV/0!"},{"$f":"IF(SUM(#REF!)>0,\"Tak\",\"\")","v":{"$error":"#REF!"}},{"$f":"IF(OR(G1461<0,J1461<0,#REF!<0,#REF!<0),\"ujemny plan\",\"\")","v":{"$error":"#REF!"}}]
["DZB/4/IW","Inicjatywy wspólnotowe",853,85395,2009,"SFUE/",null,null,{"$error":"#DIV/0!"},null,null,{"$error":"#DIV/0!"},{"$error":"#DIV/0!"},{"$f":"IF(SUM(#REF!)>0,\"Tak\",\"\")","v":{"$error":"#REF!"}},{"$f":"IF(OR(G1462<0,J1462<0,#REF!<0,#REF!<0),\"ujemny plan\",\"\")","v":{"$error":"#REF!"}}]
["DZB/4/IW","Inicjatywy wspólnotowe",853,85395,2009,"SFUE/",null,null,{"$error":"#DIV/0!"},null,null,{"$error":"#DIV/0!"},{"$error":"#DIV/0!"},{"$f":"IF(SUM(#REF!)>0,\"Tak\",\"\")","v":{"$error":"#REF!"}},{"$f":"IF(OR(G1463<0,J1463<0,#REF!<0,#REF!<0),\"ujemny plan\",\"\")","v":{"$error":"#REF!"}}]
["DZB/4/IW","Inicjatywy wspólnotowe",853,85395,2009,"SFUE/",null,null,{"$error":"#DIV/0!"},null,null,{"$error":"#DIV/0!"},{"$error":"#DIV/0!"},{"$f":"IF(SUM(#REF!)>0,\"Tak\",\"\")","v":{"$error":"#REF!"}},{"$f":"IF(OR(G1464<0,J1464<0,#REF!<0,#REF!<0),\"ujemny plan\",\"\")","v":{"$error":"#REF!"}}]
["DZB/4/IW","Inicjatywy wspólnotowe",853,85395,2009,"SFUE/",null,null,{"$error":"#DIV/0!"},null,null,{"$error":"#DIV/0!"},{"$error":"#DIV/0!"},{"$f":"IF(SUM(#REF!)>0,\"Tak\",\"\")","v":{"$error":"#REF!"}},{"$f":"IF(OR(G1465<0,J1465<0,#REF!<0,#REF!<0),\"ujemny plan\",\"\")","v":{"$error":"#REF!"}}]
["DZB/4/IW","Inicjatywy wspólnotowe",853,85395,2009,"SFUE/",null,null,{"$error":"#DIV/0!"},null,null,{"$error":"#DIV/0!"},{"$error":"#DIV/0!"},{"$f":"IF(SUM(#REF!)>0,\"Tak\",\"\")","v":{"$error":"#REF!"}},{"$f":"IF(OR(G1466<0,J1466<0,#REF!<0,#REF!<0),\"ujemny plan\",\"\")","v":{"$error":"#REF!"}}]
["DZB/4/IW","Inicjatywy wspólnotowe",853,85395,2009,"SFUE/",null,null,{"$error":"#DIV/0!"},null,null,{"$error":"#DIV/0!"},{"$error":"#DIV/0!"},{"$f":"IF(SUM(#REF!)>0,\"Tak\",\"\")","v":{"$error":"#REF!"}},{"$f":"IF(OR(G1467<0,J1467<0,#REF!<0,#REF!<0),\"ujemny plan\",\"\")","v":{"$error":"#REF!"}}]
["DZB/4/IW","Inicjatywy wspólnotowe",853,85395,2009,"SFUE/",null,null,{"$error":"#DIV/0!"},null,null,{"$error":"#DIV/0!"},{"$error":"#DIV/0!"},{"$f":"IF(SUM(#REF!)>0,\"Tak\",\"\")","v":{"$error":"#REF!"}},{"$f":"IF(OR(G1468<0,J1468<0,#REF!<0,#REF!<0),\"ujemny plan\",\"\")","v":{"$error":"#REF!"}}]
["DZB/4/IW","Inicjatywy wspólnotowe",853,85395,2009,"SFUE/",null,null,{"$error":"#DIV/0!"},null,null,{"$error":"#DIV/0!"},{"$error":"#DIV/0!"},{"$f":"IF(SUM(#REF!)>0,\"Tak\",\"\")","v":{"$error":"#REF!"}},{"$f":"IF(OR(G1469<0,J1469<0,#REF!<0,#REF!<0),\"ujemny plan\",\"\")","v":{"$error":"#REF!"}}]
["DZB/4/IW","Inicjatywy wspólnotowe",853,85395,2009,"SFUE/",null,null,{"$error":"#DIV/0!"},null,null,{"$error":"#DIV/0!"},{"$error":"#DIV/0!"},{"$f":"IF(SUM(#REF!)>0,\"Tak\",\"\")","v":{"$error":"#REF!"}},{"$f":"IF(OR(G1470<0,J1470<0,#REF!<0,#REF!<0),\"ujemny plan\",\"\")","v":{"$error":"#REF!"}}]
["DZB/4/IW","Inicjatywy wspólnotowe",853,85395,2009,"SFUE/",null,null,{"$error":"#DIV/0!"},null,null,{"$error":"#DIV/0!"},{"$error":"#DIV/0!"},{"$f":"IF(SUM(#REF!)>0,\"Tak\",\"\")","v":{"$error":"#REF!"}},{"$f":"IF(OR(G1471<0,J1471<0,#REF!<0,#REF!<0),\"ujemny plan\",\"\")","v":{"$error":"#REF!"}}]
["DZB/4/IW","Inicjatywy wspólnotowe",926,92605,2009,"SFUE/",null,null,{"$error":"#DIV/0!"},null,null,{"$error":"#DIV/0!"},{"$error":"#DIV/0!"},{"$f":"IF(SUM(#REF!)>0,\"Tak\",\"\")","v":{"$error":"#REF!"}},{"$f":"IF(OR(G1472<0,J1472<0,#REF!<0,#REF!<0),\"ujemny plan\",\"\")","v":{"$error":"#REF!"}}]
["DZB/4/IW","Inicjatywy wspólnotowe",null,null,2051,null,{"$f":"SUM(G1474:G1475)","v":0},null,{"$error":"#DIV/0!"},0,null,{"$error":"#DIV/0!"},{"$error":"#DIV/0!"},{"$f":"IF(SUM(#REF!)>0,\"Tak\",\"\")","v":{"$error":"#REF!"}},{"$f":"IF(OR(G1473<0,J1473<0,#REF!<0,#REF!<0),\"ujemny plan\",\"\")","v":{"$error":"#REF!"}}]
["DZB/4/IW","Inicjatywy wspólnotowe",801,80195,2051,"SFUE/",null,null,{"$error":"#DIV/0!"},null,null,{"$error":"#DIV/0!"},{"$error":"#DIV/0!"},{"$f":"IF(SUM(#REF!)>0,\"Tak\",\"\")","v":{"$error":"#REF!"}},{"$f":"IF(OR(G1474<0,J1474<0,#REF!<0,#REF!<0),\"ujemny plan\",\"\")","v":{"$error":"#REF!"}}]
["DZB/4/IW","Inicjatywy wspólnotowe",921,92195,2051,"SFUE/",null,null,{"$error":"#DIV/0!"},null,null,{"$error":"#DIV/0!"},{"$error":"#DIV/0!"},{"$f":"IF(SUM(#REF!)>0,\"Tak\",\"\")","v":{"$error":"#REF!"}},{"$f":"IF(OR(G1475<0,J1475<0,#REF!<0,#REF!<0),\"ujemny plan\",\"\")","v":{"$error":"#REF!"}}]
["DZB/4/IW","Inicjatywy wspólnotowe",null,null,2057,null,{"$f":"SUM(G1477:G1486)","v":0},null,{"$error":"#DIV/0!"},0,null,{"$error":"#DIV/0!"},{"$error":"#DIV/0!"},{"$f":"IF(SUM(#REF!)>0,\"Tak\",\"\")","v":{"$error":"#REF!"}},{"$f":"IF(OR(G1476<0,J1476<0,#REF!<0,#REF!<0),\"ujemny plan\",\"\")","v":{"$error":"#REF!"}}]
["DZB/4/IW","Inicjatywy wspólnotowe",600,60004,2057,"SFUE/",null,null,{"$error":"#DIV/0!"},null,null,{"$error":"#DIV/0!"},{"$error":"#DIV/0!"},{"$f":"IF(SUM(#REF!)>0,\"Tak\",\"\")","v":{"$error":"#REF!"}},{"$f":"IF(OR(G1477<0,J1477<0,#REF!<0,#REF!<0),\"ujemny plan\",\"\")","v":{"$error":"#REF!"}}]
["DZB/4/IW","Inicjatywy wspólnotowe",600,60011,2057,"SFUE/",null,null,{"$error":"#DIV/0!"},null,null,{"$error":"#DIV/0!"},{"$error":"#DIV/0!"},{"$f":"IF(SUM(#REF!)>0,\"Tak\",\"\")","v":{"$error":"#REF!"}},{"$f":"IF(OR(G1478<0,J1478<0,#REF!<0,#REF!<0),\"ujemny plan\",\"\")","v":{"$error":"#REF!"}}]
["DZB/4/IW","Inicjatywy wspólnotowe",600,60013,2057,"SFUE/",null,null,{"$error":"#DIV/0!"},null,null,{"$error":"#DIV/0!"},{"$error":"#DIV/0!"},{"$f":"IF(SUM(#REF!)>0,\"Tak\",\"\")","v":{"$error":"#REF!"}},{"$f":"IF(OR(G1479<0,J1479<0,#REF!<0,#REF!<0),\"ujemny plan\",\"\")","v":{"$error":"#REF!"}}]
["DZB/4/IW","Inicjatywy wspólnotowe",710,71095,2057,"SFUE/",null,null,{"$error":"#DIV/0!"},null,null,{"$error":"#DIV/0!"},{"$f":"IF(SUM(G1480:L1480)>0,\"Tak\",\"\")","v":{"$error":"#DIV/0!"}},{"$f":"IF(SUM(#REF!)>0,\"Tak\",\"\")","v":{"$error":"#REF!"}},{"$f":"IF(OR(G1480<0,J1480<0,#REF!<0,#REF!<0),\"ujemny plan\",\"\")","v":{"$error":"#REF!"}}]
["DZB/4/IW","Inicjatywy wspólnotowe",750,75023,2057,"SFUE/",null,null,{"$f":"H1481/G1481","v":{"$error":"#DIV/0!"}},null,null,{"$f":"K1481/J1481","v":{"$error":"#DIV/0!"}},{"$error":"#DIV/0!"},{"$f":"IF(SUM(#REF!)>0,\"Tak\",\"\")","v":{"$error":"#REF!"}},{"$f":"IF(OR(G1481<0,J1481<0,#REF!<0,#REF!<0),\"ujemny plan\",\"\")","v":{"$error":"#REF!"}}]
["DZB/4/IW","Inicjatywy wspólnotowe",801,80195,2057,"SFUE/",null,null,{"$error":"#DIV/0!"},null,null,{"$error":"#DIV/0!"},{"$error":"#DIV/0!"},{"$f":"IF(SUM(#REF!)>0,\"Tak\",\"\")","v":{"$error":"#REF!"}},{"$f":"IF(OR(G1482<0,J1482<0,#REF!<0,#REF!<0),\"ujemny plan\",\"\")","v":{"$error":"#REF!"}}]
["DZB/4/IW","Inicjatywy wspólnotowe",853,85395,2057,"SFUE/",null,null,{"$error":"#DIV/0!"},null,null,{"$error":"#DIV/0!"},{"$error":"#DIV/0!"},{"$f":"IF(SUM(#REF!)>0,\"Tak\",\"\")","v":{"$error":"#REF!"}},{"$f":"IF(OR(G1483<0,J1483<0,#REF!<0,#REF!<0),\"ujemny plan\",\"\")","v":{"$error":"#REF!"}}]
["DZB/4/IW","Inicjatywy wspólnotowe",855,85595,2057,"SFUE/",null,null,{"$error":"#DIV/0!"},null,null,{"$error":"#DIV/0!"},{"$error":"#DIV/0!"},{"$f":"IF(SUM(#REF!)>0,\"Tak\",\"\")","v":{"$error":"#REF!"}},{"$f":"IF(OR(G1484<0,J1484<0,#REF!<0,#REF!<0),\"ujemny plan\",\"\")","v":{"$error":"#REF!"}}]
["DZB/4/IW","Inicjatywy wspólnotowe",900,90095,2057,"SFUE/",null,null,{"$error":"#DIV/0!"},null,null,{"$error":"#DIV/0!"},{"$error":"#DIV/0!"},{"$f":"IF(SUM(#REF!)>0,\"Tak\",\"\")","v":{"$error":"#REF!"}},{"$f":"IF(OR(G1485<0,J1485<0,#REF!<0,#REF!<0),\"ujemny plan\",\"\")","v":{"$error":"#REF!"}}]
["DZB/4/IW","Inicjatywy wspólnotowe",921,92195,2057,"SFUE/",null,null,{"$error":"#DIV/0!"},null,null,{"$error":"#DIV/0!"},{"$error":"#DIV/0!"},{"$f":"IF(SUM(#REF!)>0,\"Tak\",\"\")","v":{"$error":"#REF!"}},{"$f":"IF(OR(G1486<0,J1486<0,#REF!<0,#REF!<0),\"ujemny plan\",\"\")","v":{"$error":"#REF!"}}]
["DZB/4/IW","Inicjatywy wspólnotowe",null,null,2058,null,{"$f":"SUM(G1488:G1494)","v":0},null,{"$error":"#DIV/0!"},0,null,{"$error":"#DIV/0!"},{"$error":"#DIV/0!"},{"$f":"IF(SUM(#REF!)>0,\"Tak\",\"\")","v":{"$error":"#REF!"}},{"$f":"IF(OR(G1487<0,J1487<0,#REF!<0,#REF!<0),\"ujemny plan\",\"\")","v":{"$error":"#REF!"}}]
["DZB/4/IW","Inicjatywy wspólnotowe",600,60015,2058,"SFUE/",null,null,{"$error":"#DIV/0!"},null,null,{"$error":"#DIV/0!"},{"$error":"#DIV/0!"},{"$f":"IF(SUM(#REF!)>0,\"Tak\",\"\")","v":{"$error":"#REF!"}},{"$f":"IF(OR(G1488<0,J1488<0,#REF!<0,#REF!<0),\"ujemny plan\",\"\")","v":{"$error":"#REF!"}}]
["DZB/4/IW","Inicjatywy wspólnotowe",710,71095,2058,"SFUE/",null,null,{"$error":"#DIV/0!"},null,null,{"$error":"#DIV/0!"},{"$error":"#DIV/0!"},{"$f":"IF(SUM(#REF!)>0,\"Tak\",\"\")","v":{"$error":"#REF!"}},{"$f":"IF(OR(G1489<0,J1489<0,#REF!<0,#REF!<0),\"ujemny plan\",\"\")","v":{"$error":"#REF!"}}]
["DZB/4/IW","Inicjatywy wspólnotowe",750,75023,2058,"SFUE/",null,null,{"$error":"#DIV/0!"},null,null,{"$error":"#DIV/0!"},{"$error":"#DIV/0!"},{"$f":"IF(SUM(#REF!)>0,\"Tak\",\"\")","v":{"$error":"#REF!"}},{"$f":"IF(OR(G1490<0,J1490<0,#REF!<0,#REF!<0),\"ujemny plan\",\"\")","v":{"$error":"#REF!"}}]
["DZB/4/IW","Inicjatywy wspólnotowe",801,80195,2058,"SFUE/",null,null,{"$error":"#DIV/0!"},null,null,{"$error":"#DIV/0!"},{"$error":"#DIV/0!"},{"$f":"IF(SUM(#REF!)>0,\"Tak\",\"\")","v":{"$error":"#REF!"}},{"$f":"IF(OR(G1491<0,J1491<0,#REF!<0,#REF!<0),\"ujemny plan\",\"\")","v":{"$error":"#REF!"}}]
["DZB/4/IW","Inicjatywy wspólnotowe",853,85395,2058,"SFUE/",null,null,{"$error":"#DIV/0!"},null,null,{"$error":"#DIV/0!"},{"$error":"#DIV/0!"},{"$f":"IF(SUM(#REF!)>0,\"Tak\",\"\")","v":{"$error":"#REF!"}},{"$f":"IF(OR(G1492<0,J1492<0,#REF!<0,#REF!<0),\"ujemny plan\",\"\")","v":{"$error":"#REF!"}}]
["DZB/4/IW","Inicjatywy wspólnotowe",900,90002,2058,"SFUE/",null,null,{"$error":"#DIV/0!"},null,null,{"$error":"#DIV/0!"},{"$error":"#DIV/0!"},{"$f":"IF(SUM(#REF!)>0,\"Tak\",\"\")","v":{"$error":"#REF!"}},{"$f":"IF(OR(G1493<0,J1493<0,#REF!<0,#REF!<0),\"ujemny plan\",\"\")","v":{"$error":"#REF!"}}]
["DZB/4/IW","Inicjatywy wspólnotowe",900,90095,2058,"SFUE/",null,null,{"$error":"#DIV/0!"},null,null,{"$error":"#DIV/0!"},{"$error":"#DIV/0!"},{"$f":"IF(SUM(#REF!)>0,\"Tak\",\"\")","v":{"$error":"#REF!"}},{"$f":"IF(OR(G1494<0,J1494<0,#REF!<0,#REF!<0),\"ujemny plan\",\"\")","v":{"$error":"#REF!"}}]
["DZB/4/IW","Inicjatywy wspólnotowe",null,null,2059,null,{"$f":"SUM(G1496:G1498)","v":0},null,{"$error":"#DIV/0!"},0,null,{"$error":"#DIV/0!"},{"$error":"#DIV/0!"},{"$f":"IF(SUM(#REF!)>0,\"Tak\",\"\")","v":{"$error":"#REF!"}},{"$f":"IF(OR(G1495<0,J1495<0,#REF!<0,#REF!<0),\"ujemny plan\",\"\")","v":{"$error":"#REF!"}}]
["DZB/4/IW","Inicjatywy wspólnotowe",710,71095,2059,"SFUE/",null,null,{"$error":"#DIV/0!"},null,null,{"$error":"#DIV/0!"},{"$error":"#DIV/0!"},{"$f":"IF(SUM(#REF!)>0,\"Tak\",\"\")","v":{"$error":"#REF!"}},{"$f":"IF(OR(G1496<0,J1496<0,#REF!<0,#REF!<0),\"ujemny plan\",\"\")","v":{"$error":"#REF!"}}]
["DZB/4/IW","Inicjatywy wspólnotowe",801,80195,2059,"SFUE/",null,null,{"$error":"#DIV/0!"},null,null,{"$error":"#DIV/0!"},{"$error":"#DIV/0!"},{"$f":"IF(SUM(#REF!)>0,\"Tak\",\"\")","v":{"$error":"#REF!"}},{"$f":"IF(OR(G1497<0,J1497<0,#REF!<0,#REF!<0),\"ujemny plan\",\"\")","v":{"$error":"#REF!"}}]
["DZB/4/IW","Inicjatywy wspólnotowe",853,85395,2059,"SFUE/",null,null,{"$error":"#DIV/0!"},null,null,{"$error":"#DIV/0!"},{"$error":"#DIV/0!"},{"$f":"IF(SUM(#REF!)>0,\"Tak\",\"\")","v":{"$error":"#REF!"}},{"$f":"IF(OR(G1498<0,J1498<0,#REF!<0,#REF!<0),\"ujemny plan\",\"\")","v":{"$error":"#REF!"}}]
["DZB/4/IW","Inicjatywy wspólnotowe",null,null,2703,null,{"$f":"SUM(G1500,G1516,G1518)","v":0},null,{"$error":"#DIV/0!"},0,null,{"$error":"#DIV/0!"},{"$error":"#DIV/0!"},{"$f":"IF(SUM(#REF!)>0,\"Tak\",\"\")","v":{"$error":"#REF!"}},{"$f":"IF(OR(G1499<0,J1499<0,#REF!<0,#REF!<0),\"ujemny plan\",\"\")","v":{"$error":"#REF!"}}]
["DZB/4/IW","Inicjatywy wspólnotowe",null,null,"2703",null,{"$f":"SUM(G1501:G1515)","v":0},null,{"$error":"#DIV/0!"},{"$f":"SUM(J1501:J1515)","v":0},null,{"$error":"#DIV/0!"},{"$error":"#DIV/0!"},{"$f":"IF(SUM(#REF!)>0,\"Tak\",\"\")","v":{"$error":"#REF!"}},{"$f":"IF(OR(G1500<0,J1500<0,#REF!<0,#REF!<0),\"ujemny plan\",\"\")","v":{"$error":"#REF!"}}]
["DZB/4/IW","Inicjatywy wspólnotowe",801,80195,2703,"SFUE/",null,null,{"$error":"#DIV/0!"},null,null,{"$error":"#DIV/0!"},{"$error":"#DIV/0!"},{"$f":"IF(SUM(#REF!)>0,\"Tak\",\"\")","v":{"$error":"#REF!"}},{"$f":"IF(OR(G1501<0,J1501<0,#REF!<0,#REF!<0),\"ujemny plan\",\"\")","v":{"$error":"#REF!"}}]
["DZB/4/IW","Inicjatywy wspólnotowe",801,80195,2703,"SFUE/",null,null,{"$error":"#DIV/0!"},null,null,{"$error":"#DIV/0!"},{"$error":"#DIV/0!"},{"$f":"IF(SUM(#REF!)>0,\"Tak\",\"\")","v":{"$error":"#REF!"}},{"$f":"IF(OR(G1502<0,J1502<0,#REF!<0,#REF!<0),\"ujemny plan\",\"\")","v":{"$error":"#REF!"}}]
["DZB/4/IW","Inicjatywy wspólnotowe",801,80195,2703,"SFUE/",null,null,{"$error":"#DIV/0!"},null,null,{"$error":"#DIV/0!"},{"$error":"#DIV/0!"},{"$f":"IF(SUM(#REF!)>0,\"Tak\",\"\")","v":{"$error":"#REF!"}},{"$f":"IF(OR(G1503<0,J1503<0,#REF!<0,#REF!<0),\"ujemny plan\",\"\")","v":{"$error":"#REF!"}}]
["DZB/4/IW","Inicjatywy wspólnotowe",801,80195,2703,"SFUE/",null,null,{"$error":"#DIV/0!"},null,null,{"$error":"#DIV/0!"},{"$error":"#DIV/0!"},{"$f":"IF(SUM(#REF!)>0,\"Tak\",\"\")","v":{"$error":"#REF!"}},{"$f":"IF(OR(G1504<0,J1504<0,#REF!<0,#REF!<0),\"ujemny plan\",\"\")","v":{"$error":"#REF!"}}]
["DZB/4/IW","Inicjatywy wspólnotowe",801,80195,2703,"SFUE/",null,null,{"$error":"#DIV/0!"},null,null,{"$error":"#DIV/0!"},{"$error":"#DIV/0!"},{"$f":"IF(SUM(#REF!)>0,\"Tak\",\"\")","v":{"$error":"#REF!"}},{"$f":"IF(OR(G1505<0,J1505<0,#REF!<0,#REF!<0),\"ujemny plan\",\"\")","v":{"$error":"#REF!"}}]
["DZB/4/IW","Inicjatywy wspólnotowe",801,80195,2703,"SFUE/",null,null,{"$error":"#DIV/0!"},null,null,{"$error":"#DIV/0!"},{"$error":"#DIV/0!"},{"$f":"IF(SUM(#REF!)>0,\"Tak\",\"\")","v":{"$error":"#REF!"}},{"$f":"IF(OR(G1506<0,J1506<0,#REF!<0,#REF!<0),\"ujemny plan\",\"\")","v":{"$error":"#REF!"}}]
["DZB/4/IW","Inicjatywy wspólnotowe",801,80195,2703,"SFUE/",null,null,{"$error":"#DIV/0!"},null,null,{"$error":"#DIV/0!"},{"$error":"#DIV/0!"},{"$f":"IF(SUM(#REF!)>0,\"Tak\",\"\")","v":{"$error":"#REF!"}},{"$f":"IF(OR(G1507<0,J1507<0,#REF!<0,#REF!<0),\"ujemny plan\",\"\")","v":{"$error":"#REF!"}}]
["DZB/4/IW","Inicjatywy wspólnotowe",801,80195,2703,"SFUE/",null,null,{"$error":"#DIV/0!"},null,null,{"$error":"#DIV/0!"},{"$error":"#DIV/0!"},{"$f":"IF(SUM(#REF!)>0,\"Tak\",\"\")","v":{"$error":"#REF!"}},{"$f":"IF(OR(G1508<0,J1508<0,#REF!<0,#REF!<0),\"ujemny plan\",\"\")","v":{"$error":"#REF!"}}]
["DZB/4/IW","Inicjatywy wspólnotowe",801,80195,2703,"SFUE/",null,null,{"$error":"#DIV/0!"},null,null,{"$error":"#DIV/0!"},{"$error":"#DIV/0!"},{"$f":"IF(SUM(#REF!)>0,\"Tak\",\"\")","v":{"$error":"#REF!"}},{"$f":"IF(OR(G1509<0,J1509<0,#REF!<0,#REF!<0),\"ujemny plan\",\"\")","v":{"$error":"#REF!"}}]
["DZB/4/IW","Inicjatywy wspólnotowe",801,80195,2703,"SFUE/",null,null,{"$error":"#DIV/0!"},null,null,{"$error":"#DIV/0!"},{"$error":"#DIV/0!"},{"$f":"IF(SUM(#REF!)>0,\"Tak\",\"\")","v":{"$error":"#REF!"}},{"$f":"IF(OR(G1510<0,J1510<0,#REF!<0,#REF!<0),\"ujemny plan\",\"\")","v":{"$error":"#REF!"}}]
["DZB/4/IW","Inicjatywy wspólnotowe",801,80195,2703,"SFUE/",null,null,{"$error":"#DIV/0!"},null,null,{"$error":"#DIV/0!"},{"$error":"#DIV/0!"},{"$f":"IF(SUM(#REF!)>0,\"Tak\",\"\")","v":{"$error":"#REF!"}},{"$f":"IF(OR(G1511<0,J1511<0,#REF!<0,#REF!<0),\"ujemny plan\",\"\")","v":{"$error":"#REF!"}}]
["DZB/4/IW","Inicjatywy wspólnotowe",801,80195,2703,"SFUE/",null,null,{"$error":"#DIV/0!"},null,null,{"$error":"#DIV/0!"},{"$error":"#DIV/0!"},{"$f":"IF(SUM(#REF!)>0,\"Tak\",\"\")","v":{"$error":"#REF!"}},{"$f":"IF(OR(G1512<0,J1512<0,#REF!<0,#REF!<0),\"ujemny plan\",\"\")","v":{"$error":"#REF!"}}]
["DZB/4/IW","Inicjatywy wspólnotowe",801,80195,2703,"SFUE/",null,null,{"$error":"#DIV/0!"},null,null,{"$error":"#DIV/0!"},{"$error":"#DIV/0!"},{"$f":"IF(SUM(#REF!)>0,\"Tak\",\"\")","v":{"$error":"#REF!"}},{"$f":"IF(OR(G1513<0,J1513<0,#REF!<0,#REF!<0),\"ujemny plan\",\"\")","v":{"$error":"#REF!"}}]
["DZB/4/IW","Inicjatywy wspólnotowe",801,80195,2703,"SFUE/",null,null,{"$error":"#DIV/0!"},null,null,{"$error":"#DIV/0!"},{"$error":"#DIV/0!"},{"$f":"IF(SUM(#REF!)>0,\"Tak\",\"\")","v":{"$error":"#REF!"}},{"$f":"IF(OR(G1514<0,J1514<0,#REF!<0,#REF!<0),\"ujemny plan\",\"\")","v":{"$error":"#REF!"}}]
["DZB/4/IW","Inicjatywy wspólnotowe",801,80195,2703,"SFUE/",null,null,{"$error":"#DIV/0!"},null,null,{"$error":"#DIV/0!"},{"$error":"#DIV/0!"},{"$f":"IF(SUM(#REF!)>0,\"Tak\",\"\")","v":{"$error":"#REF!"}},{"$f":"IF(OR(G1515<0,J1515<0,#REF!<0,#REF!<0),\"ujemny plan\",\"\")","v":{"$error":"#REF!"}}]
["DZB/4/IW","Inicjatywy wspólnotowe",null,null,"2703",null,{"$f":"SUM(G1517)","v":0},null,{"$error":"#DIV/0!"},0,null,{"$error":"#DIV/0!"},{"$error":"#DIV/0!"},{"$f":"IF(SUM(#REF!)>0,\"Tak\",\"\")","v":{"$error":"#REF!"}},{"$f":"IF(OR(G1516<0,J1516<0,#REF!<0,#REF!<0),\"ujemny plan\",\"\")","v":{"$error":"#REF!"}}]
["DZB/4/IW","Inicjatywy wspólnotowe",853,85395,2703,"SFUE/",null,null,{"$error":"#DIV/0!"},null,null,{"$error":"#DIV/0!"},{"$error":"#DIV/0!"},{"$f":"IF(SUM(#REF!)>0,\"Tak\",\"\")","v":{"$error":"#REF!"}},{"$f":"IF(OR(G1517<0,J1517<0,#REF!<0,#REF!<0),\"ujemny plan\",\"\")","v":{"$error":"#REF!"}}]
["DZB/4/IW","Inicjatywy wspólnotowe",null,null,"2703",null,{"$f":"SUM(G1519:G1520)","v":0},null,{"$error":"#DIV/0!"},{"$f":"SUM(J1519:J1520)","v":0},null,{"$error":"#DIV/0!"},{"$error":"#DIV/0!"},{"$f":"IF(SUM(#REF!)>0,\"Tak\",\"\")","v":{"$error":"#REF!"}},{"$f":"IF(OR(G1518<0,J1518<0,#REF!<0,#REF!<0),\"ujemny plan\",\"\")","v":{"$error":"#REF!"}}]
["DZB/4/IW","Inicjatywy wspólnotowe",801,80195,2703,"SFUE/",null,null,{"$error":"#DIV/0!"},null,null,{"$error":"#DIV/0!"},{"$error":"#DIV/0!"},{"$f":"IF(SUM(#REF!)>0,\"Tak\",\"\")","v":{"$error":"#REF!"}},{"$f":"IF(OR(G1519<0,J1519<0,#REF!<0,#REF!<0),\"ujemny plan\",\"\")","v":{"$error":"#REF!"}}]
["DZB/4/IW","Inicjatywy wspólnotowe",801,80195,2703,"SFUE/",null,null,{"$error":"#DIV/0!"},null,null,{"$error":"#DIV/0!"},{"$error":"#DIV/0!"},{"$f":"IF(SUM(#REF!)>0,\"Tak\",\"\")","v":{"$error":"#REF!"}},{"$f":"IF(OR(G1520<0,J1520<0,#REF!<0,#REF!<0),\"ujemny plan\",\"\")","v":{"$error":"#REF!"}}]
["DZB/4/IW","Inicjatywy wspólnotowe",null,null,2705,null,{"$f":"SUM(G1522:G1526)","v":0},null,{"$error":"#DIV/0!"},0,null,{"$error":"#DIV/0!"},{"$error":"#DIV/0!"},{"$f":"IF(SUM(#REF!)>0,\"Tak\",\"\")","v":{"$error":"#REF!"}},{"$f":"IF(OR(G1521<0,J1521<0,#REF!<0,#REF!<0),\"ujemny plan\",\"\")","v":{"$error":"#REF!"}}]
["DZB/4/IW","Inicjatywy wspólnotowe",750,75022,2705,"SFUE/",null,null,{"$error":"#DIV/0!"},null,null,{"$error":"#DIV/0!"},{"$error":"#DIV/0!"},{"$f":"IF(SUM(#REF!)>0,\"Tak\",\"\")","v":{"$error":"#REF!"}},{"$f":"IF(OR(G1522<0,J1522<0,#REF!<0,#REF!<0),\"ujemny plan\",\"\")","v":{"$error":"#REF!"}}]
["DZB/4/IW","Inicjatywy wspólnotowe",750,75023,2705,"SFUE/",null,null,{"$error":"#DIV/0!"},null,null,{"$error":"#DIV/0!"},{"$error":"#DIV/0!"},{"$f":"IF(SUM(#REF!)>0,\"Tak\",\"\")","v":{"$error":"#REF!"}},{"$f":"IF(OR(G1523<0,J1523<0,#REF!<0,#REF!<0),\"ujemny plan\",\"\")","v":{"$error":"#REF!"}}]
["DZB/4/IW","Inicjatywy wspólnotowe",750,75023,2705,"SFUE/",null,null,{"$error":"#DIV/0!"},null,null,{"$error":"#DIV/0!"},{"$error":"#DIV/0!"},{"$f":"IF(SUM(#REF!)>0,\"Tak\",\"\")","v":{"$error":"#REF!"}},{"$f":"IF(OR(G1524<0,J1524<0,#REF!<0,#REF!<0),\"ujemny plan\",\"\")","v":{"$error":"#REF!"}}]
["DZB/4/IW","Inicjatywy wspólnotowe",750,75023,2705,"SFUE/",null,null,{"$error":"#DIV/0!"},null,null,{"$error":"#DIV/0!"},{"$error":"#DIV/0!"},{"$f":"IF(SUM(#REF!)>0,\"Tak\",\"\")","v":{"$error":"#REF!"}},{"$f":"IF(OR(G1525<0,J1525<0,#REF!<0,#REF!<0),\"ujemny plan\",\"\")","v":{"$error":"#REF!"}}]
["DZB/4/IW","Inicjatywy wspólnotowe",900,90095,2705,"SFUE/",null,null,{"$error":"#DIV/0!"},null,null,{"$error":"#DIV/0!"},{"$error":"#DIV/0!"},{"$f":"IF(SUM(#REF!)>0,\"Tak\",\"\")","v":{"$error":"#REF!"}},{"$f":"IF(OR(G1526<0,J1526<0,#REF!<0,#REF!<0),\"ujemny plan\",\"\")","v":{"$error":"#REF!"}}]
["DZB/4/IW","Inicjatywy wspólnotowe",null,null,2706,null,{"$f":"SUM(G1528:G1532)","v":0},null,{"$error":"#DIV/0!"},0,null,{"$error":"#DIV/0!"},{"$error":"#DIV/0!"},{"$f":"IF(SUM(#REF!)>0,\"Tak\",\"\")","v":{"$error":"#REF!"}},{"$f":"IF(OR(G1527<0,J1527<0,#REF!<0,#REF!<0),\"ujemny plan\",\"\")","v":{"$error":"#REF!"}}]
["DZB/4/IW","Inicjatywy wspólnotowe",750,75022,2706,"SFUE/",null,null,{"$error":"#DIV/0!"},null,null,{"$error":"#DIV/0!"},{"$error":"#DIV/0!"},{"$f":"IF(SUM(#REF!)>0,\"Tak\",\"\")","v":{"$error":"#REF!"}},{"$f":"IF(OR(G1528<0,J1528<0,#REF!<0,#REF!<0),\"ujemny plan\",\"\")","v":{"$error":"#REF!"}}]
["DZB/4/IW","Inicjatywy wspólnotowe",750,75023,2706,"SFUE/",null,null,{"$error":"#DIV/0!"},null,null,{"$error":"#DIV/0!"},{"$error":"#DIV/0!"},{"$f":"IF(SUM(#REF!)>0,\"Tak\",\"\")","v":{"$error":"#REF!"}},{"$f":"IF(OR(G1529<0,J1529<0,#REF!<0,#REF!<0),\"ujemny plan\",\"\")","v":{"$error":"#REF!"}}]
["DZB/4/IW","Inicjatywy wspólnotowe",750,75023,2706,"SFUE/",null,null,{"$error":"#DIV/0!"},null,null,{"$error":"#DIV/0!"},{"$error":"#DIV/0!"},{"$f":"IF(SUM(#REF!)>0,\"Tak\",\"\")","v":{"$error":"#REF!"}},{"$f":"IF(OR(G1530<0,J1530<0,#REF!<0,#REF!<0),\"ujemny plan\",\"\")","v":{"$error":"#REF!"}}]
["DZB/4/IW","Inicjatywy wspólnotowe",750,75023,2706,"SFUE/",null,null,{"$error":"#DIV/0!"},null,null,{"$error":"#DIV/0!"},{"$error":"#DIV/0!"},{"$f":"IF(SUM(#REF!)>0,\"Tak\",\"\")","v":{"$error":"#REF!"}},{"$f":"IF(OR(G1531<0,J1531<0,#REF!<0,#REF!<0),\"ujemny plan\",\"\")","v":{"$error":"#REF!"}}]
["DZB/4/IW","Inicjatywy wspólnotowe",900,90095,2706,"SFUE/",null,null,{"$error":"#DIV/0!"},null,null,{"$error":"#DIV/0!"},{"$error":"#DIV/0!"},{"$f":"IF(SUM(#REF!)>0,\"Tak\",\"\")","v":{"$error":"#REF!"}},{"$f":"IF(OR(G1532<0,J1532<0,#REF!<0,#REF!<0),\"ujemny plan\",\"\")","v":{"$error":"#REF!"}}]
["DM","DOCHODY MAJĄTKOWE",null,null,null,null,{"$f":"SUM(G1534,G1617)","v":15359766},{"$f":"SUM(H1534,H1617)","v":1000194.28},6.5117807133259709E-2,15359766,{"$f":"SUM(K1534,K1617)","v":1000194.28},6.5117807133259709E-2,"Tak",{"$f":"IF(SUM(#REF!)>0,\"Tak\",\"\")","v":{"$error":"#REF!"}},{"$f":"IF(OR(G1533<0,J1533<0,#REF!<0,#REF!<0),\"ujemny plan\",\"\")","v":{"$error":"#REF!"}}]
["DWM","DOCHODY WŁASNE",null,null,null,null,{"$f":"G1535+G1541+G1546+G1562+G1566+G1589","v":15017011},{"$f":"H1535+H1541+H1546+H1562+H1566+H1589","v":628134.12},4.1828172064334243E-2,15017011,{"$f":"K1535+K1541+K1546+K1562+K1566+K1589","v":628134.12},4.1828172064334243E-2,"Tak",{"$f":"IF(SUM(#REF!)>0,\"Tak\",\"\")","v":{"$error":"#REF!"}},{"$f":"IF(OR(G1534<0,J1534<0,#REF!<0,#REF!<0),\"ujemny plan\",\"\")","v":{"$error":"#REF!"}}]
["DWM/1","Wpływy ze sprzedaży lokali i nieruchomości",null,null,null,null,{"$f":"SUM(G1536:G1540)","v":15000000},{"$f":"SUM(H1536:H1540)","v":0},0,15000000,{"$f":"SUM(K1536:K1540)","v":0},0,"Tak",{"$f":"IF(SUM(#REF!)>0,\"Tak\",\"\")","v":{"$error":"#REF!"}},{"$f":"IF(OR(G1535<0,J1535<0,#REF!<0,#REF!<0),\"ujemny plan\",\"\")","v":{"$error":"#REF!"}}]
["DWM/1/NG","wpływy ze sprzedaży nieruchomości gruntowych",700,70005,"0770","GMMW",15000000,0,0,15000000,0,0,"Tak",{"$f":"IF(SUM(#REF!)>0,\"Tak\",\"\")","v":{"$error":"#REF!"}},{"$f":"IF(OR(G1536<0,J1536<0,#REF!<0,#REF!<0),\"ujemny plan\",\"\")","v":{"$error":"#REF!"}}]
["DWM/1/LM","wpływy ze sprzedaży lokali mieszkalnych",700,"70007","0770","GMMW",null,null,{"$error":"#DIV/0!"},null,null,{"$error":"#DIV/0!"},{"$error":"#DIV/0!"},{"$f":"IF(SUM(#REF!)>0,\"Tak\",\"\")","v":{"$error":"#REF!"}},{"$f":"IF(OR(G1537<0,J1537<0,#REF!<0,#REF!<0),\"ujemny plan\",\"\")","v":{"$error":"#REF!"}}]
["DWM/1/LU","wpływy ze sprzedaży lokali użytkowych",700,70005,"0770","GMMW",null,null,{"$error":"#DIV/0!"},null,null,{"$error":"#DIV/0!"},{"$error":"#DIV/0!"},{"$f":"IF(SUM(#REF!)>0,\"Tak\",\"\")","v":{"$error":"#REF!"}},{"$f":"IF(OR(G1538<0,J1538<0,#REF!<0,#REF!<0),\"ujemny plan\",\"\")","v":{"$error":"#REF!"}}]
["DWM/1/PO","wpływy ze sprzedaży pozostałych nieruchomości",700,70005,"0770","GMMW",null,null,{"$error":"#DIV/0!"},null,null,{"$error":"#DIV/0!"},{"$error":"#DIV/0!"},{"$f":"IF(SUM(#REF!)>0,\"Tak\",\"\")","v":{"$error":"#REF!"}},{"$f":"IF(OR(G1539<0,J1539<0,#REF!<0,#REF!<0),\"ujemny plan\",\"\")","v":{"$error":"#REF!"}}]
["DWM/1/ON","wpływy z tytułu odszkodowania za przejęte nieruchomości pod inwestycje celu publicznego ",700,70005,"0800","GMMW",null,null,{"$error":"#DIV/0!"},null,null,{"$error":"#DIV/0!"},{"$error":"#DIV/0!"},{"$f":"IF(SUM(#REF!)>0,\"Tak\",\"\")","v":{"$error":"#REF!"}},{"$f":"IF(OR(G1540<0,J1540<0,#REF!<0,#REF!<0),\"ujemny plan\",\"\")","v":{"$error":"#REF!"}}]
["DWM/2","Zbycie praw majatkowych - sprzedaż udziałów w spółkach",null,null,"0780",null,{"$f":"SUM(G1542:G1545)","v":0},null,{"$error":"#DIV/0!"},0,null,{"$error":"#DIV/0!"},{"$error":"#DIV/0!"},{"$f":"IF(SUM(#REF!)>0,\"Tak\",\"\")","v":{"$error":"#REF!"}},{"$f":"IF(OR(G1541<0,J1541<0,#REF!<0,#REF!<0),\"ujemny plan\",\"\")","v":{"$error":"#REF!"}}]
["DWM/2/AI","zbycie praw majątkowych - Agencja Inwestycyjna CORP S.A.",756,"75619","0780",null,null,null,{"$error":"#DIV/0!"},null,null,{"$error":"#DIV/0!"},{"$error":"#DIV/0!"},{"$f":"IF(SUM(#REF!)>0,\"Tak\",\"\")","v":{"$error":"#REF!"}},{"$f":"IF(OR(G1542<0,J1542<0,#REF!<0,#REF!<0),\"ujemny plan\",\"\")","v":{"$error":"#REF!"}}]
["DWM/2/BU","zbycie praw majątkowych - PBU Warszawa - Północ sp. z o.o. po komercjalizacji przedsiębiorstwa",756,"75619","0780",null,null,null,{"$error":"#DIV/0!"},null,null,{"$error":"#DIV/0!"},{"$error":"#DIV/0!"},{"$f":"IF(SUM(#REF!)>0,\"Tak\",\"\")","v":{"$error":"#REF!"}},{"$f":"IF(OR(G1543<0,J1543<0,#REF!<0,#REF!<0),\"ujemny plan\",\"\")","v":{"$error":"#REF!"}}]
["DWM/2/IB","zbycie praw majątkowych - International Business Centre",756,"75619","0780","GMMW",null,null,{"$error":"#DIV/0!"},null,null,{"$error":"#DIV/0!"},{"$f":"IF(SUM(G1544:L1544)>0,\"Tak\",\"\")","v":{"$error":"#DIV/0!"}},{"$f":"IF(SUM(#REF!)>0,\"Tak\",\"\")","v":{"$error":"#REF!"}},{"$f":"IF(OR(G1544<0,J1544<0,#REF!<0,#REF!<0),\"ujemny plan\",\"\")","v":{"$error":"#REF!"}}]
["DWM/2/PO","zbycie praw majątkowych - pozostałe",757,"75619","0780",null,null,null,{"$f":"H1545/G1545","v":{"$error":"#DIV/0!"}},null,null,{"$f":"K1545/J1545","v":{"$error":"#DIV/0!"}},{"$error":"#DIV/0!"},{"$f":"IF(SUM(#REF!)>0,\"Tak\",\"\")","v":{"$error":"#REF!"}},{"$f":"IF(OR(G1545<0,J1545<0,#REF!<0,#REF!<0),\"ujemny plan\",\"\")","v":{"$error":"#REF!"}}]
["DWM/3","Wpływy ze sprzedaży składników majątkowych",null,null,"0870",null,{"$f":"SUM(G1547:G1561)","v":6900},15452.69,2.2395202898550726,6900,15452.69,2.2395202898550726,"Tak",{"$f":"IF(SUM(#REF!)>0,\"Tak\",\"\")","v":{"$error":"#REF!"}},{"$f":"IF(OR(G1546<0,J1546<0,#REF!<0,#REF!<0),\"ujemny plan\",\"\")","v":{"$error":"#REF!"}}]
["DWM/3","Wpływy ze sprzedaży składników majątkowych","600","60004","0870","GMMW",null,null,{"$error":"#DIV/0!"},null,null,{"$error":"#DIV/0!"},{"$error":"#DIV/0!"},{"$f":"IF(SUM(#REF!)>0,\"Tak\",\"\")","v":{"$error":"#REF!"}},{"$f":"IF(OR(G1547<0,J1547<0,#REF!<0,#REF!<0),\"ujemny plan\",\"\")","v":{"$error":"#REF!"}}]
["DWM/3","Wpływy ze sprzedaży składników majątkowych","600","60016","0870","GMMW",null,null,{"$error":"#DIV/0!"},null,null,{"$error":"#DIV/0!"},{"$error":"#DIV/0!"},{"$f":"IF(SUM(#REF!)>0,\"Tak\",\"\")","v":{"$error":"#REF!"}},{"$f":"IF(OR(G1548<0,J1548<0,#REF!<0,#REF!<0),\"ujemny plan\",\"\")","v":{"$error":"#REF!"}}]
["DWM/3","Wpływy ze sprzedaży składników majątkowych",700,70005,"0870",null,null,null,{"$error":"#DIV/0!"},null,null,{"$error":"#DIV/0!"},{"$error":"#DIV/0!"},{"$f":"IF(SUM(#REF!)>0,\"Tak\",\"\")","v":{"$error":"#REF!"}},{"$f":"IF(OR(G1549<0,J1549<0,#REF!<0,#REF!<0),\"ujemny plan\",\"\")","v":{"$error":"#REF!"}}]
["DWM/3","Wpływy ze sprzedaży składników majątkowych","750","75023","0870","GMMW",6900,15452.69,2.2395202898550726,6900,15452.69,2.2395202898550726,"Tak",{"$f":"IF(SUM(#REF!)>0,\"Tak\",\"\")","v":{"$error":"#REF!"}},{"$f":"IF(OR(G1550<0,J1550<0,#REF!<0,#REF!<0),\"ujemny plan\",\"\")","v":{"$error":"#REF!"}}]
["DWM/3","Wpływy ze sprzedaży składników majątkowych",801,"80101","0870","GMMW",null,null,{"$error":"#DIV/0!"},null,null,{"$error":"#DIV/0!"},{"$error":"#DIV/0!"},{"$f":"IF(SUM(#REF!)>0,\"Tak\",\"\")","v":{"$error":"#REF!"}},{"$f":"IF(OR(G1551<0,J1551<0,#REF!<0,#REF!<0),\"ujemny plan\",\"\")","v":{"$error":"#REF!"}}]
["DWM/3","Wpływy ze sprzedaży składników majątkowych",801,"80102","0870",null,null,null,{"$error":"#DIV/0!"},null,null,{"$error":"#DIV/0!"},{"$error":"#DIV/0!"},{"$f":"IF(SUM(#REF!)>0,\"Tak\",\"\")","v":{"$error":"#REF!"}},{"$f":"IF(OR(G1552<0,J1552<0,#REF!<0,#REF!<0),\"ujemny plan\",\"\")","v":{"$error":"#REF!"}}]
["DWM/3","Wpływy ze sprzedaży składników majątkowych",801,80134,"0870",null,null,null,{"$error":"#DIV/0!"},null,null,{"$error":"#DIV/0!"},{"$error":"#DIV/0!"},{"$f":"IF(SUM(#REF!)>0,\"Tak\",\"\")","v":{"$error":"#REF!"}},{"$f":"IF(OR(G1553<0,J1553<0,#REF!<0,#REF!<0),\"ujemny plan\",\"\")","v":{"$error":"#REF!"}}]
["DWM/3","Wpływy ze sprzedaży składników majątkowych",801,80140,"0870",null,null,null,{"$error":"#DIV/0!"},null,null,{"$error":"#DIV/0!"},{"$error":"#DIV/0!"},{"$f":"IF(SUM(#REF!)>0,\"Tak\",\"\")","v":{"$error":"#REF!"}},{"$f":"IF(OR(G1554<0,J1554<0,#REF!<0,#REF!<0),\"ujemny plan\",\"\")","v":{"$error":"#REF!"}}]
["DWM/3","Wpływy ze sprzedaży składników majątkowych","852","85202","0870",null,null,null,{"$error":"#DIV/0!"},null,null,{"$error":"#DIV/0!"},{"$error":"#DIV/0!"},{"$f":"IF(SUM(#REF!)>0,\"Tak\",\"\")","v":{"$error":"#REF!"}},{"$f":"IF(OR(G1555<0,J1555<0,#REF!<0,#REF!<0),\"ujemny plan\",\"\")","v":{"$error":"#REF!"}}]
["DWM/3","Wpływy ze sprzedaży składników majątkowych",852,85203,"0870",null,null,null,{"$error":"#DIV/0!"},null,null,{"$error":"#DIV/0!"},{"$error":"#DIV/0!"},{"$f":"IF(SUM(#REF!)>0,\"Tak\",\"\")","v":{"$error":"#REF!"}},{"$f":"IF(OR(G1556<0,J1556<0,#REF!<0,#REF!<0),\"ujemny plan\",\"\")","v":{"$error":"#REF!"}}]
["DWM/3","Wpływy ze sprzedaży składników majątkowych",854,85407,"0870",null,null,null,{"$error":"#DIV/0!"},null,null,{"$error":"#DIV/0!"},{"$error":"#DIV/0!"},{"$f":"IF(SUM(#REF!)>0,\"Tak\",\"\")","v":{"$error":"#REF!"}},{"$f":"IF(OR(G1557<0,J1557<0,#REF!<0,#REF!<0),\"ujemny plan\",\"\")","v":{"$error":"#REF!"}}]
["DWM/3","Wpływy ze sprzedaży składników majątkowych",854,85420,"0870",null,null,null,{"$error":"#DIV/0!"},null,null,{"$error":"#DIV/0!"},{"$error":"#DIV/0!"},{"$f":"IF(SUM(#REF!)>0,\"Tak\",\"\")","v":{"$error":"#REF!"}},{"$f":"IF(OR(G1558<0,J1558<0,#REF!<0,#REF!<0),\"ujemny plan\",\"\")","v":{"$error":"#REF!"}}]
["DWM/3","Wpływy ze sprzedaży składników majątkowych","900","90003","0870","GMMW",null,null,{"$error":"#DIV/0!"},null,null,{"$error":"#DIV/0!"},{"$error":"#DIV/0!"},{"$f":"IF(SUM(#REF!)>0,\"Tak\",\"\")","v":{"$error":"#REF!"}},{"$f":"IF(OR(G1559<0,J1559<0,#REF!<0,#REF!<0),\"ujemny plan\",\"\")","v":{"$error":"#REF!"}}]
["DWM/3","Wpływy ze sprzedaży składników majątkowych",900,"90095","0870","GMMW",null,null,{"$error":"#DIV/0!"},null,null,{"$error":"#DIV/0!"},{"$error":"#DIV/0!"},{"$f":"IF(SUM(#REF!)>0,\"Tak\",\"\")","v":{"$error":"#REF!"}},{"$f":"IF(OR(G1560<0,J1560<0,#REF!<0,#REF!<0),\"ujemny plan\",\"\")","v":{"$error":"#REF!"}}]
["DWM/3","Wpływy ze sprzedaży składników majątkowych","925","92504","0870","GMMW",null,null,{"$error":"#DIV/0!"},null,null,{"$error":"#DIV/0!"},{"$error":"#DIV/0!"},{"$f":"IF(SUM(#REF!)>0,\"Tak\",\"\")","v":{"$error":"#REF!"}},{"$f":"IF(OR(G1561<0,J1561<0,#REF!<0,#REF!<0),\"ujemny plan\",\"\")","v":{"$error":"#REF!"}}]
["DWM/4","Wpływy z przekształcenia prawa użytkowania wieczystego w prawo własności",null,null,"0760",null,{"$f":"SUM(G1563:G1565)","v":10111},612681.43000000005,60.595532588270203,10111,612681.43000000005,60.595532588270203,"Tak",{"$f":"IF(SUM(#REF!)>0,\"Tak\",\"\")","v":{"$error":"#REF!"}},{"$f":"IF(OR(G1562<0,J1562<0,#REF!<0,#REF!<0),\"ujemny plan\",\"\")","v":{"$error":"#REF!"}}]
["DWM/4/PU","Wpływy z opłaty za przekształcenie użytkowania wieczystego w prawo własności",700,70005,"0760","GMMW",10111,319040.13,31.553766195232914,10111,319040.13,31.553766195232914,"Tak",{"$f":"IF(SUM(#REF!)>0,\"Tak\",\"\")","v":{"$error":"#REF!"}},{"$f":"IF(OR(G1563<0,J1563<0,#REF!<0,#REF!<0),\"ujemny plan\",\"\")","v":{"$error":"#REF!"}}]
["DWM/4/OR","Wpływy z rocznej opłaty przekształceniowej",700,70005,"0760","GMMW",0,272453.71000000002,null,0,272453.71000000002,null,"Tak",{"$f":"IF(SUM(#REF!)>0,\"Tak\",\"\")","v":{"$error":"#REF!"}},{"$f":"IF(OR(G1564<0,J1564<0,#REF!<0,#REF!<0),\"ujemny plan\",\"\")","v":{"$error":"#REF!"}}]
["DWM/4/OJ","Wpływy z opłaty jednorazowej za przekształcenie użytkowania wieczystego w prawo własności",700,70005,"0760","GMMW",0,21187.59,null,0,21187.59,null,"Tak",{"$f":"IF(SUM(#REF!)>0,\"Tak\",\"\")","v":{"$error":"#REF!"}},{"$f":"IF(OR(G1565<0,J1565<0,#REF!<0,#REF!<0),\"ujemny plan\",\"\")","v":{"$error":"#REF!"}}]
["DWM/5","Dotacje z budżetów innych jst",null,null,"6300",null,{"$f":"SUM(G1567:G1569,G1581)","v":0},null,{"$error":"#DIV/0!"},0,null,{"$error":"#DIV/0!"},{"$error":"#DIV/0!"},{"$f":"IF(SUM(#REF!)>0,\"Tak\",\"\")","v":{"$error":"#REF!"}},{"$f":"IF(OR(G1566<0,J1566<0,#REF!<0,#REF!<0),\"ujemny plan\",\"\")","v":{"$error":"#REF!"}}]
["DWM/5/OS","Ochotnicze straże pożarne","745","75411","6300",null,null,null,{"$error":"#DIV/0!"},null,null,{"$error":"#DIV/0!"},{"$error":"#DIV/0!"},{"$f":"IF(SUM(#REF!)>0,\"Tak\",\"\")","v":{"$error":"#REF!"}},{"$f":"IF(OR(G1567<0,J1567<0,#REF!<0,#REF!<0),\"ujemny plan\",\"\")","v":{"$error":"#REF!"}}]
["DWM/5/OS","Ochotnicze straże pożarne","754","75412","6300",null,null,null,{"$error":"#DIV/0!"},null,null,{"$error":"#DIV/0!"},{"$error":"#DIV/0!"},{"$f":"IF(SUM(#REF!)>0,\"Tak\",\"\")","v":{"$error":"#REF!"}},{"$f":"IF(OR(G1568<0,J1568<0,#REF!<0,#REF!<0),\"ujemny plan\",\"\")","v":{"$error":"#REF!"}}]
["DWM/5/MW","Pozostałe dotacje otrzymane przez Marszałka Województwa",null,null,null,null,{"$f":"SUM(G1570)","v":0},null,{"$error":"#DIV/0!"},{"$f":"SUM(J1570)","v":0},null,{"$error":"#DIV/0!"},{"$error":"#DIV/0!"},{"$f":"IF(SUM(#REF!)>0,\"Tak\",\"\")","v":{"$error":"#REF!"}},{"$f":"IF(OR(G1569<0,J1569<0,#REF!<0,#REF!<0),\"ujemny plan\",\"\")","v":{"$error":"#REF!"}}]
["DWM/5/MW","Pozostałe dotacje otrzymane przez Marszałka Województwa",null,null,6300,null,{"$f":"SUM(G1571:G1580)","v":0},null,{"$error":"#DIV/0!"},{"$f":"SUM(J1571:J1580)","v":0},null,{"$error":"#DIV/0!"},{"$error":"#DIV/0!"},{"$f":"IF(SUM(#REF!)>0,\"Tak\",\"\")","v":{"$error":"#REF!"}},{"$f":"IF(OR(G1570<0,J1570<0,#REF!<0,#REF!<0),\"ujemny plan\",\"\")","v":{"$error":"#REF!"}}]
["DWM/5/MW","Pozostałe dotacje otrzymane przez Marszałka Województwa",600,60015,"6300","MWPO",null,null,{"$error":"#DIV/0!"},null,null,{"$error":"#DIV/0!"},{"$error":"#DIV/0!"},{"$f":"IF(SUM(#REF!)>0,\"Tak\",\"\")","v":{"$error":"#REF!"}},{"$f":"IF(OR(G1571<0,J1571<0,#REF!<0,#REF!<0),\"ujemny plan\",\"\")","v":{"$error":"#REF!"}}]
["DWM/5/MW","Pozostałe dotacje otrzymane przez Marszałka Województwa",600,60016,"6300","MWPO",null,null,{"$error":"#DIV/0!"},null,null,{"$error":"#DIV/0!"},{"$error":"#DIV/0!"},{"$f":"IF(SUM(#REF!)>0,\"Tak\",\"\")","v":{"$error":"#REF!"}},{"$f":"IF(OR(G1572<0,J1572<0,#REF!<0,#REF!<0),\"ujemny plan\",\"\")","v":{"$error":"#REF!"}}]
["DWM/5/MW","Pozostałe dotacje otrzymane przez Marszałka Województwa","754","75412","6300",null,null,null,{"$error":"#DIV/0!"},null,null,{"$error":"#DIV/0!"},{"$error":"#DIV/0!"},{"$f":"IF(SUM(#REF!)>0,\"Tak\",\"\")","v":{"$error":"#REF!"}},{"$f":"IF(OR(G1573<0,J1573<0,#REF!<0,#REF!<0),\"ujemny plan\",\"\")","v":{"$error":"#REF!"}}]
["DWM/5/MW","Pozostałe dotacje otrzymane przez Marszałka Województwa",801,80101,"6300","MWPO",null,null,{"$error":"#DIV/0!"},null,null,{"$error":"#DIV/0!"},{"$error":"#DIV/0!"},{"$f":"IF(SUM(#REF!)>0,\"Tak\",\"\")","v":{"$error":"#REF!"}},{"$f":"IF(OR(G1574<0,J1574<0,#REF!<0,#REF!<0),\"ujemny plan\",\"\")","v":{"$error":"#REF!"}}]
["DWM/5/MW","Pozostałe dotacje otrzymane przez Marszałka Województwa",801,80105,"6300","MWPO",null,null,{"$error":"#DIV/0!"},null,null,{"$error":"#DIV/0!"},{"$error":"#DIV/0!"},{"$f":"IF(SUM(#REF!)>0,\"Tak\",\"\")","v":{"$error":"#REF!"}},{"$f":"IF(OR(G1575<0,J1575<0,#REF!<0,#REF!<0),\"ujemny plan\",\"\")","v":{"$error":"#REF!"}}]
["DWM/5/MW","Pozostałe dotacje otrzymane przez Marszałka Województwa",851,85117,"6300","MWPO",null,null,{"$error":"#DIV/0!"},null,null,{"$error":"#DIV/0!"},{"$error":"#DIV/0!"},{"$f":"IF(SUM(#REF!)>0,\"Tak\",\"\")","v":{"$error":"#REF!"}},{"$f":"IF(OR(G1576<0,J1576<0,#REF!<0,#REF!<0),\"ujemny plan\",\"\")","v":{"$error":"#REF!"}}]
["DWM/5/MW","Pozostałe dotacje otrzymane przez Marszałka Województwa",900,90004,"6300","MWPO",null,null,{"$error":"#DIV/0!"},null,null,{"$error":"#DIV/0!"},{"$error":"#DIV/0!"},{"$f":"IF(SUM(#REF!)>0,\"Tak\",\"\")","v":{"$error":"#REF!"}},{"$f":"IF(OR(G1577<0,J1577<0,#REF!<0,#REF!<0),\"ujemny plan\",\"\")","v":{"$error":"#REF!"}}]
["DWM/5/MW","Pozostałe dotacje otrzymane przez Marszałka Województwa",900,90095,6300,null,null,null,{"$error":"#DIV/0!"},null,null,{"$error":"#DIV/0!"},{"$error":"#DIV/0!"},{"$f":"IF(SUM(#REF!)>0,\"Tak\",\"\")","v":{"$error":"#REF!"}},{"$f":"IF(OR(G1578<0,J1578<0,#REF!<0,#REF!<0),\"ujemny plan\",\"\")","v":{"$error":"#REF!"}}]
["DWM/5/MW","Pozostałe dotacje otrzymane przez Marszałka Województwa",925,92595,"6300","MWPO",null,null,{"$error":"#DIV/0!"},null,null,{"$error":"#DIV/0!"},{"$error":"#DIV/0!"},{"$f":"IF(SUM(#REF!)>0,\"Tak\",\"\")","v":{"$error":"#REF!"}},{"$f":"IF(OR(G1579<0,J1579<0,#REF!<0,#REF!<0),\"ujemny plan\",\"\")","v":{"$error":"#REF!"}}]
["DWM/5/MW","Pozostałe dotacje otrzymane przez Marszałka Województwa",926,92604,"6300","MWPO",null,null,{"$error":"#DIV/0!"},null,null,{"$error":"#DIV/0!"},{"$error":"#DIV/0!"},{"$f":"IF(SUM(#REF!)>0,\"Tak\",\"\")","v":{"$error":"#REF!"}},{"$f":"IF(OR(G1580<0,J1580<0,#REF!<0,#REF!<0),\"ujemny plan\",\"\")","v":{"$error":"#REF!"}}]
["DWM/5/PO","Pozostałe dotacje z budżetów innych jednostek samorządu terytorialnego",null,null,null,null,{"$f":"SUM(G1582)","v":0},null,{"$error":"#DIV/0!"},{"$f":"SUM(J1582)","v":0},null,{"$error":"#DIV/0!"},{"$error":"#DIV/0!"},{"$f":"IF(SUM(#REF!)>0,\"Tak\",\"\")","v":{"$error":"#REF!"}},{"$f":"IF(OR(G1581<0,J1581<0,#REF!<0,#REF!<0),\"ujemny plan\",\"\")","v":{"$error":"#REF!"}}]
["DWM/5/PO","Pozostałe dotacje z budżetów innych jednostek samorządu terytorialnego",null,null,6300,null,{"$f":"SUM(G1583:G1588)","v":0},null,{"$error":"#DIV/0!"},0,null,{"$error":"#DIV/0!"},{"$error":"#DIV/0!"},{"$f":"IF(SUM(#REF!)>0,\"Tak\",\"\")","v":{"$error":"#REF!"}},{"$f":"IF(OR(G1582<0,J1582<0,#REF!<0,#REF!<0),\"ujemny plan\",\"\")","v":{"$error":"#REF!"}}]
["DWM/5/PO","Pozostałe dotacje z budżetów innych jednostek samorządu terytorialnego",600,60095,6300,null,null,null,{"$error":"#DIV/0!"},null,null,{"$error":"#DIV/0!"},{"$error":"#DIV/0!"},{"$f":"IF(SUM(#REF!)>0,\"Tak\",\"\")","v":{"$error":"#REF!"}},{"$f":"IF(OR(G1583<0,J1583<0,#REF!<0,#REF!<0),\"ujemny plan\",\"\")","v":{"$error":"#REF!"}}]
["DWM/5/PO","Pozostałe dotacje z budżetów innych jednostek samorządu terytorialnego",801,80101,6300,null,null,null,{"$error":"#DIV/0!"},null,null,{"$error":"#DIV/0!"},{"$error":"#DIV/0!"},{"$f":"IF(SUM(#REF!)>0,\"Tak\",\"\")","v":{"$error":"#REF!"}},{"$f":"IF(OR(G1584<0,J1584<0,#REF!<0,#REF!<0),\"ujemny plan\",\"\")","v":{"$error":"#REF!"}}]
["DWM/5/PO","Pozostałe dotacje z budżetów innych jednostek samorządu terytorialnego",852,85203,6300,null,null,null,{"$error":"#DIV/0!"},null,null,{"$error":"#DIV/0!"},{"$error":"#DIV/0!"},{"$f":"IF(SUM(#REF!)>0,\"Tak\",\"\")","v":{"$error":"#REF!"}},{"$f":"IF(OR(G1585<0,J1585<0,#REF!<0,#REF!<0),\"ujemny plan\",\"\")","v":{"$error":"#REF!"}}]
["DWM/5/PO","Pozostałe dotacje z budżetów innych jednostek samorządu terytorialnego",926,92601,6300,null,null,null,{"$error":"#DIV/0!"},null,null,{"$error":"#DIV/0!"},{"$error":"#DIV/0!"},{"$f":"IF(SUM(#REF!)>0,\"Tak\",\"\")","v":{"$error":"#REF!"}},{"$f":"IF(OR(G1586<0,J1586<0,#REF!<0,#REF!<0),\"ujemny plan\",\"\")","v":{"$error":"#REF!"}}]
["DWM/5/PO","Pozostałe dotacje z budżetów innych jednostek samorządu terytorialnego","926",92604,6300,null,null,null,{"$error":"#DIV/0!"},null,null,{"$error":"#DIV/0!"},{"$error":"#DIV/0!"},{"$f":"IF(SUM(#REF!)>0,\"Tak\",\"\")","v":{"$error":"#REF!"}},{"$f":"IF(OR(G1587<0,J1587<0,#REF!<0,#REF!<0),\"ujemny plan\",\"\")","v":{"$error":"#REF!"}}]
["DWM/5/PO","Pozostałe dotacje z budżetów innych jednostek samorządu terytorialnego",900,90095,"6300",null,null,null,{"$error":"#DIV/0!"},null,null,{"$error":"#DIV/0!"},{"$error":"#DIV/0!"},{"$f":"IF(SUM(#REF!)>0,\"Tak\",\"\")","v":{"$error":"#REF!"}},{"$f":"IF(OR(G1588<0,J1588<0,#REF!<0,#REF!<0),\"ujemny plan\",\"\")","v":{"$error":"#REF!"}}]
["DWM/6","Pozostałe środki finansowe na inwestycje",null,null,"6680",null,{"$f":"SUM(G1590:G1616)","v":0},null,{"$error":"#DIV/0!"},0,null,{"$error":"#DIV/0!"},{"$error":"#DIV/0!"},{"$f":"IF(SUM(#REF!)>0,\"Tak\",\"\")","v":{"$error":"#REF!"}},{"$f":"IF(OR(G1589<0,J1589<0,#REF!<0,#REF!<0),\"ujemny plan\",\"\")","v":{"$error":"#REF!"}}]
["DWM/6","Pozostałe środki finansowe na inwestycje","500","50095","6680",null,null,null,{"$error":"#DIV/0!"},null,null,{"$error":"#DIV/0!"},{"$error":"#DIV/0!"},{"$f":"IF(SUM(#REF!)>0,\"Tak\",\"\")","v":{"$error":"#REF!"}},{"$f":"IF(OR(G1590<0,J1590<0,#REF!<0,#REF!<0),\"ujemny plan\",\"\")","v":{"$error":"#REF!"}}]
["DWM/6","Pozostałe środki finansowe na inwestycje","600","60011","6680",null,null,null,{"$error":"#DIV/0!"},null,null,{"$error":"#DIV/0!"},{"$error":"#DIV/0!"},{"$f":"IF(SUM(#REF!)>0,\"Tak\",\"\")","v":{"$error":"#REF!"}},{"$f":"IF(OR(G1591<0,J1591<0,#REF!<0,#REF!<0),\"ujemny plan\",\"\")","v":{"$error":"#REF!"}}]
["DWM/6","Pozostałe środki finansowe na inwestycje","600","60013","6680",null,null,null,{"$error":"#DIV/0!"},null,null,{"$error":"#DIV/0!"},{"$error":"#DIV/0!"},{"$f":"IF(SUM(#REF!)>0,\"Tak\",\"\")","v":{"$error":"#REF!"}},{"$f":"IF(OR(G1592<0,J1592<0,#REF!<0,#REF!<0),\"ujemny plan\",\"\")","v":{"$error":"#REF!"}}]
["DWM/6","Pozostałe środki finansowe na inwestycje","600","60014","6680",null,null,null,{"$error":"#DIV/0!"},null,null,{"$error":"#DIV/0!"},{"$error":"#DIV/0!"},{"$f":"IF(SUM(#REF!)>0,\"Tak\",\"\")","v":{"$error":"#REF!"}},{"$f":"IF(OR(G1593<0,J1593<0,#REF!<0,#REF!<0),\"ujemny plan\",\"\")","v":{"$error":"#REF!"}}]
["DWM/6","Pozostałe środki finansowe na inwestycje","600","60015","6680",null,null,null,{"$error":"#DIV/0!"},null,null,{"$error":"#DIV/0!"},{"$error":"#DIV/0!"},{"$f":"IF(SUM(#REF!)>0,\"Tak\",\"\")","v":{"$error":"#REF!"}},{"$f":"IF(OR(G1594<0,J1594<0,#REF!<0,#REF!<0),\"ujemny plan\",\"\")","v":{"$error":"#REF!"}}]
["DWM/6","Pozostałe środki finansowe na inwestycje","600","60016","6680","GMMW",null,null,{"$error":"#DIV/0!"},null,null,{"$error":"#DIV/0!"},{"$error":"#DIV/0!"},{"$f":"IF(SUM(#REF!)>0,\"Tak\",\"\")","v":{"$error":"#REF!"}},{"$f":"IF(OR(G1595<0,J1595<0,#REF!<0,#REF!<0),\"ujemny plan\",\"\")","v":{"$error":"#REF!"}}]
["DWM/6","Pozostałe środki finansowe na inwestycje","600","60095","6680",null,null,null,{"$error":"#DIV/0!"},null,null,{"$error":"#DIV/0!"},{"$error":"#DIV/0!"},{"$f":"IF(SUM(#REF!)>0,\"Tak\",\"\")","v":{"$error":"#REF!"}},{"$f":"IF(OR(G1596<0,J1596<0,#REF!<0,#REF!<0),\"ujemny plan\",\"\")","v":{"$error":"#REF!"}}]
["DWM/6","Pozostałe środki finansowe na inwestycje","700","70005","6680",null,null,null,{"$error":"#DIV/0!"},null,null,{"$error":"#DIV/0!"},{"$error":"#DIV/0!"},{"$f":"IF(SUM(#REF!)>0,\"Tak\",\"\")","v":{"$error":"#REF!"}},{"$f":"IF(OR(G1597<0,J1597<0,#REF!<0,#REF!<0),\"ujemny plan\",\"\")","v":{"$error":"#REF!"}}]
["DWM/6","Pozostałe środki finansowe na inwestycje","750","75023","6680",null,null,null,{"$error":"#DIV/0!"},null,null,{"$error":"#DIV/0!"},{"$error":"#DIV/0!"},{"$f":"IF(SUM(#REF!)>0,\"Tak\",\"\")","v":{"$error":"#REF!"}},{"$f":"IF(OR(G1598<0,J1598<0,#REF!<0,#REF!<0),\"ujemny plan\",\"\")","v":{"$error":"#REF!"}}]
["DWM/6","Pozostałe środki finansowe na inwestycje","754","75495","6680",null,null,null,{"$error":"#DIV/0!"},null,null,{"$error":"#DIV/0!"},{"$error":"#DIV/0!"},{"$f":"IF(SUM(#REF!)>0,\"Tak\",\"\")","v":{"$error":"#REF!"}},{"$f":"IF(OR(G1599<0,J1599<0,#REF!<0,#REF!<0),\"ujemny plan\",\"\")","v":{"$error":"#REF!"}}]
["DWM/6","Pozostałe środki finansowe na inwestycje","801","80101","6680",null,null,null,{"$error":"#DIV/0!"},null,null,{"$error":"#DIV/0!"},{"$error":"#DIV/0!"},{"$f":"IF(SUM(#REF!)>0,\"Tak\",\"\")","v":{"$error":"#REF!"}},{"$f":"IF(OR(G1600<0,J1600<0,#REF!<0,#REF!<0),\"ujemny plan\",\"\")","v":{"$error":"#REF!"}}]
["DWM/6","Pozostałe środki finansowe na inwestycje","801","80102","6680",null,null,null,{"$error":"#DIV/0!"},null,null,{"$error":"#DIV/0!"},{"$error":"#DIV/0!"},{"$f":"IF(SUM(#REF!)>0,\"Tak\",\"\")","v":{"$error":"#REF!"}},{"$f":"IF(OR(G1601<0,J1601<0,#REF!<0,#REF!<0),\"ujemny plan\",\"\")","v":{"$error":"#REF!"}}]
["DWM/6","Pozostałe środki finansowe na inwestycje","801","80104","6680","GMMW",null,null,{"$error":"#DIV/0!"},null,null,{"$error":"#DIV/0!"},{"$error":"#DIV/0!"},{"$f":"IF(SUM(#REF!)>0,\"Tak\",\"\")","v":{"$error":"#REF!"}},{"$f":"IF(OR(G1602<0,J1602<0,#REF!<0,#REF!<0),\"ujemny plan\",\"\")","v":{"$error":"#REF!"}}]
["DWM/6","Pozostałe środki finansowe na inwestycje","801","80120","6680",null,null,null,{"$error":"#DIV/0!"},null,null,{"$error":"#DIV/0!"},{"$error":"#DIV/0!"},{"$f":"IF(SUM(#REF!)>0,\"Tak\",\"\")","v":{"$error":"#REF!"}},{"$f":"IF(OR(G1603<0,J1603<0,#REF!<0,#REF!<0),\"ujemny plan\",\"\")","v":{"$error":"#REF!"}}]
["DWM/6","Pozostałe środki finansowe na inwestycje","851","85111","6680",null,null,null,{"$error":"#DIV/0!"},null,null,{"$error":"#DIV/0!"},{"$error":"#DIV/0!"},{"$f":"IF(SUM(#REF!)>0,\"Tak\",\"\")","v":{"$error":"#REF!"}},{"$f":"IF(OR(G1604<0,J1604<0,#REF!<0,#REF!<0),\"ujemny plan\",\"\")","v":{"$error":"#REF!"}}]
["DWM/6","Pozostałe środki finansowe na inwestycje","851","85121","6680",null,null,null,{"$error":"#DIV/0!"},null,null,{"$error":"#DIV/0!"},{"$error":"#DIV/0!"},{"$f":"IF(SUM(#REF!)>0,\"Tak\",\"\")","v":{"$error":"#REF!"}},{"$f":"IF(OR(G1605<0,J1605<0,#REF!<0,#REF!<0),\"ujemny plan\",\"\")","v":{"$error":"#REF!"}}]
["DWM/6","Pozostałe środki finansowe na inwestycje","852","85203","6680",null,null,null,{"$error":"#DIV/0!"},null,null,{"$error":"#DIV/0!"},{"$error":"#DIV/0!"},{"$f":"IF(SUM(#REF!)>0,\"Tak\",\"\")","v":{"$error":"#REF!"}},{"$f":"IF(OR(G1606<0,J1606<0,#REF!<0,#REF!<0),\"ujemny plan\",\"\")","v":{"$error":"#REF!"}}]
["DWM/6","Pozostałe środki finansowe na inwestycje","852","85219","6680",null,null,null,{"$error":"#DIV/0!"},null,null,{"$error":"#DIV/0!"},{"$error":"#DIV/0!"},{"$f":"IF(SUM(#REF!)>0,\"Tak\",\"\")","v":{"$error":"#REF!"}},{"$f":"IF(OR(G1607<0,J1607<0,#REF!<0,#REF!<0),\"ujemny plan\",\"\")","v":{"$error":"#REF!"}}]
["DWM/6","Pozostałe środki finansowe na inwestycje","854","85406","6680",null,null,null,{"$error":"#DIV/0!"},null,null,{"$error":"#DIV/0!"},{"$f":"IF(SUM(G1608:L1608)>0,\"Tak\",\"\")","v":{"$error":"#DIV/0!"}},{"$f":"IF(SUM(#REF!)>0,\"Tak\",\"\")","v":{"$error":"#REF!"}},{"$f":"IF(OR(G1608<0,J1608<0,#REF!<0,#REF!<0),\"ujemny plan\",\"\")","v":{"$error":"#REF!"}}]
["DWM/6","Pozostałe środki finansowe na inwestycje","900","90001","6680",null,null,null,{"$f":"H1609/G1609","v":{"$error":"#DIV/0!"}},null,null,{"$f":"K1609/J1609","v":{"$error":"#DIV/0!"}},{"$error":"#DIV/0!"},{"$f":"IF(SUM(#REF!)>0,\"Tak\",\"\")","v":{"$error":"#REF!"}},{"$f":"IF(OR(G1609<0,J1609<0,#REF!<0,#REF!<0),\"ujemny plan\",\"\")","v":{"$error":"#REF!"}}]
["DWM/6","Pozostałe środki finansowe na inwestycje","900","90015","6680",null,null,null,{"$error":"#DIV/0!"},null,null,{"$error":"#DIV/0!"},{"$error":"#DIV/0!"},{"$f":"IF(SUM(#REF!)>0,\"Tak\",\"\")","v":{"$error":"#REF!"}},{"$f":"IF(OR(G1610<0,J1610<0,#REF!<0,#REF!<0),\"ujemny plan\",\"\")","v":{"$error":"#REF!"}}]
["DWM/6","Pozostałe środki finansowe na inwestycje","900","90095","6680",null,null,null,{"$error":"#DIV/0!"},null,null,{"$error":"#DIV/0!"},{"$error":"#DIV/0!"},{"$f":"IF(SUM(#REF!)>0,\"Tak\",\"\")","v":{"$error":"#REF!"}},{"$f":"IF(OR(G1611<0,J1611<0,#REF!<0,#REF!<0),\"ujemny plan\",\"\")","v":{"$error":"#REF!"}}]
["DWM/6","Pozostałe środki finansowe na inwestycje","921","92109","6680",null,null,null,{"$error":"#DIV/0!"},null,null,{"$error":"#DIV/0!"},{"$error":"#DIV/0!"},{"$f":"IF(SUM(#REF!)>0,\"Tak\",\"\")","v":{"$error":"#REF!"}},{"$f":"IF(OR(G1612<0,J1612<0,#REF!<0,#REF!<0),\"ujemny plan\",\"\")","v":{"$error":"#REF!"}}]
["DWM/6","Pozostałe środki finansowe na inwestycje","921","92116","6680",null,null,null,{"$error":"#DIV/0!"},null,null,{"$error":"#DIV/0!"},{"$error":"#DIV/0!"},{"$f":"IF(SUM(#REF!)>0,\"Tak\",\"\")","v":{"$error":"#REF!"}},{"$f":"IF(OR(G1613<0,J1613<0,#REF!<0,#REF!<0),\"ujemny plan\",\"\")","v":{"$error":"#REF!"}}]
["DWM/6","Pozostałe środki finansowe na inwestycje","921","92118","6680",null,null,null,{"$error":"#DIV/0!"},null,null,{"$error":"#DIV/0!"},{"$error":"#DIV/0!"},{"$f":"IF(SUM(#REF!)>0,\"Tak\",\"\")","v":{"$error":"#REF!"}},{"$f":"IF(OR(G1614<0,J1614<0,#REF!<0,#REF!<0),\"ujemny plan\",\"\")","v":{"$error":"#REF!"}}]
["DWM/6","Pozostałe środki finansowe na inwestycje","925","92595","6680",null,null,null,{"$error":"#DIV/0!"},null,null,{"$error":"#DIV/0!"},{"$error":"#DIV/0!"},{"$f":"IF(SUM(#REF!)>0,\"Tak\",\"\")","v":{"$error":"#REF!"}},{"$f":"IF(OR(G1615<0,J1615<0,#REF!<0,#REF!<0),\"ujemny plan\",\"\")","v":{"$error":"#REF!"}}]
["DWM/6","Pozostałe środki finansowe na inwestycje","926","92601","6680","GMMW",null,null,{"$error":"#DIV/0!"},null,null,{"$error":"#DIV/0!"},{"$error":"#DIV/0!"},{"$f":"IF(SUM(#REF!)>0,\"Tak\",\"\")","v":{"$error":"#REF!"}},{"$f":"IF(OR(G1616<0,J1616<0,#REF!<0,#REF!<0),\"ujemny plan\",\"\")","v":{"$error":"#REF!"}}]
["DZM","DOTACJE CELOWE, ŚRODKI Z UNII EUROPEJSKIEJ I Z INNYCH ŹRÓDEŁ OTRZYMANE NA INWESTYCJE",null,null,null,null,{"$f":"SUM(G1618,G1641,G1652,G1715,G1755)","v":342755},372060.16000000003,1.0854988548671793,342755,372060.16000000003,1.0854988548671793,"Tak",{"$f":"IF(SUM(#REF!)>0,\"Tak\",\"\")","v":{"$error":"#REF!"}},{"$f":"IF(OR(G1617<0,J1617<0,#REF!<0,#REF!<0),\"ujemny plan\",\"\")","v":{"$error":"#REF!"}}]
["DZM/1","Dotacje celowe z budżetu państwa otrzymane na inwestycje",null,null,null,null,{"$f":"SUM(G1638,G1619)","v":0},null,{"$error":"#DIV/0!"},0,null,{"$error":"#DIV/0!"},{"$error":"#DIV/0!"},{"$f":"IF(SUM(#REF!)>0,\"Tak\",\"\")","v":{"$error":"#REF!"}},{"$f":"IF(OR(G1618<0,J1618<0,#REF!<0,#REF!<0),\"ujemny plan\",\"\")","v":{"$error":"#REF!"}}]
["DZM/1/ST","zakup i budowa środków trwałych",null,null,null,null,{"$f":"SUM(G1620,G1622,G1624,G1631,G1626,G1635)","v":0},null,{"$error":"#DIV/0!"},{"$f":"SUM(J1620,J1622,J1624,J1631,J1626,J1635)","v":0},null,{"$error":"#DIV/0!"},{"$error":"#DIV/0!"},{"$f":"IF(SUM(#REF!)>0,\"Tak\",\"\")","v":{"$error":"#REF!"}},{"$f":"IF(OR(G1619<0,J1619<0,#REF!<0,#REF!<0),\"ujemny plan\",\"\")","v":{"$error":"#REF!"}}]
["DZM/1/ST","zakup i budowa środków trwałych",null,null,6310,null,{"$f":"SUM(G1621)","v":0},null,{"$error":"#DIV/0!"},0,null,{"$error":"#DIV/0!"},{"$error":"#DIV/0!"},{"$f":"IF(SUM(#REF!)>0,\"Tak\",\"\")","v":{"$error":"#REF!"}},{"$f":"IF(OR(G1620<0,J1620<0,#REF!<0,#REF!<0),\"ujemny plan\",\"\")","v":{"$error":"#REF!"}}]
["DZM/1/ST","zakup i budowa środków trwałych","852","85203","6310","GZWM",null,null,{"$error":"#DIV/0!"},null,null,{"$error":"#DIV/0!"},{"$error":"#DIV/0!"},{"$f":"IF(SUM(#REF!)>0,\"Tak\",\"\")","v":{"$error":"#REF!"}},{"$f":"IF(OR(G1621<0,J1621<0,#REF!<0,#REF!<0),\"ujemny plan\",\"\")","v":{"$error":"#REF!"}}]
["DZM/1/ST","zakup i budowa środków trwałych",null,null,6330,null,{"$f":"SUM(G1623)","v":0},null,{"$error":"#DIV/0!"},0,null,{"$error":"#DIV/0!"},{"$error":"#DIV/0!"},{"$f":"IF(SUM(#REF!)>0,\"Tak\",\"\")","v":{"$error":"#REF!"}},{"$f":"IF(OR(G1622<0,J1622<0,#REF!<0,#REF!<0),\"ujemny plan\",\"\")","v":{"$error":"#REF!"}}]
["DZM/1/ST","zakup i budowa środków trwałych","801","80101","6330","GMMW",null,null,{"$error":"#DIV/0!"},null,null,{"$error":"#DIV/0!"},{"$error":"#DIV/0!"},{"$f":"IF(SUM(#REF!)>0,\"Tak\",\"\")","v":{"$error":"#REF!"}},{"$f":"IF(OR(G1623<0,J1623<0,#REF!<0,#REF!<0),\"ujemny plan\",\"\")","v":{"$error":"#REF!"}}]
["DZM/1/ST","zakup i budowa środków trwałych",null,null,6340,null,{"$f":"SUM(G1625)","v":0},null,{"$error":"#DIV/0!"},0,null,{"$error":"#DIV/0!"},{"$error":"#DIV/0!"},{"$f":"IF(SUM(#REF!)>0,\"Tak\",\"\")","v":{"$error":"#REF!"}},{"$f":"IF(OR(G1624<0,J1624<0,#REF!<0,#REF!<0),\"ujemny plan\",\"\")","v":{"$error":"#REF!"}}]
["DZM/1/ST","zakup i budowa środków trwałych","852","85211","6340","GZSW",null,null,{"$error":"#DIV/0!"},null,null,{"$error":"#DIV/0!"},{"$error":"#DIV/0!"},{"$f":"IF(SUM(#REF!)>0,\"Tak\",\"\")","v":{"$error":"#REF!"}},{"$f":"IF(OR(G1625<0,J1625<0,#REF!<0,#REF!<0),\"ujemny plan\",\"\")","v":{"$error":"#REF!"}}]
["DZM/1/ST","zakup i budowa środków trwałych",null,null,6410,null,{"$f":"SUM(G1627:G1630)","v":0},null,{"$error":"#DIV/0!"},0,null,{"$error":"#DIV/0!"},{"$error":"#DIV/0!"},{"$f":"IF(SUM(#REF!)>0,\"Tak\",\"\")","v":{"$error":"#REF!"}},{"$f":"IF(OR(G1626<0,J1626<0,#REF!<0,#REF!<0),\"ujemny plan\",\"\")","v":{"$error":"#REF!"}}]
["DZM/1/ST","zakup i budowa środków trwałych","700","71005","6410","PZWM",null,null,{"$error":"#DIV/0!"},null,null,{"$error":"#DIV/0!"},{"$error":"#DIV/0!"},{"$f":"IF(SUM(#REF!)>0,\"Tak\",\"\")","v":{"$error":"#REF!"}},{"$f":"IF(OR(G1627<0,J1627<0,#REF!<0,#REF!<0),\"ujemny plan\",\"\")","v":{"$error":"#REF!"}}]
["DZM/1/ST","zakup i budowa środków trwałych","710","71015","6410","PZWM",null,null,{"$error":"#DIV/0!"},null,null,{"$error":"#DIV/0!"},{"$error":"#DIV/0!"},{"$f":"IF(SUM(#REF!)>0,\"Tak\",\"\")","v":{"$error":"#REF!"}},{"$f":"IF(OR(G1628<0,J1628<0,#REF!<0,#REF!<0),\"ujemny plan\",\"\")","v":{"$error":"#REF!"}}]
["DZM/1/ST","zakup i budowa środków trwałych","752","75295","6410","PZWM",null,null,{"$error":"#DIV/0!"},null,null,{"$error":"#DIV/0!"},{"$error":"#DIV/0!"},{"$f":"IF(SUM(#REF!)>0,\"Tak\",\"\")","v":{"$error":"#REF!"}},{"$f":"IF(OR(G1629<0,J1629<0,#REF!<0,#REF!<0),\"ujemny plan\",\"\")","v":{"$error":"#REF!"}}]
["DZM/1/ST","zakup i budowa środków trwałych","754","75411","6410","PZWM",null,null,{"$error":"#DIV/0!"},null,null,{"$error":"#DIV/0!"},{"$error":"#DIV/0!"},{"$f":"IF(SUM(#REF!)>0,\"Tak\",\"\")","v":{"$error":"#REF!"}},{"$f":"IF(OR(G1630<0,J1630<0,#REF!<0,#REF!<0),\"ujemny plan\",\"\")","v":{"$error":"#REF!"}}]
["DZM/1/ST","zakup i budowa środków trwałych",null,null,6420,null,{"$f":"SUM(G1632:G1634)","v":0},null,{"$error":"#DIV/0!"},0,null,{"$error":"#DIV/0!"},{"$error":"#DIV/0!"},{"$f":"IF(SUM(#REF!)>0,\"Tak\",\"\")","v":{"$error":"#REF!"}},{"$f":"IF(OR(G1631<0,J1631<0,#REF!<0,#REF!<0),\"ujemny plan\",\"\")","v":{"$error":"#REF!"}}]
["DZM/1/ST","zakup i budowa środków trwałych","750","75081","6420","PAWM",null,null,{"$error":"#DIV/0!"},null,null,{"$error":"#DIV/0!"},{"$error":"#DIV/0!"},{"$f":"IF(SUM(#REF!)>0,\"Tak\",\"\")","v":{"$error":"#REF!"}},{"$f":"IF(OR(G1632<0,J1632<0,#REF!<0,#REF!<0),\"ujemny plan\",\"\")","v":{"$error":"#REF!"}}]
["DZM/1/ST","zakup i budowa środków trwałych","752","75295","6420","PAWM",null,null,{"$error":"#DIV/0!"},null,null,{"$error":"#DIV/0!"},{"$error":"#DIV/0!"},{"$f":"IF(SUM(#REF!)>0,\"Tak\",\"\")","v":{"$error":"#REF!"}},{"$f":"IF(OR(G1633<0,J1633<0,#REF!<0,#REF!<0),\"ujemny plan\",\"\")","v":{"$error":"#REF!"}}]
["DZM/1/ST","zakup i budowa środków trwałych","754","75495","6420","PAWM",null,null,{"$error":"#DIV/0!"},null,null,{"$error":"#DIV/0!"},{"$error":"#DIV/0!"},{"$f":"IF(SUM(#REF!)>0,\"Tak\",\"\")","v":{"$error":"#REF!"}},{"$f":"IF(OR(G1634<0,J1634<0,#REF!<0,#REF!<0),\"ujemny plan\",\"\")","v":{"$error":"#REF!"}}]
["DZM/1/ST","zakup i budowa środków trwałych",null,null,6430,null,{"$f":"SUM(G1636:G1637)","v":0},null,{"$error":"#DIV/0!"},0,null,{"$error":"#DIV/0!"},{"$error":"#DIV/0!"},{"$f":"IF(SUM(#REF!)>0,\"Tak\",\"\")","v":{"$error":"#REF!"}},{"$f":"IF(OR(G1635<0,J1635<0,#REF!<0,#REF!<0),\"ujemny plan\",\"\")","v":{"$error":"#REF!"}}]
["DZM/1/ST","zakup i budowa środków trwałych","801","80101","6430",null,null,null,{"$error":"#DIV/0!"},null,null,{"$error":"#DIV/0!"},{"$error":"#DIV/0!"},{"$f":"IF(SUM(#REF!)>0,\"Tak\",\"\")","v":{"$error":"#REF!"}},{"$f":"IF(OR(G1636<0,J1636<0,#REF!<0,#REF!<0),\"ujemny plan\",\"\")","v":{"$error":"#REF!"}}]
["DZM/1/ST","zakup i budowa środków trwałych","801","80102","6430","PWMW",null,null,{"$error":"#DIV/0!"},null,null,{"$error":"#DIV/0!"},{"$error":"#DIV/0!"},{"$f":"IF(SUM(#REF!)>0,\"Tak\",\"\")","v":{"$error":"#REF!"}},{"$f":"IF(OR(G1637<0,J1637<0,#REF!<0,#REF!<0),\"ujemny plan\",\"\")","v":{"$error":"#REF!"}}]
["DZM/1/WP","wkład krajowy do projektów współfinansowanych ze środków UE",null,null,"6339",null,{"$f":"SUM(G1639:G1640)","v":0},null,{"$error":"#DIV/0!"},{"$f":"SUM(J1639:J1640)","v":0},null,{"$error":"#DIV/0!"},{"$error":"#DIV/0!"},{"$f":"IF(SUM(#REF!)>0,\"Tak\",\"\")","v":{"$error":"#REF!"}},{"$f":"IF(OR(G1638<0,J1638<0,#REF!<0,#REF!<0),\"ujemny plan\",\"\")","v":{"$error":"#REF!"}}]
["DZM/1/WP","wkład krajowy do projektów współfinansowanych ze środków UE","851","85121","6339",null,null,null,{"$error":"#DIV/0!"},null,null,{"$error":"#DIV/0!"},{"$error":"#DIV/0!"},{"$f":"IF(SUM(#REF!)>0,\"Tak\",\"\")","v":{"$error":"#REF!"}},{"$f":"IF(OR(G1639<0,J1639<0,#REF!<0,#REF!<0),\"ujemny plan\",\"\")","v":{"$error":"#REF!"}}]
["DZM/1/WP","wkład krajowy do projektów współfinansowanych ze środków UE","921","92120","6339",null,null,null,{"$error":"#DIV/0!"},null,null,{"$error":"#DIV/0!"},{"$error":"#DIV/0!"},{"$f":"IF(SUM(#REF!)>0,\"Tak\",\"\")","v":{"$error":"#REF!"}},{"$f":"IF(OR(G1640<0,J1640<0,#REF!<0,#REF!<0),\"ujemny plan\",\"\")","v":{"$error":"#REF!"}}]
["DZM/2","Dotacje z funduszy celowych",null,null,null,null,{"$f":"SUM(G1642,G1645,G1650:G1651)","v":0},null,{"$error":"#DIV/0!"},0,null,{"$error":"#DIV/0!"},{"$error":"#DIV/0!"},{"$f":"IF(SUM(#REF!)>0,\"Tak\",\"\")","v":{"$error":"#REF!"}},{"$f":"IF(OR(G1641<0,J1641<0,#REF!<0,#REF!<0),\"ujemny plan\",\"\")","v":{"$error":"#REF!"}}]
["DZM/2/KF","Fundusz Kultury Fizycznej",null,null,"6260",null,{"$f":"SUM(G1643:G1644)","v":0},null,{"$error":"#DIV/0!"},{"$f":"SUM(J1643:J1644)","v":0},null,{"$error":"#DIV/0!"},{"$error":"#DIV/0!"},{"$f":"IF(SUM(#REF!)>0,\"Tak\",\"\")","v":{"$error":"#REF!"}},{"$f":"IF(OR(G1642<0,J1642<0,#REF!<0,#REF!<0),\"ujemny plan\",\"\")","v":{"$error":"#REF!"}}]
["DZM/2/KF","Fundusz Kultury Fizycznej","801","80101","6260","GMMW",null,null,{"$error":"#DIV/0!"},null,null,{"$error":"#DIV/0!"},{"$error":"#DIV/0!"},{"$f":"IF(SUM(#REF!)>0,\"Tak\",\"\")","v":{"$error":"#REF!"}},{"$f":"IF(OR(G1643<0,J1643<0,#REF!<0,#REF!<0),\"ujemny plan\",\"\")","v":{"$error":"#REF!"}}]
["DZM/2/KF","Fundusz Kultury Fizycznej","926","92601","6260","GMMW",null,null,{"$error":"#DIV/0!"},null,null,{"$error":"#DIV/0!"},{"$error":"#DIV/0!"},{"$f":"IF(SUM(#REF!)>0,\"Tak\",\"\")","v":{"$error":"#REF!"}},{"$f":"IF(OR(G1644<0,J1644<0,#REF!<0,#REF!<0),\"ujemny plan\",\"\")","v":{"$error":"#REF!"}}]
["DZM/2/NF","Narodowy Fundusz Ochrony Środowiska i Gospodarki Wodnej",null,null,"6260",null,{"$f":"SUM(G1646:G1649)","v":0},null,{"$error":"#DIV/0!"},{"$f":"SUM(J1646:J1649)","v":0},null,{"$error":"#DIV/0!"},{"$error":"#DIV/0!"},{"$f":"IF(SUM(#REF!)>0,\"Tak\",\"\")","v":{"$error":"#REF!"}},{"$f":"IF(OR(G1645<0,J1645<0,#REF!<0,#REF!<0),\"ujemny plan\",\"\")","v":{"$error":"#REF!"}}]
["DZM/2/NF","Narodowy Fundusz Ochrony Środowiska i Gospodarki Wodnej","801","80101",6260,"GMMW",null,null,{"$error":"#DIV/0!"},null,null,{"$error":"#DIV/0!"},{"$error":"#DIV/0!"},{"$f":"IF(SUM(#REF!)>0,\"Tak\",\"\")","v":{"$error":"#REF!"}},{"$f":"IF(OR(G1646<0,J1646<0,#REF!<0,#REF!<0),\"ujemny plan\",\"\")","v":{"$error":"#REF!"}}]
["DZM/2/NF","Narodowy Fundusz Ochrony Środowiska i Gospodarki Wodnej","801","80104",6260,"GMMW",null,null,{"$error":"#DIV/0!"},null,null,{"$error":"#DIV/0!"},{"$error":"#DIV/0!"},{"$f":"IF(SUM(#REF!)>0,\"Tak\",\"\")","v":{"$error":"#REF!"}},{"$f":"IF(OR(G1647<0,J1647<0,#REF!<0,#REF!<0),\"ujemny plan\",\"\")","v":{"$error":"#REF!"}}]
["DZM/2/NF","Narodowy Fundusz Ochrony Środowiska i Gospodarki Wodnej","900","90008","6262","SFUE/",null,null,{"$error":"#DIV/0!"},null,null,{"$error":"#DIV/0!"},{"$error":"#DIV/0!"},{"$f":"IF(SUM(#REF!)>0,\"Tak\",\"\")","v":{"$error":"#REF!"}},{"$f":"IF(OR(G1648<0,J1648<0,#REF!<0,#REF!<0),\"ujemny plan\",\"\")","v":{"$error":"#REF!"}}]
["DZM/2/NF","Narodowy Fundusz Ochrony Środowiska i Gospodarki Wodnej","925","92504","6269","SFUE/",null,null,{"$error":"#DIV/0!"},null,null,{"$error":"#DIV/0!"},{"$error":"#DIV/0!"},{"$f":"IF(SUM(#REF!)>0,\"Tak\",\"\")","v":{"$error":"#REF!"}},{"$f":"IF(OR(G1649<0,J1649<0,#REF!<0,#REF!<0),\"ujemny plan\",\"\")","v":{"$error":"#REF!"}}]
["DZM/2/WF","Wojewódzki Fundusz Ochrony Środowiska i Gospodarki Wodnej",null,null,"6350",null,null,null,{"$error":"#DIV/0!"},null,null,{"$error":"#DIV/0!"},{"$error":"#DIV/0!"},{"$f":"IF(SUM(#REF!)>0,\"Tak\",\"\")","v":{"$error":"#REF!"}},{"$f":"IF(OR(G1650<0,J1650<0,#REF!<0,#REF!<0),\"ujemny plan\",\"\")","v":{"$error":"#REF!"}}]
["DZM/2/KF","Fundusz Kultury Fizycznej",null,null,"6350",null,null,null,{"$error":"#DIV/0!"},null,null,{"$error":"#DIV/0!"},{"$error":"#DIV/0!"},{"$f":"IF(SUM(#REF!)>0,\"Tak\",\"\")","v":{"$error":"#REF!"}},{"$f":"IF(OR(G1651<0,J1651<0,#REF!<0,#REF!<0),\"ujemny plan\",\"\")","v":{"$error":"#REF!"}}]
["DZM/3","Środki na dofinansowanie projektów realizowanych w ramach programów UE",null,null,null,null,{"$f":"SUM(G1653,G1655,G1690,G1710,G1695,G1706,G1713)","v":0},null,{"$error":"#DIV/0!"},0,null,{"$error":"#DIV/0!"},{"$error":"#DIV/0!"},{"$f":"IF(SUM(#REF!)>0,\"Tak\",\"\")","v":{"$error":"#REF!"}},{"$f":"IF(OR(G1652<0,J1652<0,#REF!<0,#REF!<0),\"ujemny plan\",\"\")","v":{"$error":"#REF!"}}]
["DZM/3","Środki na dofinansowanie projektów realizowanych w ramach programów UE",null,null,6201,null,{"$f":"SUM(G1654)","v":0},null,{"$error":"#DIV/0!"},0,null,{"$error":"#DIV/0!"},{"$error":"#DIV/0!"},{"$f":"IF(SUM(#REF!)>0,\"Tak\",\"\")","v":{"$error":"#REF!"}},{"$f":"IF(OR(G1653<0,J1653<0,#REF!<0,#REF!<0),\"ujemny plan\",\"\")","v":{"$error":"#REF!"}}]
["DZM/3","Środki na dofinansowanie projektów realizowanych w ramach programów UE",900,90008,6201,"SFUE/",null,null,{"$error":"#DIV/0!"},null,null,{"$error":"#DIV/0!"},{"$error":"#DIV/0!"},{"$f":"IF(SUM(#REF!)>0,\"Tak\",\"\")","v":{"$error":"#REF!"}},{"$f":"IF(OR(G1654<0,J1654<0,#REF!<0,#REF!<0),\"ujemny plan\",\"\")","v":{"$error":"#REF!"}}]
["DZM/3","Środki na dofinansowanie projektów realizowanych w ramach programów UE",null,null,6207,null,{"$f":"SUM(G1656:G1689)","v":0},null,{"$error":"#DIV/0!"},0,null,{"$error":"#DIV/0!"},{"$error":"#DIV/0!"},{"$f":"IF(SUM(#REF!)>0,\"Tak\",\"\")","v":{"$error":"#REF!"}},{"$f":"IF(OR(G1655<0,J1655<0,#REF!<0,#REF!<0),\"ujemny plan\",\"\")","v":{"$error":"#REF!"}}]
["DZM/3","Środki na dofinansowanie projektów realizowanych w ramach programów UE",600,60004,6207,"SFUE/",null,null,{"$error":"#DIV/0!"},null,null,{"$error":"#DIV/0!"},{"$error":"#DIV/0!"},{"$f":"IF(SUM(#REF!)>0,\"Tak\",\"\")","v":{"$error":"#REF!"}},{"$f":"IF(OR(G1656<0,J1656<0,#REF!<0,#REF!<0),\"ujemny plan\",\"\")","v":{"$error":"#REF!"}}]
["DZM/3","Środki na dofinansowanie projektów realizowanych w ramach programów UE",600,60004,6207,"SFUE/",null,null,{"$error":"#DIV/0!"},null,null,{"$error":"#DIV/0!"},{"$error":"#DIV/0!"},{"$f":"IF(SUM(#REF!)>0,\"Tak\",\"\")","v":{"$error":"#REF!"}},{"$f":"IF(OR(G1657<0,J1657<0,#REF!<0,#REF!<0),\"ujemny plan\",\"\")","v":{"$error":"#REF!"}}]
["DZM/3","Środki na dofinansowanie projektów realizowanych w ramach programów UE",600,60004,6257,"SFUE/",null,null,{"$error":"#DIV/0!"},null,null,{"$error":"#DIV/0!"},{"$error":"#DIV/0!"},{"$f":"IF(SUM(#REF!)>0,\"Tak\",\"\")","v":{"$error":"#REF!"}},{"$f":"IF(OR(G1658<0,J1658<0,#REF!<0,#REF!<0),\"ujemny plan\",\"\")","v":{"$error":"#REF!"}}]
["DZM/3","Środki na dofinansowanie projektów realizowanych w ramach programów UE",600,60011,6207,"SFUE/",null,null,{"$error":"#DIV/0!"},null,null,{"$error":"#DIV/0!"},{"$error":"#DIV/0!"},{"$f":"IF(SUM(#REF!)>0,\"Tak\",\"\")","v":{"$error":"#REF!"}},{"$f":"IF(OR(G1659<0,J1659<0,#REF!<0,#REF!<0),\"ujemny plan\",\"\")","v":{"$error":"#REF!"}}]
["DZM/3","Środki na dofinansowanie projektów realizowanych w ramach programów UE",600,60011,6207,"SFUE/",null,null,{"$error":"#DIV/0!"},null,null,{"$error":"#DIV/0!"},{"$error":"#DIV/0!"},{"$f":"IF(SUM(#REF!)>0,\"Tak\",\"\")","v":{"$error":"#REF!"}},{"$f":"IF(OR(G1660<0,J1660<0,#REF!<0,#REF!<0),\"ujemny plan\",\"\")","v":{"$error":"#REF!"}}]
["DZM/3","Środki na dofinansowanie projektów realizowanych w ramach programów UE",600,60011,6207,"SFUE/",null,null,{"$error":"#DIV/0!"},null,null,{"$error":"#DIV/0!"},{"$error":"#DIV/0!"},{"$f":"IF(SUM(#REF!)>0,\"Tak\",\"\")","v":{"$error":"#REF!"}},{"$f":"IF(OR(G1661<0,J1661<0,#REF!<0,#REF!<0),\"ujemny plan\",\"\")","v":{"$error":"#REF!"}}]
["DZM/3","Środki na dofinansowanie projektów realizowanych w ramach programów UE",600,60011,6207,"SFUE/",null,null,{"$error":"#DIV/0!"},null,null,{"$error":"#DIV/0!"},{"$error":"#DIV/0!"},{"$f":"IF(SUM(#REF!)>0,\"Tak\",\"\")","v":{"$error":"#REF!"}},{"$f":"IF(OR(G1662<0,J1662<0,#REF!<0,#REF!<0),\"ujemny plan\",\"\")","v":{"$error":"#REF!"}}]
["DZM/3","Środki na dofinansowanie projektów realizowanych w ramach programów UE",600,60011,6207,"SFUE/",null,null,{"$error":"#DIV/0!"},null,null,{"$error":"#DIV/0!"},{"$error":"#DIV/0!"},{"$f":"IF(SUM(#REF!)>0,\"Tak\",\"\")","v":{"$error":"#REF!"}},{"$f":"IF(OR(G1663<0,J1663<0,#REF!<0,#REF!<0),\"ujemny plan\",\"\")","v":{"$error":"#REF!"}}]
["DZM/3","Środki na dofinansowanie projektów realizowanych w ramach programów UE",600,60011,6207,"SFUE/",null,null,{"$error":"#DIV/0!"},null,null,{"$error":"#DIV/0!"},{"$error":"#DIV/0!"},{"$f":"IF(SUM(#REF!)>0,\"Tak\",\"\")","v":{"$error":"#REF!"}},{"$f":"IF(OR(G1664<0,J1664<0,#REF!<0,#REF!<0),\"ujemny plan\",\"\")","v":{"$error":"#REF!"}}]
["DZM/3","Środki na dofinansowanie projektów realizowanych w ramach programów UE",600,60014,6207,"SFUE/",null,null,{"$error":"#DIV/0!"},null,null,{"$error":"#DIV/0!"},{"$error":"#DIV/0!"},{"$f":"IF(SUM(#REF!)>0,\"Tak\",\"\")","v":{"$error":"#REF!"}},{"$f":"IF(OR(G1665<0,J1665<0,#REF!<0,#REF!<0),\"ujemny plan\",\"\")","v":{"$error":"#REF!"}}]
["DZM/3","Środki na dofinansowanie projektów realizowanych w ramach programów UE",600,60014,6207,"SFUE/",null,null,{"$error":"#DIV/0!"},null,null,{"$error":"#DIV/0!"},{"$error":"#DIV/0!"},{"$f":"IF(SUM(#REF!)>0,\"Tak\",\"\")","v":{"$error":"#REF!"}},{"$f":"IF(OR(G1666<0,J1666<0,#REF!<0,#REF!<0),\"ujemny plan\",\"\")","v":{"$error":"#REF!"}}]
["DZM/3","Środki na dofinansowanie projektów realizowanych w ramach programów UE",600,60014,6207,"SFUE/",null,null,{"$error":"#DIV/0!"},null,null,{"$error":"#DIV/0!"},{"$error":"#DIV/0!"},{"$f":"IF(SUM(#REF!)>0,\"Tak\",\"\")","v":{"$error":"#REF!"}},{"$f":"IF(OR(G1667<0,J1667<0,#REF!<0,#REF!<0),\"ujemny plan\",\"\")","v":{"$error":"#REF!"}}]
["DZM/3","Środki na dofinansowanie projektów realizowanych w ramach programów UE",600,60014,6207,"SFUE/",null,null,{"$error":"#DIV/0!"},null,null,{"$error":"#DIV/0!"},{"$error":"#DIV/0!"},{"$f":"IF(SUM(#REF!)>0,\"Tak\",\"\")","v":{"$error":"#REF!"}},{"$f":"IF(OR(G1668<0,J1668<0,#REF!<0,#REF!<0),\"ujemny plan\",\"\")","v":{"$error":"#REF!"}}]
["DZM/3","Środki na dofinansowanie projektów realizowanych w ramach programów UE",600,60095,6207,"SFUE/",null,null,{"$error":"#DIV/0!"},null,null,{"$error":"#DIV/0!"},{"$error":"#DIV/0!"},{"$f":"IF(SUM(#REF!)>0,\"Tak\",\"\")","v":{"$error":"#REF!"}},{"$f":"IF(OR(G1669<0,J1669<0,#REF!<0,#REF!<0),\"ujemny plan\",\"\")","v":{"$error":"#REF!"}}]
["DZM/3","Środki na dofinansowanie projektów realizowanych w ramach programów UE",710,71095,6207,"SFUE/",null,null,{"$error":"#DIV/0!"},null,null,{"$error":"#DIV/0!"},{"$error":"#DIV/0!"},{"$f":"IF(SUM(#REF!)>0,\"Tak\",\"\")","v":{"$error":"#REF!"}},{"$f":"IF(OR(G1670<0,J1670<0,#REF!<0,#REF!<0),\"ujemny plan\",\"\")","v":{"$error":"#REF!"}}]
["DZM/3","Środki na dofinansowanie projektów realizowanych w ramach programów UE",710,71095,6207,"SFUE/",null,null,{"$error":"#DIV/0!"},null,null,{"$error":"#DIV/0!"},{"$error":"#DIV/0!"},{"$f":"IF(SUM(#REF!)>0,\"Tak\",\"\")","v":{"$error":"#REF!"}},{"$f":"IF(OR(G1671<0,J1671<0,#REF!<0,#REF!<0),\"ujemny plan\",\"\")","v":{"$error":"#REF!"}}]
["DZM/3","Środki na dofinansowanie projektów realizowanych w ramach programów UE",710,71095,6257,"SFUE/",null,null,{"$error":"#DIV/0!"},null,null,{"$error":"#DIV/0!"},{"$f":"IF(SUM(G1672:L1672)>0,\"Tak\",\"\")","v":{"$error":"#DIV/0!"}},{"$f":"IF(SUM(#REF!)>0,\"Tak\",\"\")","v":{"$error":"#REF!"}},{"$f":"IF(OR(G1672<0,J1672<0,#REF!<0,#REF!<0),\"ujemny plan\",\"\")","v":{"$error":"#REF!"}}]
["DZM/3","Środki na dofinansowanie projektów realizowanych w ramach programów UE",750,75023,6207,"SFUE/",null,null,{"$f":"H1673/G1673","v":{"$error":"#DIV/0!"}},null,null,{"$f":"K1673/J1673","v":{"$error":"#DIV/0!"}},{"$error":"#DIV/0!"},{"$f":"IF(SUM(#REF!)>0,\"Tak\",\"\")","v":{"$error":"#REF!"}},{"$f":"IF(OR(G1673<0,J1673<0,#REF!<0,#REF!<0),\"ujemny plan\",\"\")","v":{"$error":"#REF!"}}]
["DZM/3","Środki na dofinansowanie projektów realizowanych w ramach programów UE",801,80195,6207,"SFUE/",null,null,{"$error":"#DIV/0!"},null,null,{"$error":"#DIV/0!"},{"$error":"#DIV/0!"},{"$f":"IF(SUM(#REF!)>0,\"Tak\",\"\")","v":{"$error":"#REF!"}},{"$f":"IF(OR(G1674<0,J1674<0,#REF!<0,#REF!<0),\"ujemny plan\",\"\")","v":{"$error":"#REF!"}}]
["DZM/3","Środki na dofinansowanie projektów realizowanych w ramach programów UE",801,80195,6207,"SFUE/",null,null,{"$error":"#DIV/0!"},null,null,{"$error":"#DIV/0!"},{"$error":"#DIV/0!"},{"$f":"IF(SUM(#REF!)>0,\"Tak\",\"\")","v":{"$error":"#REF!"}},{"$f":"IF(OR(G1675<0,J1675<0,#REF!<0,#REF!<0),\"ujemny plan\",\"\")","v":{"$error":"#REF!"}}]
["DZM/3","Środki na dofinansowanie projektów realizowanych w ramach programów UE",851,85111,6207,"SFUE/",null,null,{"$error":"#DIV/0!"},null,null,{"$error":"#DIV/0!"},{"$error":"#DIV/0!"},{"$f":"IF(SUM(#REF!)>0,\"Tak\",\"\")","v":{"$error":"#REF!"}},{"$f":"IF(OR(G1676<0,J1676<0,#REF!<0,#REF!<0),\"ujemny plan\",\"\")","v":{"$error":"#REF!"}}]
["DZM/3","Środki na dofinansowanie projektów realizowanych w ramach programów UE",852,85295,6207,"SFUE/",null,null,{"$error":"#DIV/0!"},null,null,{"$error":"#DIV/0!"},{"$error":"#DIV/0!"},{"$f":"IF(SUM(#REF!)>0,\"Tak\",\"\")","v":{"$error":"#REF!"}},{"$f":"IF(OR(G1677<0,J1677<0,#REF!<0,#REF!<0),\"ujemny plan\",\"\")","v":{"$error":"#REF!"}}]
["DZM/3","Środki na dofinansowanie projektów realizowanych w ramach programów UE",853,85395,6207,"SFUE/",null,null,{"$error":"#DIV/0!"},null,null,{"$error":"#DIV/0!"},{"$error":"#DIV/0!"},{"$f":"IF(SUM(#REF!)>0,\"Tak\",\"\")","v":{"$error":"#REF!"}},{"$f":"IF(OR(G1678<0,J1678<0,#REF!<0,#REF!<0),\"ujemny plan\",\"\")","v":{"$error":"#REF!"}}]
["DZM/3","Środki na dofinansowanie projektów realizowanych w ramach programów UE",900,90002,6207,"SFUE/",null,null,{"$error":"#DIV/0!"},null,null,{"$error":"#DIV/0!"},{"$error":"#DIV/0!"},{"$f":"IF(SUM(#REF!)>0,\"Tak\",\"\")","v":{"$error":"#REF!"}},{"$f":"IF(OR(G1679<0,J1679<0,#REF!<0,#REF!<0),\"ujemny plan\",\"\")","v":{"$error":"#REF!"}}]
["DZM/3","Środki na dofinansowanie projektów realizowanych w ramach programów UE",921,92106,6207,"SFUE/",null,null,{"$error":"#DIV/0!"},null,null,{"$error":"#DIV/0!"},{"$error":"#DIV/0!"},{"$f":"IF(SUM(#REF!)>0,\"Tak\",\"\")","v":{"$error":"#REF!"}},{"$f":"IF(OR(G1680<0,J1680<0,#REF!<0,#REF!<0),\"ujemny plan\",\"\")","v":{"$error":"#REF!"}}]
["DZM/3","Środki na dofinansowanie projektów realizowanych w ramach programów UE",921,92109,6207,"SFUE/",null,null,{"$error":"#DIV/0!"},null,null,{"$error":"#DIV/0!"},{"$error":"#DIV/0!"},{"$f":"IF(SUM(#REF!)>0,\"Tak\",\"\")","v":{"$error":"#REF!"}},{"$f":"IF(OR(G1681<0,J1681<0,#REF!<0,#REF!<0),\"ujemny plan\",\"\")","v":{"$error":"#REF!"}}]
["DZM/3","Środki na dofinansowanie projektów realizowanych w ramach programów UE",921,92118,6207,"SFUE/",null,null,{"$error":"#DIV/0!"},null,null,{"$error":"#DIV/0!"},{"$error":"#DIV/0!"},{"$f":"IF(SUM(#REF!)>0,\"Tak\",\"\")","v":{"$error":"#REF!"}},{"$f":"IF(OR(G1682<0,J1682<0,#REF!<0,#REF!<0),\"ujemny plan\",\"\")","v":{"$error":"#REF!"}}]
["DZM/3","Środki na dofinansowanie projektów realizowanych w ramach programów UE",921,92120,6207,"SFUE/",null,null,{"$error":"#DIV/0!"},null,null,{"$error":"#DIV/0!"},{"$error":"#DIV/0!"},{"$f":"IF(SUM(#REF!)>0,\"Tak\",\"\")","v":{"$error":"#REF!"}},{"$f":"IF(OR(G1683<0,J1683<0,#REF!<0,#REF!<0),\"ujemny plan\",\"\")","v":{"$error":"#REF!"}}]
["DZM/3","Środki na dofinansowanie projektów realizowanych w ramach programów UE",921,92120,6207,"SFUE/",null,null,{"$error":"#DIV/0!"},null,null,{"$error":"#DIV/0!"},{"$error":"#DIV/0!"},{"$f":"IF(SUM(#REF!)>0,\"Tak\",\"\")","v":{"$error":"#REF!"}},{"$f":"IF(OR(G1684<0,J1684<0,#REF!<0,#REF!<0),\"ujemny plan\",\"\")","v":{"$error":"#REF!"}}]
["DZM/3","Środki na dofinansowanie projektów realizowanych w ramach programów UE",600,60095,6207,"SFUE/",null,null,{"$error":"#DIV/0!"},null,null,{"$error":"#DIV/0!"},{"$error":"#DIV/0!"},{"$f":"IF(SUM(#REF!)>0,\"Tak\",\"\")","v":{"$error":"#REF!"}},{"$f":"IF(OR(G1685<0,J1685<0,#REF!<0,#REF!<0),\"ujemny plan\",\"\")","v":{"$error":"#REF!"}}]
["DZM/3","Środki na dofinansowanie projektów realizowanych w ramach programów UE",921,92120,6207,"SFUE/",null,null,{"$error":"#DIV/0!"},null,null,{"$error":"#DIV/0!"},{"$error":"#DIV/0!"},{"$f":"IF(SUM(#REF!)>0,\"Tak\",\"\")","v":{"$error":"#REF!"}},{"$f":"IF(OR(G1686<0,J1686<0,#REF!<0,#REF!<0),\"ujemny plan\",\"\")","v":{"$error":"#REF!"}}]
["DZM/3","Środki na dofinansowanie projektów realizowanych w ramach programów UE",921,92195,6207,"SFUE/",null,null,{"$error":"#DIV/0!"},null,null,{"$error":"#DIV/0!"},{"$error":"#DIV/0!"},{"$f":"IF(SUM(#REF!)>0,\"Tak\",\"\")","v":{"$error":"#REF!"}},{"$f":"IF(OR(G1687<0,J1687<0,#REF!<0,#REF!<0),\"ujemny plan\",\"\")","v":{"$error":"#REF!"}}]
["DZM/3","Środki na dofinansowanie projektów realizowanych w ramach programów UE",925,92504,6207,"SFUE/",null,null,{"$error":"#DIV/0!"},null,null,{"$error":"#DIV/0!"},{"$error":"#DIV/0!"},{"$f":"IF(SUM(#REF!)>0,\"Tak\",\"\")","v":{"$error":"#REF!"}},{"$f":"IF(OR(G1688<0,J1688<0,#REF!<0,#REF!<0),\"ujemny plan\",\"\")","v":{"$error":"#REF!"}}]
["DZM/3","Środki na dofinansowanie projektów realizowanych w ramach programów UE",925,92504,6207,"SFUE/",null,null,{"$error":"#DIV/0!"},null,null,{"$error":"#DIV/0!"},{"$error":"#DIV/0!"},{"$f":"IF(SUM(#REF!)>0,\"Tak\",\"\")","v":{"$error":"#REF!"}},{"$f":"IF(OR(G1689<0,J1689<0,#REF!<0,#REF!<0),\"ujemny plan\",\"\")","v":{"$error":"#REF!"}}]
["DZM/3","Środki na dofinansowanie projektów realizowanych w ramach programów UE",null,null,6209,null,{"$f":"SUM(G1691:G1694)","v":0},null,{"$error":"#DIV/0!"},0,null,{"$error":"#DIV/0!"},{"$error":"#DIV/0!"},{"$f":"IF(SUM(#REF!)>0,\"Tak\",\"\")","v":{"$error":"#REF!"}},{"$f":"IF(OR(G1690<0,J1690<0,#REF!<0,#REF!<0),\"ujemny plan\",\"\")","v":{"$error":"#REF!"}}]
["DZM/3","Środki na dofinansowanie projektów realizowanych w ramach programów UE",710,71095,6209,"SFUE/",null,null,{"$error":"#DIV/0!"},null,null,{"$error":"#DIV/0!"},{"$error":"#DIV/0!"},{"$f":"IF(SUM(#REF!)>0,\"Tak\",\"\")","v":{"$error":"#REF!"}},{"$f":"IF(OR(G1691<0,J1691<0,#REF!<0,#REF!<0),\"ujemny plan\",\"\")","v":{"$error":"#REF!"}}]
["DZM/3","Środki na dofinansowanie projektów realizowanych w ramach programów UE",801,80195,6209,"SFUE/",null,null,{"$error":"#DIV/0!"},null,null,{"$error":"#DIV/0!"},{"$error":"#DIV/0!"},{"$f":"IF(SUM(#REF!)>0,\"Tak\",\"\")","v":{"$error":"#REF!"}},{"$f":"IF(OR(G1692<0,J1692<0,#REF!<0,#REF!<0),\"ujemny plan\",\"\")","v":{"$error":"#REF!"}}]
["DZM/3","Środki na dofinansowanie projektów realizowanych w ramach programów UE",801,80195,6209,"SFUE/",null,null,{"$error":"#DIV/0!"},null,null,{"$error":"#DIV/0!"},{"$error":"#DIV/0!"},{"$f":"IF(SUM(#REF!)>0,\"Tak\",\"\")","v":{"$error":"#REF!"}},{"$f":"IF(OR(G1693<0,J1693<0,#REF!<0,#REF!<0),\"ujemny plan\",\"\")","v":{"$error":"#REF!"}}]
["DZM/3","Środki na dofinansowanie projektów realizowanych w ramach programów UE",925,92504,6209,"SFUE/",null,null,{"$error":"#DIV/0!"},null,null,{"$error":"#DIV/0!"},{"$error":"#DIV/0!"},{"$f":"IF(SUM(#REF!)>0,\"Tak\",\"\")","v":{"$error":"#REF!"}},{"$f":"IF(OR(G1694<0,J1694<0,#REF!<0,#REF!<0),\"ujemny plan\",\"\")","v":{"$error":"#REF!"}}]
["DZM/3","Środki na dofinansowanie projektów realizowanych w ramach programów UE",null,null,6257,null,{"$f":"SUM(G1696:G1705)","v":0},null,{"$error":"#DIV/0!"},0,null,{"$error":"#DIV/0!"},{"$error":"#DIV/0!"},{"$f":"IF(SUM(#REF!)>0,\"Tak\",\"\")","v":{"$error":"#REF!"}},{"$f":"IF(OR(G1695<0,J1695<0,#REF!<0,#REF!<0),\"ujemny plan\",\"\")","v":{"$error":"#REF!"}}]
["DZM/3","Środki na dofinansowanie projektów realizowanych w ramach programów UE",600,60004,6257,"SFUE/",null,null,{"$error":"#DIV/0!"},null,null,{"$error":"#DIV/0!"},{"$error":"#DIV/0!"},{"$f":"IF(SUM(#REF!)>0,\"Tak\",\"\")","v":{"$error":"#REF!"}},{"$f":"IF(OR(G1696<0,J1696<0,#REF!<0,#REF!<0),\"ujemny plan\",\"\")","v":{"$error":"#REF!"}}]
["DZM/3","Środki na dofinansowanie projektów realizowanych w ramach programów UE",600,60011,6257,"SFUE/",null,null,{"$error":"#DIV/0!"},null,null,{"$error":"#DIV/0!"},{"$error":"#DIV/0!"},{"$f":"IF(SUM(#REF!)>0,\"Tak\",\"\")","v":{"$error":"#REF!"}},{"$f":"IF(OR(G1697<0,J1697<0,#REF!<0,#REF!<0),\"ujemny plan\",\"\")","v":{"$error":"#REF!"}}]
["DZM/3","Środki na dofinansowanie projektów realizowanych w ramach programów UE",600,60013,6257,"SFUE/",null,null,{"$error":"#DIV/0!"},null,null,{"$error":"#DIV/0!"},{"$error":"#DIV/0!"},{"$f":"IF(SUM(#REF!)>0,\"Tak\",\"\")","v":{"$error":"#REF!"}},{"$f":"IF(OR(G1698<0,J1698<0,#REF!<0,#REF!<0),\"ujemny plan\",\"\")","v":{"$error":"#REF!"}}]
["DZM/3","Środki na dofinansowanie projektów realizowanych w ramach programów UE",600,60095,6257,"SFUE/",null,null,{"$error":"#DIV/0!"},null,null,{"$error":"#DIV/0!"},{"$error":"#DIV/0!"},{"$f":"IF(SUM(#REF!)>0,\"Tak\",\"\")","v":{"$error":"#REF!"}},{"$f":"IF(OR(G1699<0,J1699<0,#REF!<0,#REF!<0),\"ujemny plan\",\"\")","v":{"$error":"#REF!"}}]
["DZM/3","Środki na dofinansowanie projektów realizowanych w ramach programów UE",710,71095,6257,"SFUE/",null,null,{"$error":"#DIV/0!"},null,null,{"$error":"#DIV/0!"},{"$error":"#DIV/0!"},{"$f":"IF(SUM(#REF!)>0,\"Tak\",\"\")","v":{"$error":"#REF!"}},{"$f":"IF(OR(G1700<0,J1700<0,#REF!<0,#REF!<0),\"ujemny plan\",\"\")","v":{"$error":"#REF!"}}]
["DZM/3","Środki na dofinansowanie projektów realizowanych w ramach programów UE",750,75023,6257,"SFUE/",null,null,{"$error":"#DIV/0!"},null,null,{"$error":"#DIV/0!"},{"$error":"#DIV/0!"},{"$f":"IF(SUM(#REF!)>0,\"Tak\",\"\")","v":{"$error":"#REF!"}},{"$f":"IF(OR(G1701<0,J1701<0,#REF!<0,#REF!<0),\"ujemny plan\",\"\")","v":{"$error":"#REF!"}}]
["DZM/3","Środki na dofinansowanie projektów realizowanych w ramach programów UE",754,75412,6257,"SFUE/",null,null,{"$error":"#DIV/0!"},null,null,{"$error":"#DIV/0!"},{"$error":"#DIV/0!"},{"$f":"IF(SUM(#REF!)>0,\"Tak\",\"\")","v":{"$error":"#REF!"}},{"$f":"IF(OR(G1702<0,J1702<0,#REF!<0,#REF!<0),\"ujemny plan\",\"\")","v":{"$error":"#REF!"}}]
["DZM/3","Środki na dofinansowanie projektów realizowanych w ramach programów UE",801,80195,6257,"SFUE/",null,null,{"$error":"#DIV/0!"},null,null,{"$error":"#DIV/0!"},{"$error":"#DIV/0!"},{"$f":"IF(SUM(#REF!)>0,\"Tak\",\"\")","v":{"$error":"#REF!"}},{"$f":"IF(OR(G1703<0,J1703<0,#REF!<0,#REF!<0),\"ujemny plan\",\"\")","v":{"$error":"#REF!"}}]
["DZM/3","Środki na dofinansowanie projektów realizowanych w ramach programów UE",900,90095,6257,"SFUE/",null,null,{"$error":"#DIV/0!"},null,null,{"$error":"#DIV/0!"},{"$error":"#DIV/0!"},{"$f":"IF(SUM(#REF!)>0,\"Tak\",\"\")","v":{"$error":"#REF!"}},{"$f":"IF(OR(G1704<0,J1704<0,#REF!<0,#REF!<0),\"ujemny plan\",\"\")","v":{"$error":"#REF!"}}]
["DZM/3","Środki na dofinansowanie projektów realizowanych w ramach programów UE",921,92195,6257,"SFUE/",null,null,{"$error":"#DIV/0!"},null,null,{"$error":"#DIV/0!"},{"$error":"#DIV/0!"},{"$f":"IF(SUM(#REF!)>0,\"Tak\",\"\")","v":{"$error":"#REF!"}},{"$f":"IF(OR(G1705<0,J1705<0,#REF!<0,#REF!<0),\"ujemny plan\",\"\")","v":{"$error":"#REF!"}}]
["DZM/3","Środki na dofinansowanie projektów realizowanych w ramach programów UE",null,null,6258,null,{"$f":"SUM(G1707:G1709)","v":0},null,{"$error":"#DIV/0!"},0,null,{"$error":"#DIV/0!"},{"$error":"#DIV/0!"},{"$f":"IF(SUM(#REF!)>0,\"Tak\",\"\")","v":{"$error":"#REF!"}},{"$f":"IF(OR(G1706<0,J1706<0,#REF!<0,#REF!<0),\"ujemny plan\",\"\")","v":{"$error":"#REF!"}}]
["DZM/3","Środki na dofinansowanie projektów realizowanych w ramach programów UE",750,75023,6258,"SFUE/",null,null,{"$error":"#DIV/0!"},null,null,{"$error":"#DIV/0!"},{"$error":"#DIV/0!"},{"$f":"IF(SUM(#REF!)>0,\"Tak\",\"\")","v":{"$error":"#REF!"}},{"$f":"IF(OR(G1707<0,J1707<0,#REF!<0,#REF!<0),\"ujemny plan\",\"\")","v":{"$error":"#REF!"}}]
["DZM/3","Środki na dofinansowanie projektów realizowanych w ramach programów UE",853,85395,6258,"SFUE/",null,null,{"$error":"#DIV/0!"},null,null,{"$error":"#DIV/0!"},{"$error":"#DIV/0!"},{"$f":"IF(SUM(#REF!)>0,\"Tak\",\"\")","v":{"$error":"#REF!"}},{"$f":"IF(OR(G1708<0,J1708<0,#REF!<0,#REF!<0),\"ujemny plan\",\"\")","v":{"$error":"#REF!"}}]
["DZM/3","Środki na dofinansowanie projektów realizowanych w ramach programów UE",900,90095,6258,"SFUE/",null,null,{"$error":"#DIV/0!"},null,null,{"$error":"#DIV/0!"},{"$error":"#DIV/0!"},{"$f":"IF(SUM(#REF!)>0,\"Tak\",\"\")","v":{"$error":"#REF!"}},{"$f":"IF(OR(G1709<0,J1709<0,#REF!<0,#REF!<0),\"ujemny plan\",\"\")","v":{"$error":"#REF!"}}]
["DZM/3","Środki na dofinansowanie projektów realizowanych w ramach programów UE",null,null,6259,null,{"$f":"SUM(G1711:G1712)","v":0},null,{"$error":"#DIV/0!"},0,null,{"$error":"#DIV/0!"},{"$error":"#DIV/0!"},{"$f":"IF(SUM(#REF!)>0,\"Tak\",\"\")","v":{"$error":"#REF!"}},{"$f":"IF(OR(G1710<0,J1710<0,#REF!<0,#REF!<0),\"ujemny plan\",\"\")","v":{"$error":"#REF!"}}]
["DZM/3","Środki na dofinansowanie projektów realizowanych w ramach programów UE",801,80195,6259,"SFUE/",null,null,{"$error":"#DIV/0!"},null,null,{"$error":"#DIV/0!"},{"$error":"#DIV/0!"},{"$f":"IF(SUM(#REF!)>0,\"Tak\",\"\")","v":{"$error":"#REF!"}},{"$f":"IF(OR(G1711<0,J1711<0,#REF!<0,#REF!<0),\"ujemny plan\",\"\")","v":{"$error":"#REF!"}}]
["DZM/3","Środki na dofinansowanie projektów realizowanych w ramach programów UE",853,85395,6259,"SFUE/",null,null,{"$error":"#DIV/0!"},null,null,{"$error":"#DIV/0!"},{"$error":"#DIV/0!"},{"$f":"IF(SUM(#REF!)>0,\"Tak\",\"\")","v":{"$error":"#REF!"}},{"$f":"IF(OR(G1712<0,J1712<0,#REF!<0,#REF!<0),\"ujemny plan\",\"\")","v":{"$error":"#REF!"}}]
["DZM/3","Środki na dofinansowanie projektów realizowanych w ramach programów UE",null,null,6295,null,{"$f":"SUM(G1714)","v":0},null,{"$error":"#DIV/0!"},0,null,{"$error":"#DIV/0!"},{"$error":"#DIV/0!"},{"$f":"IF(SUM(#REF!)>0,\"Tak\",\"\")","v":{"$error":"#REF!"}},{"$f":"IF(OR(G1713<0,J1713<0,#REF!<0,#REF!<0),\"ujemny plan\",\"\")","v":{"$error":"#REF!"}}]
["DZM/3","Środki na dofinansowanie projektów realizowanych w ramach programów UE",921,92120,6295,"SFUE/",null,null,{"$error":"#DIV/0!"},null,null,{"$error":"#DIV/0!"},{"$error":"#DIV/0!"},{"$f":"IF(SUM(#REF!)>0,\"Tak\",\"\")","v":{"$error":"#REF!"}},{"$f":"IF(OR(G1714<0,J1714<0,#REF!<0,#REF!<0),\"ujemny plan\",\"\")","v":{"$error":"#REF!"}}]
["DZM/4","Środki na inwestycje pozyskane z innych źródeł",null,null,6290,null,{"$f":"SUM(G1716:G1754)","v":342755},372060.16000000003,1.0854988548671793,342755,372060.16000000003,1.0854988548671793,"Tak",{"$f":"IF(SUM(#REF!)>0,\"Tak\",\"\")","v":{"$error":"#REF!"}},{"$f":"IF(OR(G1715<0,J1715<0,#REF!<0,#REF!<0),\"ujemny plan\",\"\")","v":{"$error":"#REF!"}}]
["DZM/4","Środki na inwestycje pozyskane z innych źródeł",600,60011,6290,null,null,null,{"$error":"#DIV/0!"},null,null,{"$error":"#DIV/0!"},{"$error":"#DIV/0!"},{"$f":"IF(SUM(#REF!)>0,\"Tak\",\"\")","v":{"$error":"#REF!"}},{"$f":"IF(OR(G1716<0,J1716<0,#REF!<0,#REF!<0),\"ujemny plan\",\"\")","v":{"$error":"#REF!"}}]
["DZM/4","Środki na inwestycje pozyskane z innych źródeł",600,60014,6290,"GMMW",null,null,{"$error":"#DIV/0!"},null,null,{"$error":"#DIV/0!"},{"$error":"#DIV/0!"},{"$f":"IF(SUM(#REF!)>0,\"Tak\",\"\")","v":{"$error":"#REF!"}},{"$f":"IF(OR(G1717<0,J1717<0,#REF!<0,#REF!<0),\"ujemny plan\",\"\")","v":{"$error":"#REF!"}}]
["DZM/4","Środki na inwestycje pozyskane z innych źródeł",600,60015,6290,"GMMW",null,null,{"$error":"#DIV/0!"},null,null,{"$error":"#DIV/0!"},{"$error":"#DIV/0!"},{"$f":"IF(SUM(#REF!)>0,\"Tak\",\"\")","v":{"$error":"#REF!"}},{"$f":"IF(OR(G1718<0,J1718<0,#REF!<0,#REF!<0),\"ujemny plan\",\"\")","v":{"$error":"#REF!"}}]
["DZM/4","Środki na inwestycje pozyskane z innych źródeł",600,60016,6290,"GMMW",0,null,{"$error":"#DIV/0!"},0,null,{"$error":"#DIV/0!"},{"$error":"#DIV/0!"},{"$f":"IF(SUM(#REF!)>0,\"Tak\",\"\")","v":{"$error":"#REF!"}},{"$f":"IF(OR(G1719<0,J1719<0,#REF!<0,#REF!<0),\"ujemny plan\",\"\")","v":{"$error":"#REF!"}}]
["DZM/4","Środki na inwestycje pozyskane z innych źródeł",600,60016,6290,"DE/02/0006",0,null,{"$error":"#DIV/0!"},0,null,{"$error":"#DIV/0!"},{"$error":"#DIV/0!"},{"$f":"IF(SUM(#REF!)>0,\"Tak\",\"\")","v":{"$error":"#REF!"}},{"$f":"IF(OR(G1720<0,J1720<0,#REF!<0,#REF!<0),\"ujemny plan\",\"\")","v":{"$error":"#REF!"}}]
["DZM/4","Środki na inwestycje pozyskane z innych źródeł",600,60016,6290,"DE/02/0007",0,null,{"$error":"#DIV/0!"},0,null,{"$error":"#DIV/0!"},{"$error":"#DIV/0!"},{"$f":"IF(SUM(#REF!)>0,\"Tak\",\"\")","v":{"$error":"#REF!"}},{"$f":"IF(OR(G1721<0,J1721<0,#REF!<0,#REF!<0),\"ujemny plan\",\"\")","v":{"$error":"#REF!"}}]
["DZM/4","Środki na inwestycje pozyskane z innych źródeł",600,60016,6290,"DE/02/0008",0,null,{"$error":"#DIV/0!"},0,null,{"$error":"#DIV/0!"},{"$error":"#DIV/0!"},{"$f":"IF(SUM(#REF!)>0,\"Tak\",\"\")","v":{"$error":"#REF!"}},{"$f":"IF(OR(G1722<0,J1722<0,#REF!<0,#REF!<0),\"ujemny plan\",\"\")","v":{"$error":"#REF!"}}]
["DZM/4","Środki na inwestycje pozyskane z innych źródeł",600,60016,6290,"DE/02/0009",0,null,{"$error":"#DIV/0!"},0,null,{"$error":"#DIV/0!"},{"$error":"#DIV/0!"},{"$f":"IF(SUM(#REF!)>0,\"Tak\",\"\")","v":{"$error":"#REF!"}},{"$f":"IF(OR(G1723<0,J1723<0,#REF!<0,#REF!<0),\"ujemny plan\",\"\")","v":{"$error":"#REF!"}}]
["DZM/4","Środki na inwestycje pozyskane z innych źródeł",600,60016,6290,"DE/02/0010",0,null,{"$error":"#DIV/0!"},0,null,{"$error":"#DIV/0!"},{"$error":"#DIV/0!"},{"$f":"IF(SUM(#REF!)>0,\"Tak\",\"\")","v":{"$error":"#REF!"}},{"$f":"IF(OR(G1724<0,J1724<0,#REF!<0,#REF!<0),\"ujemny plan\",\"\")","v":{"$error":"#REF!"}}]
["DZM/4","Środki na inwestycje pozyskane z innych źródeł",600,60016,6290,"DE/02/0012",0,null,{"$error":"#DIV/0!"},0,null,{"$error":"#DIV/0!"},{"$error":"#DIV/0!"},{"$f":"IF(SUM(#REF!)>0,\"Tak\",\"\")","v":{"$error":"#REF!"}},{"$f":"IF(OR(G1725<0,J1725<0,#REF!<0,#REF!<0),\"ujemny plan\",\"\")","v":{"$error":"#REF!"}}]
["DZM/4","Środki na inwestycje pozyskane z innych źródeł",600,60016,6290,"DE/02/0013",0,null,{"$error":"#DIV/0!"},0,null,{"$error":"#DIV/0!"},{"$error":"#DIV/0!"},{"$f":"IF(SUM(#REF!)>0,\"Tak\",\"\")","v":{"$error":"#REF!"}},{"$f":"IF(OR(G1726<0,J1726<0,#REF!<0,#REF!<0),\"ujemny plan\",\"\")","v":{"$error":"#REF!"}}]
["DZM/4","Środki na inwestycje pozyskane z innych źródeł",600,60016,6290,"DE/02/0014",74965,118493.49,1.5806508370572934,74965,118493.49,1.5806508370572934,"Tak",{"$f":"IF(SUM(#REF!)>0,\"Tak\",\"\")","v":{"$error":"#REF!"}},{"$f":"IF(OR(G1727<0,J1727<0,#REF!<0,#REF!<0),\"ujemny plan\",\"\")","v":{"$error":"#REF!"}}]
["DZM/4","Środki na inwestycje pozyskane z innych źródeł",600,60016,6290,"DE/02/0015",0,null,{"$error":"#DIV/0!"},0,null,{"$error":"#DIV/0!"},{"$error":"#DIV/0!"},{"$f":"IF(SUM(#REF!)>0,\"Tak\",\"\")","v":{"$error":"#REF!"}},{"$f":"IF(OR(G1728<0,J1728<0,#REF!<0,#REF!<0),\"ujemny plan\",\"\")","v":{"$error":"#REF!"}}]
["DZM/4","Środki na inwestycje pozyskane z innych źródeł",600,60016,6290,"DE/02/0016",42517,42516.6,0.99999059199849472,42517,42516.6,0.99999059199849472,"Tak",{"$f":"IF(SUM(#REF!)>0,\"Tak\",\"\")","v":{"$error":"#REF!"}},{"$f":"IF(OR(G1729<0,J1729<0,#REF!<0,#REF!<0),\"ujemny plan\",\"\")","v":{"$error":"#REF!"}}]
["DZM/4","Środki na inwestycje pozyskane z innych źródeł",600,60016,6290,"DE/02/0017",0,null,{"$error":"#DIV/0!"},0,null,{"$error":"#DIV/0!"},{"$error":"#DIV/0!"},{"$f":"IF(SUM(#REF!)>0,\"Tak\",\"\")","v":{"$error":"#REF!"}},{"$f":"IF(OR(G1730<0,J1730<0,#REF!<0,#REF!<0),\"ujemny plan\",\"\")","v":{"$error":"#REF!"}}]
["DZM/4","Środki na inwestycje pozyskane z innych źródeł",600,60016,6290,"DE/02/0018",0,null,{"$error":"#DIV/0!"},0,null,{"$error":"#DIV/0!"},{"$error":"#DIV/0!"},{"$f":"IF(SUM(#REF!)>0,\"Tak\",\"\")","v":{"$error":"#REF!"}},{"$f":"IF(OR(G1731<0,J1731<0,#REF!<0,#REF!<0),\"ujemny plan\",\"\")","v":{"$error":"#REF!"}}]
["DZM/4","Środki na inwestycje pozyskane z innych źródeł",600,60016,6290,"DE/02/0019",217873,195857.7,0.8989535187930584,217873,195857.7,0.8989535187930584,"Tak",{"$f":"IF(SUM(#REF!)>0,\"Tak\",\"\")","v":{"$error":"#REF!"}},{"$f":"IF(OR(G1732<0,J1732<0,#REF!<0,#REF!<0),\"ujemny plan\",\"\")","v":{"$error":"#REF!"}}]
["DZM/4","Środki na inwestycje pozyskane z innych źródeł",600,60016,6290,"DE/02/0020",0,null,{"$error":"#DIV/0!"},0,null,{"$error":"#DIV/0!"},{"$error":"#DIV/0!"},{"$f":"IF(SUM(#REF!)>0,\"Tak\",\"\")","v":{"$error":"#REF!"}},{"$f":"IF(OR(G1733<0,J1733<0,#REF!<0,#REF!<0),\"ujemny plan\",\"\")","v":{"$error":"#REF!"}}]
["DZM/4","Środki na inwestycje pozyskane z innych źródeł",600,60016,6290,"DE/02/0021",0,null,{"$error":"#DIV/0!"},0,null,{"$error":"#DIV/0!"},{"$error":"#DIV/0!"},{"$f":"IF(SUM(#REF!)>0,\"Tak\",\"\")","v":{"$error":"#REF!"}},{"$f":"IF(OR(G1734<0,J1734<0,#REF!<0,#REF!<0),\"ujemny plan\",\"\")","v":{"$error":"#REF!"}}]
["DZM/4","Środki na inwestycje pozyskane z innych źródeł",600,60016,6290,"DE/02/0022",0,8692.3700000000008,null,0,8692.3700000000008,null,"Tak",{"$f":"IF(SUM(#REF!)>0,\"Tak\",\"\")","v":{"$error":"#REF!"}},{"$f":"IF(OR(G1735<0,J1735<0,#REF!<0,#REF!<0),\"ujemny plan\",\"\")","v":{"$error":"#REF!"}}]
["DZM/4","Środki na inwestycje pozyskane z innych źródeł",600,60016,6290,"DE/02/0023",0,null,{"$error":"#DIV/0!"},0,null,{"$error":"#DIV/0!"},{"$f":"IF(SUM(G1736:L1736)>0,\"Tak\",\"\")","v":{"$error":"#DIV/0!"}},{"$f":"IF(SUM(#REF!)>0,\"Tak\",\"\")","v":{"$error":"#REF!"}},{"$f":"IF(OR(G1736<0,J1736<0,#REF!<0,#REF!<0),\"ujemny plan\",\"\")","v":{"$error":"#REF!"}}]
["DZM/4","Środki na inwestycje pozyskane z innych źródeł",600,60016,6290,"DE/02/0025",0,null,{"$f":"H1737/G1737","v":{"$error":"#DIV/0!"}},0,null,{"$f":"K1737/J1737","v":{"$error":"#DIV/0!"}},{"$error":"#DIV/0!"},{"$f":"IF(SUM(#REF!)>0,\"Tak\",\"\")","v":{"$error":"#REF!"}},{"$f":"IF(OR(G1737<0,J1737<0,#REF!<0,#REF!<0),\"ujemny plan\",\"\")","v":{"$error":"#REF!"}}]
["DZM/4","Środki na inwestycje pozyskane z innych źródeł",600,60016,6290,"DE/02/0026",1500,1500,1,1500,1500,1,"Tak",{"$f":"IF(SUM(#REF!)>0,\"Tak\",\"\")","v":{"$error":"#REF!"}},{"$f":"IF(OR(G1738<0,J1738<0,#REF!<0,#REF!<0),\"ujemny plan\",\"\")","v":{"$error":"#REF!"}}]
["DZM/4","Środki na inwestycje pozyskane z innych źródeł",600,60016,6290,"DE/02/0027",300,300,1,300,300,1,"Tak",{"$f":"IF(SUM(#REF!)>0,\"Tak\",\"\")","v":{"$error":"#REF!"}},{"$f":"IF(OR(G1739<0,J1739<0,#REF!<0,#REF!<0),\"ujemny plan\",\"\")","v":{"$error":"#REF!"}}]
["DZM/4","Środki na inwestycje pozyskane z innych źródeł",600,60016,6290,"DE/02/0028",0,null,{"$error":"#DIV/0!"},0,null,{"$error":"#DIV/0!"},{"$error":"#DIV/0!"},{"$f":"IF(SUM(#REF!)>0,\"Tak\",\"\")","v":{"$error":"#REF!"}},{"$f":"IF(OR(G1740<0,J1740<0,#REF!<0,#REF!<0),\"ujemny plan\",\"\")","v":{"$error":"#REF!"}}]
["DZM/4","Środki na inwestycje pozyskane z innych źródeł",600,60016,6290,"DE/02/0029",1500,1500,1,1500,1500,1,"Tak",{"$f":"IF(SUM(#REF!)>0,\"Tak\",\"\")","v":{"$error":"#REF!"}},{"$f":"IF(OR(G1741<0,J1741<0,#REF!<0,#REF!<0),\"ujemny plan\",\"\")","v":{"$error":"#REF!"}}]
["DZM/4","Środki na inwestycje pozyskane z innych źródeł",600,60016,6290,"DE/02/0030",900,900,1,900,900,1,"Tak",{"$f":"IF(SUM(#REF!)>0,\"Tak\",\"\")","v":{"$error":"#REF!"}},{"$f":"IF(OR(G1742<0,J1742<0,#REF!<0,#REF!<0),\"ujemny plan\",\"\")","v":{"$error":"#REF!"}}]
["DZM/4","Środki na inwestycje pozyskane z innych źródeł",600,60016,6290,"DE/02/0031",900,0,0,900,0,0,"Tak",{"$f":"IF(SUM(#REF!)>0,\"Tak\",\"\")","v":{"$error":"#REF!"}},{"$f":"IF(OR(G1743<0,J1743<0,#REF!<0,#REF!<0),\"ujemny plan\",\"\")","v":{"$error":"#REF!"}}]
["DZM/4","Środki na inwestycje pozyskane z innych źródeł",600,60016,6290,"DE/02/0032",1600,1600,1,1600,1600,1,"Tak",{"$f":"IF(SUM(#REF!)>0,\"Tak\",\"\")","v":{"$error":"#REF!"}},{"$f":"IF(OR(G1744<0,J1744<0,#REF!<0,#REF!<0),\"ujemny plan\",\"\")","v":{"$error":"#REF!"}}]
["DZM/4","Środki na inwestycje pozyskane z innych źródeł",600,60016,6290,"DE/02/0033",400,400,1,400,400,1,"Tak",{"$f":"IF(SUM(#REF!)>0,\"Tak\",\"\")","v":{"$error":"#REF!"}},{"$f":"IF(OR(G1745<0,J1745<0,#REF!<0,#REF!<0),\"ujemny plan\",\"\")","v":{"$error":"#REF!"}}]
["DZM/4","Środki na inwestycje pozyskane z innych źródeł",600,60016,6290,"DE/02/0034",300,300,1,300,300,1,"Tak",{"$f":"IF(SUM(#REF!)>0,\"Tak\",\"\")","v":{"$error":"#REF!"}},{"$f":"IF(OR(G1746<0,J1746<0,#REF!<0,#REF!<0),\"ujemny plan\",\"\")","v":{"$error":"#REF!"}}]
["DZM/4","Środki na inwestycje pozyskane z innych źródeł",600,60016,6290,"DE/02/0035",0,null,{"$error":"#DIV/0!"},0,null,{"$error":"#DIV/0!"},{"$error":"#DIV/0!"},{"$f":"IF(SUM(#REF!)>0,\"Tak\",\"\")","v":{"$error":"#REF!"}},{"$f":"IF(OR(G1747<0,J1747<0,#REF!<0,#REF!<0),\"ujemny plan\",\"\")","v":{"$error":"#REF!"}}]
["DZM/4","Środki na inwestycje pozyskane z innych źródeł",600,60016,6290,"DE/02/0036",0,null,{"$error":"#DIV/0!"},0,null,{"$error":"#DIV/0!"},{"$error":"#DIV/0!"},{"$f":"IF(SUM(#REF!)>0,\"Tak\",\"\")","v":{"$error":"#REF!"}},{"$f":"IF(OR(G1748<0,J1748<0,#REF!<0,#REF!<0),\"ujemny plan\",\"\")","v":{"$error":"#REF!"}}]
["DZM/4","Środki na inwestycje pozyskane z innych źródeł",600,60016,6290,"DE/02/0037",0,null,{"$error":"#DIV/0!"},0,null,{"$error":"#DIV/0!"},{"$error":"#DIV/0!"},{"$f":"IF(SUM(#REF!)>0,\"Tak\",\"\")","v":{"$error":"#REF!"}},{"$f":"IF(OR(G1749<0,J1749<0,#REF!<0,#REF!<0),\"ujemny plan\",\"\")","v":{"$error":"#REF!"}}]
["DZM/4","Środki na inwestycje pozyskane z innych źródeł",600,60016,6290,"DE/02/0041",0,null,{"$error":"#DIV/0!"},0,null,{"$error":"#DIV/0!"},{"$error":"#DIV/0!"},{"$f":"IF(SUM(#REF!)>0,\"Tak\",\"\")","v":{"$error":"#REF!"}},{"$f":"IF(OR(G1750<0,J1750<0,#REF!<0,#REF!<0),\"ujemny plan\",\"\")","v":{"$error":"#REF!"}}]
["DZM/4","Środki na inwestycje pozyskane z innych źródeł","700","70005",6290,"GMMW",null,null,{"$error":"#DIV/0!"},null,null,{"$error":"#DIV/0!"},{"$error":"#DIV/0!"},{"$f":"IF(SUM(#REF!)>0,\"Tak\",\"\")","v":{"$error":"#REF!"}},{"$f":"IF(OR(G1751<0,J1751<0,#REF!<0,#REF!<0),\"ujemny plan\",\"\")","v":{"$error":"#REF!"}}]
["DZM/4","Środki na inwestycje pozyskane z innych źródeł",801,80101,6290,null,null,null,{"$error":"#DIV/0!"},null,null,{"$error":"#DIV/0!"},{"$error":"#DIV/0!"},{"$f":"IF(SUM(#REF!)>0,\"Tak\",\"\")","v":{"$error":"#REF!"}},{"$f":"IF(OR(G1752<0,J1752<0,#REF!<0,#REF!<0),\"ujemny plan\",\"\")","v":{"$error":"#REF!"}}]
["DZM/4","Środki na inwestycje pozyskane z innych źródeł",900,90001,6290,"GMMW",null,null,{"$error":"#DIV/0!"},null,null,{"$error":"#DIV/0!"},{"$error":"#DIV/0!"},{"$f":"IF(SUM(#REF!)>0,\"Tak\",\"\")","v":{"$error":"#REF!"}},{"$f":"IF(OR(G1753<0,J1753<0,#REF!<0,#REF!<0),\"ujemny plan\",\"\")","v":{"$error":"#REF!"}}]
["DZM/4","Środki na inwestycje pozyskane z innych źródeł",921,92120,6290,null,null,null,{"$error":"#DIV/0!"},null,null,{"$error":"#DIV/0!"},{"$error":"#DIV/0!"},{"$f":"IF(SUM(#REF!)>0,\"Tak\",\"\")","v":{"$error":"#REF!"}},{"$f":"IF(OR(G1754<0,J1754<0,#REF!<0,#REF!<0),\"ujemny plan\",\"\")","v":{"$error":"#REF!"}}]
["DZM/5","Uzupełnienie subwencji ogólnej",null,null,"6180",null,{"$f":"SUM(G1756:G1757)","v":0},null,{"$error":"#DIV/0!"},0,null,{"$error":"#DIV/0!"},{"$error":"#DIV/0!"},{"$f":"IF(SUM(#REF!)>0,\"Tak\",\"\")","v":{"$error":"#REF!"}},{"$f":"IF(OR(G1755<0,J1755<0,#REF!<0,#REF!<0),\"ujemny plan\",\"\")","v":{"$error":"#REF!"}}]
["DZM/5","Uzupełnienie subwencji ogólnej",758,75802,6180,"GMMW",null,null,{"$error":"#DIV/0!"},null,null,{"$error":"#DIV/0!"},{"$error":"#DIV/0!"},{"$f":"IF(SUM(#REF!)>0,\"Tak\",\"\")","v":{"$error":"#REF!"}},{"$f":"IF(OR(G1756<0,J1756<0,#REF!<0,#REF!<0),\"ujemny plan\",\"\")","v":{"$error":"#REF!"}}]
["DZM/5","Uzupełnienie subwencji ogólnej",758,75802,6180,"PWMW",null,null,{"$error":"#DIV/0!"},null,null,{"$error":"#DIV/0!"},{"$error":"#DIV/0!"},{"$f":"IF(SUM(#REF!)>0,\"Tak\",\"\")","v":{"$error":"#REF!"}},{"$f":"IF(OR(G1757<0,J1757<0,#REF!<0,#REF!<0),\"ujemny plan\",\"\")","v":{"$error":"#REF!"}}]
["RAZEM ",null,null,null,null,null,{"$f":"SUM(G8,G1533)","v":61693272},{"$f":"SUM(H8,H1533)","v":48700564.07},0.78939830051484383,{"$f":"SUM(J8,J1533)","v":41356559},{"$f":"SUM(K8,K1533)","v":27719579.619999997},0.67025836506368908,"Tak",{"$f":"IF(SUM(#REF!)>0,\"Tak\",\"\")","v":{"$error":"#REF!"}},{"$f":"IF(OR(G1758<0,J1758<0,#REF!<0,#REF!<0),\"ujemny plan\",\"\")","v":{"$error":"#REF!"}}]